BEGIN:VCALENDAR
VERSION:2.0
PRODID:-//Infotetquebec - ECPv6.15.20//NONSGML v1.0//EN
CALSCALE:GREGORIAN
METHOD:PUBLISH
X-ORIGINAL-URL:https://www.infotetquebec.com
X-WR-CALDESC:Évènements pour Infotetquebec
REFRESH-INTERVAL;VALUE=DURATION:PT1H
X-Robots-Tag:noindex
X-PUBLISHED-TTL:PT1H
BEGIN:VTIMEZONE
TZID:America/Toronto
BEGIN:DAYLIGHT
TZOFFSETFROM:-0500
TZOFFSETTO:-0400
TZNAME:EDT
DTSTART:20240310T070000
END:DAYLIGHT
BEGIN:STANDARD
TZOFFSETFROM:-0400
TZOFFSETTO:-0500
TZNAME:EST
DTSTART:20241103T060000
END:STANDARD
BEGIN:DAYLIGHT
TZOFFSETFROM:-0500
TZOFFSETTO:-0400
TZNAME:EDT
DTSTART:20250309T070000
END:DAYLIGHT
BEGIN:STANDARD
TZOFFSETFROM:-0400
TZOFFSETTO:-0500
TZNAME:EST
DTSTART:20251102T060000
END:STANDARD
BEGIN:DAYLIGHT
TZOFFSETFROM:-0500
TZOFFSETTO:-0400
TZNAME:EDT
DTSTART:20260308T070000
END:DAYLIGHT
BEGIN:STANDARD
TZOFFSETFROM:-0400
TZOFFSETTO:-0500
TZNAME:EST
DTSTART:20261101T060000
END:STANDARD
END:VTIMEZONE
BEGIN:VEVENT
DTSTART;TZID=America/Toronto:20251003T170000
DTEND;TZID=America/Toronto:20251003T200000
DTSTAMP:20260425T165630
CREATED:20250926T154512Z
LAST-MODIFIED:20250926T154539Z
UID:22899-1759510800-1759521600@www.infotetquebec.com
SUMMARY:Saint-Marc-des-Carrières\, QC / SOCCER POUR LES TET
DESCRIPTION:Saint-Marc-des-Carrières\, QC /Fermeture de soccer avec barbecue pour TET \n📍 1600 Boul. Bona-Dussault\, Saint-Marc-des-Carrières\, QC G0A 4B0\, Canada\n 📅 Vendredi 03 octobre 2025\n 🕐 17h00 \n👉 Cette activité est destinée aux travailleurs étrangers temporaires (avec un permis de travail fermé). \nVeuillez suivre les instructions indiquées sur l’affiche.
URL:https://www.infotetquebec.com/event/saint-raymond-qc-soccer-pour-les-tet-2/
LOCATION:1600 Boul. Bona-Dussault\, Saint-Marc-des-Carrières\, QC G0A 4B0\, Canada
CATEGORIES:Activité culturelle ou sportive,soccer
ATTACH;FMTTYPE=image/png:https://www.infotetquebec.com/wp-content/uploads/2025/09/3.png
END:VEVENT
BEGIN:VEVENT
DTSTART;TZID=America/Toronto:20251003T190000
DTEND;TZID=America/Toronto:20251003T210000
DTSTAMP:20260425T165630
CREATED:20250926T170910Z
LAST-MODIFIED:20250926T170910Z
UID:22943-1759518000-1759525200@www.infotetquebec.com
SUMMARY:Coaticook\, QC/Soccer à Coaticook pour les TET
DESCRIPTION:Coaticook\, QC/Soccer à Coaticook pour les TET \n📍 497 Rue Saint-Jean-Baptiste\, Coaticook\, QC J1A 1G1\, Canada\n 📅 Tous les vendredis du 26 septembre -12 décembre 2025\n 🕐 19h00-21h00 \n👉 Cette activité est destinée aux travailleurs étrangers temporaires (avec un permis de travail fermé). \nVeuillez suivre les instructions indiquées sur l’affiche et contacter l’organisateur.
URL:https://www.infotetquebec.com/event/coaticook-qc-soccer-a-coaticook-pour-les-tet-2/
LOCATION:497 Rue Saint-Jean-Baptiste\, Coaticook\, QC J1A 1G1\, Canada
CATEGORIES:Activité culturelle ou sportive,soccer
ATTACH;FMTTYPE=image/png:https://www.infotetquebec.com/wp-content/uploads/2025/09/EOS-Soccer-Coaticook-interieur-2025-fr.png
END:VEVENT
BEGIN:VEVENT
DTSTART;TZID=America/Toronto:20251007T180000
DTEND;TZID=America/Toronto:20251007T190000
DTSTAMP:20260425T165630
CREATED:20250926T151859Z
LAST-MODIFIED:20250926T151859Z
UID:22875-1759860000-1759863600@www.infotetquebec.com
SUMMARY:Émission de radio pour les TÉT / Séance d'information sur les services du projet pour les TÉT/96.7 CING FM
DESCRIPTION:Émission de radio pour les TÉT / Séance d’information sur les services du projet pour les TÉT/96.7 CING FM \n📻96.7 CING FM\n  📅 07-octobre-2025\n 🕐 18h00-19h00 \n👉 Cette activité est destinée aux travailleurs étrangers temporaires.  \nSéance d’information sur les services du projet pour les TÉT \nÉmission de radio en ligne \nhttps://cignfm.ca/streaming-player/player.php  \nVeuillez suivre les instructions indiquées sur l’affiche.
URL:https://www.infotetquebec.com/event/emission-de-radio-pour-les-tet-seance-dinformation-sur-les-services-du-projet-pour-les-tet-96-7-cing-fm-2/
LOCATION:À la radio\, CIGN FM 96\,7\, Coaticook\, Québec\, Canada
CATEGORIES:Séance d'information
ATTACH;FMTTYPE=image/png:https://www.infotetquebec.com/wp-content/uploads/2025/09/CIGN-FM-96.7-Radio-cooperative-de-Coaticook-fr-1.png
END:VEVENT
BEGIN:VEVENT
DTSTART;TZID=America/Toronto:20251010T190000
DTEND;TZID=America/Toronto:20251010T210000
DTSTAMP:20260425T165630
CREATED:20250926T170947Z
LAST-MODIFIED:20250926T170947Z
UID:22945-1760122800-1760130000@www.infotetquebec.com
SUMMARY:Coaticook\, QC/Soccer à Coaticook pour les TET
DESCRIPTION:Coaticook\, QC/Soccer à Coaticook pour les TET \n📍 497 Rue Saint-Jean-Baptiste\, Coaticook\, QC J1A 1G1\, Canada\n 📅 Tous les vendredis du 26 septembre -12 décembre 2025\n 🕐 19h00-21h00 \n👉 Cette activité est destinée aux travailleurs étrangers temporaires (avec un permis de travail fermé). \nVeuillez suivre les instructions indiquées sur l’affiche et contacter l’organisateur.
URL:https://www.infotetquebec.com/event/coaticook-qc-soccer-a-coaticook-pour-les-tet-3/
LOCATION:497 Rue Saint-Jean-Baptiste\, Coaticook\, QC J1A 1G1\, Canada
CATEGORIES:Activité culturelle ou sportive,soccer
ATTACH;FMTTYPE=image/png:https://www.infotetquebec.com/wp-content/uploads/2025/09/EOS-Soccer-Coaticook-interieur-2025-fr.png
END:VEVENT
BEGIN:VEVENT
DTSTART;TZID=America/Toronto:20251011T093000
DTEND;TZID=America/Toronto:20251011T123000
DTSTAMP:20260425T165630
CREATED:20251008T141106Z
LAST-MODIFIED:20251008T141106Z
UID:23155-1760175000-1760185800@www.infotetquebec.com
SUMMARY:Sainte-Famille\, QC/Cueillette de Pommes pour les TET
DESCRIPTION:Sainte-Famille\, QC/Cueillette de Pommes pour les TET \n📍Ferme Laval Gagnon inc\, Chemin Royal\, Sainte-Famille\, QC\, Canada\n  📅 11-octobre-2025\n 🕐 9h30-12h30  \n👉 Cette activité est destinée aux travailleurs étrangers temporaires.  \nVeuillez suivre les instructions indiquées sur l’affiche et contacter l’organisateur.
URL:https://www.infotetquebec.com/event/sainte-famille-qc-cueillette-de-pommes-pour-les-tet/
LOCATION:Ferme Laval Gagnon inc\, Chemin Royal\, Sainte-Famille\, QC\, Canada
CATEGORIES:Activité culturelle ou sportive,Activité sociale
ATTACH;FMTTYPE=image/png:https://www.infotetquebec.com/wp-content/uploads/2025/10/Francais.png
END:VEVENT
BEGIN:VEVENT
DTSTART;TZID=America/Toronto:20251011T123000
DTEND;TZID=America/Toronto:20251011T160000
DTSTAMP:20260425T165630
CREATED:20250926T161746Z
LAST-MODIFIED:20250926T184949Z
UID:22927-1760185800-1760198400@www.infotetquebec.com
SUMMARY:Victoriaville-Arthabaska\, QC/Sortie d’automne au Mont Gleason pour les TET
DESCRIPTION:Victoriaville-Arthabaska\, QC/Sortie d’automne au Mont Gleason pour les TET \n📍 Chem. Mont Gleason\, Arthabaska\, QC J0A\, Canada\n  📅 11-octobre-2025\n 🕐 12h30-16h00  \n👉 Cette activité est destinée aux travailleurs étrangers temporaires.  \nVeuillez suivre les instructions indiquées sur l’affiche et contacter l’organisateur. \n  \nSortie d’automne au Mont Gleason pour les TET \nCette activité offre aux participants l’occasion de profiter des paysages automnaux du Mont Gleason. \nElle comprend une montée en téléphérique et le transport depuis Victoriaville. \nL’événement est gratuit et des collations sont incluses. \nLe départ de l’autobus est prévu à 12 h depuis Victoriaville.
URL:https://www.infotetquebec.com/event/sortie-automnale-au-mont-gleason/
LOCATION:Victoriaville\, QC\, Canada
CATEGORIES:Activité culturelle ou sportive,Activité sociale
ATTACH;FMTTYPE=image/png:https://www.infotetquebec.com/wp-content/uploads/2025/09/large-Sortie-automnale-Francais.png
END:VEVENT
BEGIN:VEVENT
DTSTART;TZID=America/Toronto:20251011T140000
DTEND;TZID=America/Toronto:20251011T170000
DTSTAMP:20260425T165630
CREATED:20251006T121814Z
LAST-MODIFIED:20251006T121814Z
UID:23119-1760191200-1760202000@www.infotetquebec.com
SUMMARY:Compton\, QC/La virée gourmande pour les TET
DESCRIPTION:Compton\, QC/La virée gourmande pour les TET \n📍Domaine Ives Hill : Vignoble et verger\, Chemin Boyce\, Compton\, QC\, Canada\n  📅 11-octobre-2025\n 🕐 14h00-17h00  \n👉 Cette activité est destinée aux travailleurs étrangers temporaires.  \nVeuillez suivre les instructions indiquées sur l’affiche et contacter l’organisateur. \nInvitation aux TÉT pour faire une visite guidée pour différentes lieus gastronomiques de la région de Compton en dégustant des plats et boisson artisanaux
URL:https://www.infotetquebec.com/event/compton-qc-la-viree-gourmande-pour-les-tet/
LOCATION:Domaine Ives Hill : Vignoble et verger\, Chemin Boyce\, Compton\, QC\, Canada
CATEGORIES:Activité culturelle ou sportive,Activité sociale
ATTACH;FMTTYPE=image/png:https://www.infotetquebec.com/wp-content/uploads/2025/10/Viree-gourmande-fr.png
END:VEVENT
BEGIN:VEVENT
DTSTART;TZID=America/Toronto:20251011T200000
DTEND;TZID=America/Toronto:20251011T230000
DTSTAMP:20260425T165630
CREATED:20251006T153018Z
LAST-MODIFIED:20251006T153018Z
UID:23132-1760212800-1760223600@www.infotetquebec.com
SUMMARY:Matane\, QC/La Fiesta du Marché pour les TET
DESCRIPTION:Matane\, QC/La Fiesta du Marché pour les TET \n📍Marché public de La Matanie\, Avenue du Phare Ouest\, Matane\, QC\, Canada\n  📅 11-octobre-2025\n 🕐 20h00-23h00  \n👉 Cette activité est destinée aux travailleurs étrangers temporaires.  \nVeuillez suivre les instructions indiquées sur l’affiche et contacter l’organisateur. \nLe Service d’accueil des nouveaux arrivants de La Matanie (SANAM) invite les TET à célébrer ensemble lors de la Fiesta du Marché\, au Marché public de La Matanie. \nAu programme : une soirée conviviale rythmée par la musique\, les rires et la bonne ambiance ! \nEntrée gratuite pour les TET (distribution de billet avant l’évènement) \nBar et popcorn en collaboration avec Le Brasier – événements culturels et participatifs \nJam participatif animé par Les percussionnistes du dimanche – apportez vos instruments et joignez-vous au rythme ! \nDanse avec DJ FabYo! \nSitué dans l’axe mer-rivière et à proximité du centre-ville\, le Marché public est un lieu rassembleur qui s’anime le temps d’une soirée inoubliable. La Fiesta du Marché se veut un moment de rencontre\, d’échange et de plaisir partagé. \nCette année\, le SANAM souhaite marquer l’Action de grâce sous le signe de la lumière\, de l’ouverture et du vivre-ensemble. \nNous choisissons la lumière et vous invitons à célébrer la diversité\, à créer des liens et à partager un moment chaleureux.
URL:https://www.infotetquebec.com/event/matane-qc-la-fiesta-du-marche-pour-les-tet/
LOCATION:Marché public de La Matanie\, Avenue du Phare Ouest\, Matane\, QC\, Canada
CATEGORIES:Activité sociale,Fête,Soirée
ATTACH;FMTTYPE=image/jpeg:https://www.infotetquebec.com/wp-content/uploads/2025/10/Affiches_TET-V2_page-0002.jpg
END:VEVENT
BEGIN:VEVENT
DTSTART;TZID=America/Toronto:20251012T130000
DTEND;TZID=America/Toronto:20251012T160000
DTSTAMP:20260425T165630
CREATED:20251001T124124Z
LAST-MODIFIED:20251001T124124Z
UID:23103-1760274000-1760284800@www.infotetquebec.com
SUMMARY:Stoneham-et-Tewkesbury\, QC/Randonnée d'automne pour les TET
DESCRIPTION:Stoneham-et-Tewkesbury\, QC/Randonnée d’automne pour les TET \n📍Parc national de la Jacques-Cartier\, Chemin du Parc National\, Stoneham-et-Tewkesbury\, QC\, Canada\n  📅 12-octobre-2025\n 🕐 13h00-16h00  \n👉 Cette activité est destinée aux travailleurs étrangers temporaires.  \nVeuillez suivre les instructions indiquées sur l’affiche et contacter l’organisateur. \nRandonnée pour voir les couleurs d’automne dans le Parc de la Jacques-Cartier.
URL:https://www.infotetquebec.com/event/stoneham-et-tewkesbury-qc-randonnee-dautomne-pour-les-tet/
LOCATION:Parc national de la Jacques-Cartier\, Chemin du Parc National\, Stoneham-et-Tewkesbury\, QC\, Canada
CATEGORIES:Activité culturelle ou sportive
ATTACH;FMTTYPE=image/png:https://www.infotetquebec.com/wp-content/uploads/2025/10/Randonnee-automne-CMQ_FR.png
ORGANIZER;CN="Centre multiethnique de Qu%C3%A9bec":MAILTO:sgiroux@centremultiethnique
END:VEVENT
BEGIN:VEVENT
DTSTART;TZID=America/Toronto:20251012T173000
DTEND;TZID=America/Toronto:20251012T193000
DTSTAMP:20260425T165630
CREATED:20251010T172631Z
LAST-MODIFIED:20251010T172631Z
UID:23185-1760290200-1760297400@www.infotetquebec.com
SUMMARY:Saint-Basile\, QC/Soccer intérieur pour les TET
DESCRIPTION:Saint-Basile\, QC/Soccer intérieur pour les TET \n📍Centre Ernest-J.-Papillon\, Rue Sainte Angélique\, Saint-Basile\, QC\, Canada\n  📅 Tous les dimanches du 12 octobre -28 décembre 2025\n 🕐 17h30-19h30  \n👉 Cette activité est destinée aux travailleurs étrangers temporaires.  \nVeuillez suivre les instructions indiquées sur l’affiche et contacter l’organisateur.
URL:https://www.infotetquebec.com/event/saint-basile-qc-soccer-interieur-pour-les-tet/
LOCATION:Centre Ernest-J.-Papillon\, Rue Sainte Angélique\, Saint-Basile\, QC\, Canada
CATEGORIES:Activité culturelle ou sportive,soccer
ATTACH;FMTTYPE=image/png:https://www.infotetquebec.com/wp-content/uploads/2025/10/SOCCER-INTERIEUR-FR.png
END:VEVENT
BEGIN:VEVENT
DTSTART;TZID=America/Toronto:20251015T110000
DTEND;TZID=America/Toronto:20251015T120000
DTSTAMP:20260425T165630
CREATED:20251007T133722Z
LAST-MODIFIED:20251007T133722Z
UID:23148-1760526000-1760529600@www.infotetquebec.com
SUMMARY:En ligne/ Webinaire : Numéro d’assurance sociale (NAS) information utile pour les TET
DESCRIPTION:En ligne/ Webinaire : Numéro d’assurance sociale (NAS) information utile pour les TET \n🗓️ Date : Mercredi 15 octobre- 2025 \n🕐 Heure :  \n➡️11h-12h en français  \n➡️12h15-13h15 en anglais \n📍 En ligne \n👉 Pour vous inscrire\, cliquez sur le lien : https://lnkd.in/eFZPnCfw \nVeuillez suivre les instructions indiquées sur le lien.  \nVous avez des questions sur le numéro d’assurance sociale (NAS) ? \nParticipez à notre séance d’information présenté par Service Canada pour tout savoir sur : \n🔹 À qui il est possible (ou non) de fournir son NAS \n🔹 Comment protéger ce numéro essentiel \n🔹 La façon de déposer une demande de NAS en ligne \n🔹 Les responsabilités qui en découlent
URL:https://www.infotetquebec.com/event/en-ligne-webinaire-numero-dassurance-sociale-nas-information-utile-pour-les-tet/
LOCATION:En ligne
CATEGORIES:Séance d'information
ATTACH;FMTTYPE=image/jpeg:https://www.infotetquebec.com/wp-content/uploads/2025/10/Image.jpeg
END:VEVENT
BEGIN:VEVENT
DTSTART;TZID=America/Toronto:20251017T190000
DTEND;TZID=America/Toronto:20251017T210000
DTSTAMP:20260425T165630
CREATED:20250926T171020Z
LAST-MODIFIED:20250926T171020Z
UID:22947-1760727600-1760734800@www.infotetquebec.com
SUMMARY:Coaticook\, QC/Soccer à Coaticook pour les TET
DESCRIPTION:Coaticook\, QC/Soccer à Coaticook pour les TET \n📍 497 Rue Saint-Jean-Baptiste\, Coaticook\, QC J1A 1G1\, Canada\n 📅 Tous les vendredis du 26 septembre -12 décembre 2025\n 🕐 19h00-21h00 \n👉 Cette activité est destinée aux travailleurs étrangers temporaires (avec un permis de travail fermé). \nVeuillez suivre les instructions indiquées sur l’affiche et contacter l’organisateur.
URL:https://www.infotetquebec.com/event/coaticook-qc-soccer-a-coaticook-pour-les-tet-4/
LOCATION:497 Rue Saint-Jean-Baptiste\, Coaticook\, QC J1A 1G1\, Canada
CATEGORIES:Activité culturelle ou sportive,soccer
ATTACH;FMTTYPE=image/png:https://www.infotetquebec.com/wp-content/uploads/2025/09/EOS-Soccer-Coaticook-interieur-2025-fr.png
END:VEVENT
BEGIN:VEVENT
DTSTART;TZID=America/Toronto:20251018T110000
DTEND;TZID=America/Toronto:20251018T160000
DTSTAMP:20260425T165630
CREATED:20250922T184451Z
LAST-MODIFIED:20250922T184451Z
UID:22861-1760785200-1760803200@www.infotetquebec.com
SUMMARY:Granby\, QC/Foire de la Santé – Rendez-vous avec la santé 2025 pour les TET
DESCRIPTION:Granby\, QC/Foire de la Santé – Rendez-vous avec la santé 2025 pour les TET \n📍 235 Rue Saint-Jacques\, Granby\, QC J2G 3N1\, Canada\n  📅 18-octobre-2025\n 🕐 11h00-16h00  \nCégep de Granby \n👉 Cette activité est destinée aux travailleurs étrangers temporaires.  \nVeuillez suivre les instructions indiquées sur l’affiche et contacter l’organisateur. \nFoire de la Santé – Rendez-vous avec la santé 2025 \nUn événement gratuit pour les travailleurs étrangers temporaires. Profitez d’activités et d’ateliers\, recevez des consultations de santé (médecins\, infirmières\, physiothérapeutes\, massothérapeutes) et découvrez des programmes et services pour soutenir votre bien-être. \n✨ Repas\, collations et surprises pour les participants. \n👉 Inscrivez-vous ici : https://forms.gle/rzAW1h8ND35acpUV7 
URL:https://www.infotetquebec.com/event/granby-qc-foire-de-la-sante-rendez-vous-avec-la-sante-2025-pour-les-tet/
LOCATION:235 Rue Saint-Jacques\, Granby\, QC J2G 3N1\, Canada
CATEGORIES:Activité sociale,Sesión de información
ATTACH;FMTTYPE=image/jpeg:https://www.infotetquebec.com/wp-content/uploads/2025/09/Foire-de-la-sante-CAFLA-2025-FR-scaled.jpg
END:VEVENT
BEGIN:VEVENT
DTSTART;TZID=America/Toronto:20251019T173000
DTEND;TZID=America/Toronto:20251019T193000
DTSTAMP:20260425T165630
CREATED:20251010T173348Z
LAST-MODIFIED:20251010T173348Z
UID:23195-1760895000-1760902200@www.infotetquebec.com
SUMMARY:Saint-Basile\, QC/Soccer intérieur pour les TET
DESCRIPTION:Saint-Basile\, QC/Soccer intérieur pour les TET \n📍Centre Ernest-J.-Papillon\, Rue Sainte Angélique\, Saint-Basile\, QC\, Canada\n  📅 Tous les dimanches du 12 octobre -28 décembre 2025\n 🕐 17h30-19h30  \n👉 Cette activité est destinée aux travailleurs étrangers temporaires.  \nVeuillez suivre les instructions indiquées sur l’affiche et contacter l’organisateur.
URL:https://www.infotetquebec.com/event/saint-basile-qc-soccer-interieur-pour-les-tet-2/
LOCATION:Centre Ernest-J.-Papillon\, Rue Sainte Angélique\, Saint-Basile\, QC\, Canada
CATEGORIES:Activité culturelle ou sportive,soccer
ATTACH;FMTTYPE=image/png:https://www.infotetquebec.com/wp-content/uploads/2025/10/SOCCER-INTERIEUR-FR.png
END:VEVENT
BEGIN:VEVENT
DTSTART;TZID=America/Toronto:20251024T180000
DTEND;TZID=America/Toronto:20251024T210000
DTSTAMP:20260425T165630
CREATED:20250926T155658Z
LAST-MODIFIED:20250926T155658Z
UID:22910-1761328800-1761339600@www.infotetquebec.com
SUMMARY:Saint-Paul-d'Abbotsford\, QC/Halloween Interculturelle pour les TET
DESCRIPTION:Saint-Paul-d’Abbotsford\, QC/Halloween Interculturelle pour les TET \n📍 35 Rue Codaire\, Saint-Paul-d’Abbotsford\, QC J0E 1A0\, Canada\n  📅 24-octobre-2025\n 🕐 18h00-21h00  \n👉 Cette activité est destinée aux travailleurs étrangers temporaires.  \nVeuillez suivre les instructions indiquées sur l’affiche et contacter l’organisateur. \nSoirée cinéma dans une salle de loisir de la Ville de Saint-Paul-d’Abbotsford
URL:https://www.infotetquebec.com/event/saint-paul-dabbotsford-qc-halloween-interculturelle-pour-les-tet/
LOCATION:35 Rue Codaire\, Saint-Paul-d’Abbotsford\, QC J0E 1A0\, Canada
CATEGORIES:Activité sociale
ATTACH;FMTTYPE=image/png:https://www.infotetquebec.com/wp-content/uploads/2025/09/Halloween-interculturelle-FR.png
ORGANIZER;CN="Int%C3%A9gration comp%C3%A9tences":MAILTO:lilianasalgado@integrationcompetences.ca
END:VEVENT
BEGIN:VEVENT
DTSTART;TZID=America/Toronto:20251024T190000
DTEND;TZID=America/Toronto:20251024T210000
DTSTAMP:20260425T165630
CREATED:20250926T171305Z
LAST-MODIFIED:20250926T171305Z
UID:22949-1761332400-1761339600@www.infotetquebec.com
SUMMARY:Coaticook\, QC/Soccer à Coaticook pour les TET
DESCRIPTION:Coaticook\, QC/Soccer à Coaticook pour les TET \n📍 497 Rue Saint-Jean-Baptiste\, Coaticook\, QC J1A 1G1\, Canada\n 📅 Tous les vendredis du 26 septembre -12 décembre 2025\n 🕐 19h00-21h00 \n👉 Cette activité est destinée aux travailleurs étrangers temporaires (avec un permis de travail fermé). \nVeuillez suivre les instructions indiquées sur l’affiche et contacter l’organisateur.
URL:https://www.infotetquebec.com/event/coaticook-qc-soccer-a-coaticook-pour-les-tet-5/
LOCATION:497 Rue Saint-Jean-Baptiste\, Coaticook\, QC J1A 1G1\, Canada
CATEGORIES:Activité culturelle ou sportive,soccer
ATTACH;FMTTYPE=image/png:https://www.infotetquebec.com/wp-content/uploads/2025/09/EOS-Soccer-Coaticook-interieur-2025-fr.png
END:VEVENT
BEGIN:VEVENT
DTSTART;TZID=America/Toronto:20251025T090000
DTEND;TZID=America/Toronto:20251025T123000
DTSTAMP:20260425T165630
CREATED:20251017T160458Z
LAST-MODIFIED:20251017T160458Z
UID:23472-1761382800-1761395400@www.infotetquebec.com
SUMMARY:Sept-Iles\, QC/Mur d'escalade pour les TET
DESCRIPTION:Sept-Iles\, QC/Mur d’escalade pour les TET \n📍175 Rue de la Vérendrye\, Sept-Iles\, QC\, Canada\n  📅 25 octobre 2025\n 🕐 9h00-12h30  \n👉 Cette activité est destinée aux travailleurs étrangers temporaires.  \nVeuillez suivre les instructions indiquées sur l’affiche et contacter l’organisateur.
URL:https://www.infotetquebec.com/event/sept-iles-qc-mur-descalade-pour-les-tet/
LOCATION:175 Rue de la Vérendrye\, Sept-Iles\, QC\, Canada
CATEGORIES:Activité culturelle ou sportive
ATTACH;FMTTYPE=image/png:https://www.infotetquebec.com/wp-content/uploads/2025/10/Version-FR-de-Soleil-et-sable.-Nager.png
END:VEVENT
BEGIN:VEVENT
DTSTART;TZID=America/Toronto:20251025T130000
DTEND;TZID=America/Toronto:20251025T150000
DTSTAMP:20260425T165630
CREATED:20251009T184033Z
LAST-MODIFIED:20251009T184033Z
UID:23172-1761397200-1761404400@www.infotetquebec.com
SUMMARY:Saint-Jérôme\, QC/Événement de reconnaissance pour les TET
DESCRIPTION:Saint-Jérôme\, QC/Événement de reconnaissance pour les TET \n📍340 Boulevard des Laurentides\, Saint-Jérôme\, QC\, Canada\n  📅 25-octobre-2025\n 🕐 13h00-15h00  \n👉 Cette activité est destinée aux travailleurs étrangers temporaires.  \nVeuillez suivre les instructions indiquées sur l’affiche et contacter l’organisateur. \nÉvénement de reconnaissance pour souligner l’engagement et le dévouement de TETs.
URL:https://www.infotetquebec.com/event/saint-jerome-qc-evenement-de-reconnaissance-pour-les-tet/
LOCATION:340 Boulevard des Laurentides\, Saint-Jérôme\, QC\, Canada
CATEGORIES:Activité sociale
ATTACH;FMTTYPE=image/png:https://www.infotetquebec.com/wp-content/uploads/2025/10/Modele-invitation-TET.png
END:VEVENT
BEGIN:VEVENT
DTSTART;TZID=America/Toronto:20251026T173000
DTEND;TZID=America/Toronto:20251026T193000
DTSTAMP:20260425T165630
CREATED:20251010T173425Z
LAST-MODIFIED:20251010T173425Z
UID:23197-1761499800-1761507000@www.infotetquebec.com
SUMMARY:Saint-Basile\, QC/Soccer intérieur pour les TET
DESCRIPTION:Saint-Basile\, QC/Soccer intérieur pour les TET \n📍Centre Ernest-J.-Papillon\, Rue Sainte Angélique\, Saint-Basile\, QC\, Canada\n  📅 Tous les dimanches du 12 octobre -28 décembre 2025\n 🕐 17h30-19h30  \n👉 Cette activité est destinée aux travailleurs étrangers temporaires.  \nVeuillez suivre les instructions indiquées sur l’affiche et contacter l’organisateur.
URL:https://www.infotetquebec.com/event/saint-basile-qc-soccer-interieur-pour-les-tet-3/
LOCATION:Centre Ernest-J.-Papillon\, Rue Sainte Angélique\, Saint-Basile\, QC\, Canada
CATEGORIES:Activité culturelle ou sportive,soccer
ATTACH;FMTTYPE=image/png:https://www.infotetquebec.com/wp-content/uploads/2025/10/SOCCER-INTERIEUR-FR.png
END:VEVENT
BEGIN:VEVENT
DTSTART;TZID=America/Toronto:20251031T190000
DTEND;TZID=America/Toronto:20251031T210000
DTSTAMP:20260425T165630
CREATED:20250926T171337Z
LAST-MODIFIED:20250926T171337Z
UID:22951-1761937200-1761944400@www.infotetquebec.com
SUMMARY:Coaticook\, QC/Soccer à Coaticook pour les TET
DESCRIPTION:Coaticook\, QC/Soccer à Coaticook pour les TET \n📍 497 Rue Saint-Jean-Baptiste\, Coaticook\, QC J1A 1G1\, Canada\n 📅 Tous les vendredis du 26 septembre -12 décembre 2025\n 🕐 19h00-21h00 \n👉 Cette activité est destinée aux travailleurs étrangers temporaires (avec un permis de travail fermé). \nVeuillez suivre les instructions indiquées sur l’affiche et contacter l’organisateur.
URL:https://www.infotetquebec.com/event/coaticook-qc-soccer-a-coaticook-pour-les-tet-6/
LOCATION:497 Rue Saint-Jean-Baptiste\, Coaticook\, QC J1A 1G1\, Canada
CATEGORIES:Activité culturelle ou sportive,soccer
ATTACH;FMTTYPE=image/png:https://www.infotetquebec.com/wp-content/uploads/2025/09/EOS-Soccer-Coaticook-interieur-2025-fr.png
END:VEVENT
END:VCALENDAR