BEGIN:VCALENDAR
VERSION:2.0
PRODID:-//Infotetquebec - ECPv6.15.20//NONSGML v1.0//EN
CALSCALE:GREGORIAN
METHOD:PUBLISH
X-WR-CALNAME:Infotetquebec
X-ORIGINAL-URL:https://www.infotetquebec.com
X-WR-CALDESC:Évènements pour Infotetquebec
REFRESH-INTERVAL;VALUE=DURATION:PT1H
X-Robots-Tag:noindex
X-PUBLISHED-TTL:PT1H
BEGIN:VTIMEZONE
TZID:America/Toronto
BEGIN:DAYLIGHT
TZOFFSETFROM:-0500
TZOFFSETTO:-0400
TZNAME:EDT
DTSTART:20240310T070000
END:DAYLIGHT
BEGIN:STANDARD
TZOFFSETFROM:-0400
TZOFFSETTO:-0500
TZNAME:EST
DTSTART:20241103T060000
END:STANDARD
BEGIN:DAYLIGHT
TZOFFSETFROM:-0500
TZOFFSETTO:-0400
TZNAME:EDT
DTSTART:20250309T070000
END:DAYLIGHT
BEGIN:STANDARD
TZOFFSETFROM:-0400
TZOFFSETTO:-0500
TZNAME:EST
DTSTART:20251102T060000
END:STANDARD
BEGIN:DAYLIGHT
TZOFFSETFROM:-0500
TZOFFSETTO:-0400
TZNAME:EDT
DTSTART:20260308T070000
END:DAYLIGHT
BEGIN:STANDARD
TZOFFSETFROM:-0400
TZOFFSETTO:-0500
TZNAME:EST
DTSTART:20261101T060000
END:STANDARD
END:VTIMEZONE
BEGIN:VEVENT
DTSTART;TZID=America/Toronto:20250903T133000
DTEND;TZID=America/Toronto:20250903T160000
DTSTAMP:20260425T182441
CREATED:20250828T153902Z
LAST-MODIFIED:20250903T160543Z
UID:22506-1756906200-1756915200@www.infotetquebec.com
SUMMARY:Invitation du Consulat général du Mexique à Montréal 
DESCRIPTION:Invitation du Consulat général du Mexique à Montréal  \nSemaine des droits du travail (SDT) 2025 \nLe Consulat général du Mexique à Montréal à l’honneur de vous inviter à participer à la semaine des droits du travail (SDT) 2025\, qui se tiendra du 2 au 7 septembre. \nCet espace vise à renforcer la protection des travailleurs migrants au Canada à travers des conférences et des séances de conseils spécialisés\, grâce à la collaboration des partenaires stratégiques. \nDans cette édition\, nous vous invitons à l’événement suivant\, ouvert au public : \n3 septembre : Conférence La violence économique : comment la reconnaître et s’en protéger ?\, présentée par l’association Option Consommateur \n🕓 13:30  \n📍 2055 rue Peel\, RDC\, Espacio México \nVeuillez confirmer votre présence ici :  \nhttps://docs.google.com/forms/d/e/1FAIpQLSfWdAgVziSLomqmMl78m1dtqU3lgR3GcGcR0a4Q9GTSTWh3OQ/viewform  \nPour plus d’informations\, vous pouvez consulter les réseaux sociaux de l’organisateur\, notamment sa page Facebook : Consulmex Montréal.
URL:https://www.infotetquebec.com/event/invitation-du-consulat-general-du-mexique-a-montreal/
LOCATION:2055 Rue Peel\, Montréal\, QC H3A 1V4
CATEGORIES:Séance d'information
ATTACH;FMTTYPE=image/png:https://www.infotetquebec.com/wp-content/uploads/2025/08/SDL.png
END:VEVENT
BEGIN:VEVENT
DTSTART;TZID=America/Toronto:20250906T190000
DTEND;TZID=America/Toronto:20250906T210000
DTSTAMP:20260425T182441
CREATED:20250717T154458Z
LAST-MODIFIED:20250717T154458Z
UID:21446-1757185200-1757192400@www.infotetquebec.com
SUMMARY:Val-des-Sources\, QC/Soccer extérieur Val-des-Sources.
DESCRIPTION:Val-des-Sources\, QC/Soccer extérieur Val-des-Sources. \n📍 Parc Du Centenaire\, 517 1ere Avenue\, Val-des-Sources\, QC J1T 3X4\, Canada\n 📅 Tous les samedis du 19 juillet -27 septembre 2025\n 🕐 19h00-21h00 \n👉 Cette activité est destinée aux travailleurs étrangers temporaires (avec un permis de travail fermé). \nVeuillez suivre les instructions indiquées sur l’affiche. \n 
URL:https://www.infotetquebec.com/event/val-des-sources-qc-soccer-exterieur-val-des-sources-8/
LOCATION:517 1ere Avenue\, Val-des-Sources\, QC J1T 3X4\, Canada
CATEGORIES:Activité culturelle ou sportive,soccer
ATTACH;FMTTYPE=image/jpeg:https://www.infotetquebec.com/wp-content/uploads/2025/07/EOS-Soccer-exterieur-VdS-ete-2025-fr.jpg
END:VEVENT
BEGIN:VEVENT
DTSTART;TZID=America/Toronto:20250906T200000
DTEND;TZID=America/Toronto:20250906T220000
DTSTAMP:20260425T182441
CREATED:20250806T152834Z
LAST-MODIFIED:20250821T162006Z
UID:22122-1757188800-1757196000@www.infotetquebec.com
SUMMARY:Wendake\, Qc./Visite à Wendake Onhwa Lumina
DESCRIPTION:Wendake\, Qc./Visite à Wendake Onhwa Lumina \n📍 110 rue Grand Chef Thonnakona\, Wendake\, QC G0A 4V0\n  📅 06-septembre-2025\n 🕐 20h00-22h00 \n👉 Cette activité est destinée aux travailleurs étrangers temporaires (avec un permis de travail fermé). \nVeuillez suivre les instructions indiquées sur l’affiche. \nÀ Wendake\, tout près de la ville de Québec\, vous êtes invités à découvrir un parcours enchanté célébrant la vie et les valeurs de la grande Nation wendat. \nDès la nuit tombée\, le long d’un parcours de 1\,2 km\, vous serez transportés par la magie de la lumière\, du son et des projections vidéo. Cette expérience multimédia immersive vous plongera dans une aventure collective riche en émotions\, connectant le mythe fondateur à un futur porteur et rassembleur. \nSous la voûte étoilée\, imprégnez-vous des rythmes et des chants ancestraux. Entrez dans le Grand Cercle et ressentez votre connexion avec tous les êtres vivants.
URL:https://www.infotetquebec.com/event/wendake-qc-visite-a-wendake-onhwa-lumina/
LOCATION:110 rue Grand Chef Thonnakona\, Wendake\, QC G0A 4V0
CATEGORIES:Activité sociale
ATTACH;FMTTYPE=image/png:https://www.infotetquebec.com/wp-content/uploads/2025/08/1-1.png
ORGANIZER;CN="Centre multiethnique de Qu%C3%A9bec":MAILTO:sgiroux@centremultiethnique
END:VEVENT
BEGIN:VEVENT
DTSTART;TZID=America/Toronto:20250907T150000
DTEND;TZID=America/Toronto:20250907T170000
DTSTAMP:20260425T182441
CREATED:20250819T180739Z
LAST-MODIFIED:20250819T180739Z
UID:22367-1757257200-1757264400@www.infotetquebec.com
SUMMARY:Saint-Rémi\, Qc./Messe en espagnol pour TET agricoles
DESCRIPTION:Saint-Rémi\, Qc./Messe en espagnol pour TET agricoles.  \n📍 840 R. Notre Dame\, Saint-Rémi\, QC J0L 2L0\, Canadá\n  📅 07-septembre-2025\n 🕐 15h00-17h00 \n👉 Cette activité est destinée aux travailleurs étrangers temporaires (avec un permis de travail fermé). \nVeuillez suivre les instructions indiquées sur l’affiche.
URL:https://www.infotetquebec.com/event/saint-remi-qc-messe-en-espagnol-pour-tet-agricoles/
LOCATION:840 R. Notre Dame\, Saint-Rémi\, QC J0L 2L0\, Canadá
CATEGORIES:Messe,Misa
ATTACH;FMTTYPE=image/png:https://www.infotetquebec.com/wp-content/uploads/2025/08/Logo-EN-2.png
END:VEVENT
BEGIN:VEVENT
DTSTART;TZID=America/Toronto:20250909T180000
DTEND;TZID=America/Toronto:20250909T190000
DTSTAMP:20260425T182441
CREATED:20250904T180315Z
LAST-MODIFIED:20250910T130440Z
UID:22519-1757440800-1757444400@www.infotetquebec.com
SUMMARY:Émission de radio pour les TÉT / Séance d'information sur les services du projet pour les TÉT/96.7 CING FM
DESCRIPTION:Émission de radio pour les TÉT / Séance d’information sur les services du projet pour les TÉT/96.7 CING FM \n📻96.7 CING FM\n  📅 09-septembre-2025\n 🕐 18h00-19h00 \n👉 Cette activité est destinée aux travailleurs étrangers temporaires.  \nSéance d’information sur les services du projet pour les TÉT \nÉmission de radio en ligne \nhttps://cignfm.ca/streaming-player/player.php  \nVeuillez suivre les instructions indiquées sur l’affiche.
URL:https://www.infotetquebec.com/event/emission-de-radio-pour-les-tet-seance-dinformation-sur-les-services-du-projet-pour-les-tet-96-7-cing-fm/
LOCATION:À la radio\, CIGN FM 96\,7\, Coaticook\, Québec\, Canada
CATEGORIES:Séance d'information
ATTACH;FMTTYPE=image/png:https://www.infotetquebec.com/wp-content/uploads/2025/09/CIGN-FM-96.7-Radio-cooperative-de-Coaticook-fr.png
END:VEVENT
BEGIN:VEVENT
DTSTART;TZID=America/Toronto:20250911T170000
DTEND;TZID=America/Toronto:20250911T200000
DTSTAMP:20260425T182441
CREATED:20250819T153357Z
LAST-MODIFIED:20250819T153357Z
UID:22346-1757610000-1757620800@www.infotetquebec.com
SUMMARY:Drummondville\, Qc./BBQ de la rentrée pour TET
DESCRIPTION:Drummondville\, Qc./BBQ de la rentrée pour TET. \n📍 1400 Rue Jean-Berchmans-Michaud\, Drummondville\, QC J2C 7V3\, Canada\n  📅 11-septembre-2025\n 🕐 17h00-20h00 \n👉 Cette activité est destinée aux travailleurs étrangers temporaires (avec un permis de travail fermé). \nVeuillez suivre les instructions indiquées sur l’affiche. \nBBQ de la rentrée – Une soirée pour bien s’intégrer ! \nNous avons le plaisir de vous inviter à une soirée BBQ conviviale organisée spécialement pour vous\, travailleurs étrangers ! Ce sera l’occasion parfaite pour rencontrer d’autres personnes\, découvrir les ressources disponibles dans la région et poser toutes vos questions sur la vie ici. \nAu programme : \n🌭 BBQ (hot-dogs) \n🎯 Jeux d’extérieur (poches\, spikeball\, etc.) \n💬 Séances d’information avec des partenaires du milieu \nPourquoi participer ?  \n\nPour mieux comprendre votre nouvel environnement \nPour échanger avec des intervenants clés de la région \nPour passer un bon moment en toute simplicité !\n\nNous serions ravis de vous compter parmi nous pour cette belle soirée d’accueil. \nL’équipe de Drummond économique
URL:https://www.infotetquebec.com/event/drummondville-qc-bbq-de-la-rentree-pour-tet/
LOCATION:1400 Rue Jean-Berchmans-Michaud\, Drummondville\, QC J2C 7V3\, Canada
CATEGORIES:Activité sociale,BBQ,Soirée
ATTACH;FMTTYPE=application/pdf:https://www.infotetquebec.com/wp-content/uploads/2025/08/BBQ-de-la-rentree-Invitation.pdf
END:VEVENT
BEGIN:VEVENT
DTSTART;TZID=America/Toronto:20250912T173000
DTEND;TZID=America/Toronto:20250912T203000
DTSTAMP:20260425T182441
CREATED:20250801T190915Z
LAST-MODIFIED:20250801T190915Z
UID:21951-1757698200-1757709000@www.infotetquebec.com
SUMMARY:Saint-Laurent-de-l'Île-d'Orléans\, Qc./Fête des TET de l'Île d'Orléans
DESCRIPTION:Saint-Laurent-de-l’Île-d’Orléans\, Qc./Fête des TET de l’Île d’Orléans \n📍 120 chemin de la Chalouperie\, Saint-Laurent-de-l’Île-d’Orléans\, Qc. G0A 3Z0\n  📅 12-septembre-2025\n 🕐 17h30-20h30 \n👉 Cette activité est destinée aux travailleurs étrangers temporaires (avec un permis de travail fermé). \nVeuillez suivre les instructions indiquées sur l’affiche. \n🌍 Venez célébrer la diversité\, la solidarité et la contribution essentielle des travailleuses et travailleurs étrangers temporaires de l’Île d’Orléans!  \n🎶 AU PROGRAMME : \n✨ Accueil chaleureux \n🍽️ Repas gratuit \n🌺 Musique du monde \n💃 Animation et kiosques d’information
URL:https://www.infotetquebec.com/event/saint-laurent-de-lile-dorleans-qc-fete-des-tet-de-lile-dorleans/
LOCATION:120 chemin de la Chalouperie\, Saint-Laurent-de-l’Île-d’Orléans\, Qc. G0A 3Z0
CATEGORIES:Activité sociale,Fête
ATTACH;FMTTYPE=image/png:https://www.infotetquebec.com/wp-content/uploads/2025/08/1.png
ORGANIZER;CN="Centre multiethnique de Qu%C3%A9bec":MAILTO:sgiroux@centremultiethnique
END:VEVENT
BEGIN:VEVENT
DTSTART;TZID=America/Toronto:20250913T104500
DTEND;TZID=America/Toronto:20250913T124500
DTSTAMP:20260425T182441
CREATED:20250731T185539Z
LAST-MODIFIED:20250731T185539Z
UID:21832-1757760300-1757767500@www.infotetquebec.com
SUMMARY:Granby\, QC/Autocueillette de pommes.
DESCRIPTION:Granby\, QC/Autocueillette de pommes.  \n📍 210 Rue Denison E Granby\, QC J2H 2R6\n  📅 13-Septembre-2025\n 🕐 10h45-12h45 \n👉 Cette activité est destinée aux travailleurs étrangers temporaires (avec un permis de travail fermé). \nVeuillez suivre les instructions indiquées sur l’affiche.
URL:https://www.infotetquebec.com/event/granby-qc-autocueillette-de-pommes/
LOCATION:210 Rue Denison E Granby\, QC J2H 2R6
CATEGORIES:Activité culturelle ou sportive,Activité sociale
ATTACH;FMTTYPE=image/png:https://www.infotetquebec.com/wp-content/uploads/2025/07/Francais-2.png
ORGANIZER;CN="Granby Industriel":MAILTO:ga.brand@granby-industriel.com
END:VEVENT
BEGIN:VEVENT
DTSTART;TZID=America/Toronto:20250913T133000
DTEND;TZID=America/Toronto:20250913T153000
DTSTAMP:20260425T182441
CREATED:20250909T130527Z
LAST-MODIFIED:20250909T130527Z
UID:22542-1757770200-1757777400@www.infotetquebec.com
SUMMARY:Matane\, QC/Soccer Amical pour les TET
DESCRIPTION:Matane\, QC/Soccer Amical pour les TET \n📍 616 Avenue St Rédempteur\, Matane\, QC G4W 1L1\, Canada\n  📅 13-septembre-2025\n 🕐 13h30-15h30 \n👉 Cette activité est destinée aux travailleurs étrangers temporaires.  \nVeuillez suivre les instructions indiquées sur l’affiche. \nC’est un évènement sportif amical qui a comme objectifs briser l’isolement\, tisser des liens et faire des rencontres.  \nL’activité est prévue à l’extérieur mais en cas de pluie nous allons utiliser l’espace réservé et en location du terrain intérieur du Cégep. 
URL:https://www.infotetquebec.com/event/matane-qc-soccer-amical-pour-les-tet/
LOCATION:616 Avenue St Rédempteur\, Matane\, QC G4W 1L1\, Canada
CATEGORIES:Activité culturelle ou sportive,Activité sociale,soccer
ATTACH;FMTTYPE=image/png:https://www.infotetquebec.com/wp-content/uploads/2025/09/Soccer-13-sept_Fran-2.png
END:VEVENT
BEGIN:VEVENT
DTSTART;TZID=America/Toronto:20250913T190000
DTEND;TZID=America/Toronto:20250913T210000
DTSTAMP:20260425T182441
CREATED:20250717T154531Z
LAST-MODIFIED:20250717T154531Z
UID:21448-1757790000-1757797200@www.infotetquebec.com
SUMMARY:Val-des-Sources\, QC/Soccer extérieur Val-des-Sources.
DESCRIPTION:Val-des-Sources\, QC/Soccer extérieur Val-des-Sources. \n📍 Parc Du Centenaire\, 517 1ere Avenue\, Val-des-Sources\, QC J1T 3X4\, Canada\n 📅 Tous les samedis du 19 juillet -27 septembre 2025\n 🕐 19h00-21h00 \n👉 Cette activité est destinée aux travailleurs étrangers temporaires (avec un permis de travail fermé). \nVeuillez suivre les instructions indiquées sur l’affiche. \n 
URL:https://www.infotetquebec.com/event/val-des-sources-qc-soccer-exterieur-val-des-sources-9/
LOCATION:517 1ere Avenue\, Val-des-Sources\, QC J1T 3X4\, Canada
CATEGORIES:Activité culturelle ou sportive,soccer
ATTACH;FMTTYPE=image/jpeg:https://www.infotetquebec.com/wp-content/uploads/2025/07/EOS-Soccer-exterieur-VdS-ete-2025-fr.jpg
END:VEVENT
BEGIN:VEVENT
DTSTART;TZID=America/Toronto:20250914T100000
DTEND;TZID=America/Toronto:20250914T170000
DTSTAMP:20260425T182441
CREATED:20250717T140434Z
LAST-MODIFIED:20250717T140434Z
UID:21392-1757844000-1757869200@www.infotetquebec.com
SUMMARY:Sherbrooke / Tournoi du soccer pour les TET
DESCRIPTION:Tournoi du soccer pour les travailleur temporaires – Septembre 2025
URL:https://www.infotetquebec.com/event/sherbrooke-tournoi-du-soccer-pour-les-tet/
LOCATION:Parc Atto-Beaver\, Rue St. Francis\, Sherbrooke\, QC J1M 0B3\, Canada
CATEGORIES:soccer
ATTACH;FMTTYPE=image/jpeg:https://www.infotetquebec.com/wp-content/uploads/2025/07/EOS-Tournoi-soccer-Atto-Beaver-fr.jpg
END:VEVENT
BEGIN:VEVENT
DTSTART;TZID=America/Toronto:20250914T110000
DTEND;TZID=America/Toronto:20250914T170000
DTSTAMP:20260425T182441
CREATED:20250731T191806Z
LAST-MODIFIED:20250731T191806Z
UID:21849-1757847600-1757869200@www.infotetquebec.com
SUMMARY:Neuville\, QC/Fête d’indépendance du Guatemala et du Mexique
DESCRIPTION:Neuville\, QC/Fête d’indépendance du Guatemala et du Mexique \n📍 230 Rue du Père Rhéaume\, Neuville\, QC G0A 2R0\, Canada\n  📅 14-Septembre-2025\n 🕐 11h00-17h00 \n👉 Cette activité est destinée aux travailleurs étrangers temporaires (avec un permis de travail fermé). \nVeuillez suivre les instructions indiquées sur l’affiche.
URL:https://www.infotetquebec.com/event/neuville-qc-fete-dindependance-du-guatemala-et-du-mexique/
LOCATION:230 Rue du Père Rhéaume\, Neuville\, QC G0A 2R0\, Canada
CATEGORIES:Activité sociale,Fête
ATTACH;FMTTYPE=image/png:https://www.infotetquebec.com/wp-content/uploads/2025/07/Flyer-recto-Francais.png
END:VEVENT
BEGIN:VEVENT
DTSTART;TZID=America/Toronto:20250914T143000
DTEND;TZID=America/Toronto:20250914T163000
DTSTAMP:20260425T182441
CREATED:20250811T171552Z
LAST-MODIFIED:20250811T172050Z
UID:22232-1757860200-1757867400@www.infotetquebec.com
SUMMARY:Sherbrooke\, Qc./La portée de la torche. Célébration de la fête de l'indépendance guatémaltèque.
DESCRIPTION:Sherbrooke\, Qc./La portée de la torche. Célébration de la fête de l’indépendance guatémaltèque \n📍 Parc Atto-Beaver\, Rue St. Francis\, Sherbrooke\, QC J1M 0B3\, Canada\n  📅 14-septembre-2025\n 🕐 14h30-16h30 \n👉 Cette activité est destinée aux travailleurs étrangers temporaires (avec un permis de travail fermé). \nVeuillez suivre les instructions indiquées sur l’affiche.
URL:https://www.infotetquebec.com/event/sherbrooke-qc-la-portee-de-la-torche-celebration-de-la-fete-de-lindependance-guatemalteque/
LOCATION:Rue St. Francis\, Sherbrooke\, QC J1M 0B3\, Canada
CATEGORIES:Activité culturelle ou sportive,Activité sociale
ATTACH;FMTTYPE=image/png:https://www.infotetquebec.com/wp-content/uploads/2025/08/La-portee-de-la-torche-fr.png
END:VEVENT
BEGIN:VEVENT
DTSTART;TZID=America/Toronto:20250918T174500
DTEND;TZID=America/Toronto:20250918T210000
DTSTAMP:20260425T182441
CREATED:20250908T144950Z
LAST-MODIFIED:20250908T145629Z
UID:22529-1758217500-1758229200@www.infotetquebec.com
SUMMARY:En ligne/ Webinaire: Prévention de la dépression et des pensée négatives
DESCRIPTION:En ligne/ Webinaire: Prévention de la dépression et des pensée négatives \n🛜 🖥️ Webinaire\n  📅 18-septembre-2025\n 🕐 17h45-21h00  \n👉 Cette activité est destinée aux travailleurs étrangers temporaires.  \nVeuillez suivre les instructions indiquées sur l’affiche. \nWebinaire: Prévention de la dépression et des pensée négatives \n🕐 17h45/Français \nInscription:  https://forms.gle/8tE79eQd5vvpw5EX7 \n 
URL:https://www.infotetquebec.com/event/en-ligne-webinaire-prevention-de-la-depression-et-des-pensee-negatives/
LOCATION:En ligne
CATEGORIES:Sesión de información,Webinaire
ATTACH;FMTTYPE=image/png:https://www.infotetquebec.com/wp-content/uploads/2025/09/Prevention-de-la-depression-et-des-pensee-negatives.png
END:VEVENT
BEGIN:VEVENT
DTSTART;TZID=America/Toronto:20250919T100000
DTEND;TZID=America/Toronto:20250919T120000
DTSTAMP:20260425T182441
CREATED:20250910T174752Z
LAST-MODIFIED:20250910T174752Z
UID:22569-1758276000-1758283200@www.infotetquebec.com
SUMMARY:Saint-Césaire\, QC/Pédaler en sécurité pour les TET de Nortera. 
DESCRIPTION:Saint-Césaire\, QC/Pédaler en sécurité pour les TET de Nortera.  \n📍 Saint-Césaire\, QC\, Canada\n  📅 19-septembre-2025\n 🕐 10h00-12h00 \n👉 Cette activité est destinée aux travailleurs étrangers temporaires.  \nVeuillez suivre les instructions indiquées sur l’affiche et contacter l’organisateur. \nSéance d’information sur la sécurité routière et l’entretien du vélo en collaboration avec Cyclo Nord et SIARI chez Nortera Saint-Césaire. Cette activité est réservée aux TET de Nortera.
URL:https://www.infotetquebec.com/event/saint-cesaire-qc-pedaler-en-securite-pour-les-tet-de-nortera/
LOCATION:Saint-Césaire\, QC\, Canada
CATEGORIES:Séance d'information
ATTACH;FMTTYPE=image/png:https://www.infotetquebec.com/wp-content/uploads/2025/09/Activite-velo-19-sep-2025-Nortera-FR.png
ORGANIZER;CN="Int%C3%A9gration comp%C3%A9tences":MAILTO:lilianasalgado@integrationcompetences.ca
END:VEVENT
BEGIN:VEVENT
DTSTART;TZID=America/Toronto:20250919T190000
DTEND;TZID=America/Toronto:20250919T220000
DTSTAMP:20260425T182441
CREATED:20250911T201822Z
LAST-MODIFIED:20250911T201822Z
UID:22582-1758308400-1758319200@www.infotetquebec.com
SUMMARY:Sept-Îles\, QC/Soirée billard avec les TET
DESCRIPTION:Sept-Îles\, QC/Soirée billard avec les TET \n📍 685 Bd Laure\, Sept-Îles\, QC G4R 1X8\, Canada\n  📅 19-septembre-2025\n 🕐 19h00-22h00 \n👉 Cette activité est destinée aux travailleurs étrangers temporaires.  \nVeuillez suivre les instructions indiquées sur l’affiche et contacter l’organisateur.
URL:https://www.infotetquebec.com/event/sept-iles-qc-soiree-billard-avec-les-tet/
LOCATION:685 Bd Laure\, Sept-Îles\, QC G4R 1X8\, Canada
CATEGORIES:Activité sociale,Bowling,Soirée
ATTACH;FMTTYPE=image/png:https://www.infotetquebec.com/wp-content/uploads/2025/09/Billard-2-min.png
END:VEVENT
BEGIN:VEVENT
DTSTART;TZID=America/Toronto:20250920T100000
DTEND;TZID=America/Toronto:20250920T123000
DTSTAMP:20260425T182441
CREATED:20250909T172900Z
LAST-MODIFIED:20250909T172900Z
UID:22557-1758362400-1758371400@www.infotetquebec.com
SUMMARY:Mont-Saint-Grégoire\, QC/Cueillette des pommes dans les champs pour les TET
DESCRIPTION:Mont-Saint-Grégoire\, QC/Cueillette des pommes dans les champs pour les TET \n📍 Mont-Saint-Grégoire\, QC J0J 1K0\, Canada\n  📅 20-septembre-2025\n 🕐 10h00-12h30 \n👉 Cette activité est destinée aux travailleurs étrangers temporaires.  \nVeuillez suivre les instructions indiquées sur l’affiche et contacter l’organisateur. \nMontrez aux travailleurs l’une des traditions les plus marquantes du Québec : la cueillette des pommes dans les champs.
URL:https://www.infotetquebec.com/event/mont-saint-gregoire-qc-cueillette-des-pommes-dans-les-champs-pour-les-tet/
LOCATION:Mont-Saint-Grégoire\, QC J0J 1K0\, Canada
CATEGORIES:Activité sociale
ATTACH;FMTTYPE=image/png:https://www.infotetquebec.com/wp-content/uploads/2025/09/3Cueillette-de-pommes-2025-TET-FR.png
ORGANIZER;CN="L'ANCRE":MAILTO:karladuenas@lancre.ca
END:VEVENT
BEGIN:VEVENT
DTSTART;TZID=America/Toronto:20250920T140000
DTEND;TZID=America/Toronto:20250920T160000
DTSTAMP:20260425T182441
CREATED:20250918T160617Z
LAST-MODIFIED:20250918T160617Z
UID:22632-1758376800-1758384000@www.infotetquebec.com
SUMMARY:Victoriaville\, QC/Après-midi Mexicain pour les TET
DESCRIPTION:Victoriaville\, QC/Après-midi Mexicain pour les TET \n📍 60 Blvd. des Bois Francs S\, Victoriaville\, QC G6P 4S1\, Canada\n  📅 20-septembre-2025\n 🕐 14h00-16h00 \n👉 Cette activité est destinée aux travailleurs étrangers temporaires.  \nVeuillez suivre les instructions indiquées sur l’affiche et contacter l’organisateur. \nAprès-midi festif mettant à l’honneur la culture mexicaine : musique traditionnelle\, couleurs éclatantes et saveurs authentiques.
URL:https://www.infotetquebec.com/event/victoriaville-qc-apres-midi-mexicain-pour-les-tet/
LOCATION:60 Blvd. des Bois Francs S\, Victoriaville\, QC G6P 4S1\, Canada
CATEGORIES:Activité sociale
ATTACH;FMTTYPE=image/png:https://www.infotetquebec.com/wp-content/uploads/2025/09/Invitation-Activite-interculturelle-francais.png
END:VEVENT
BEGIN:VEVENT
DTSTART;TZID=America/Toronto:20250920T190000
DTEND;TZID=America/Toronto:20250920T210000
DTSTAMP:20260425T182441
CREATED:20250717T154600Z
LAST-MODIFIED:20250717T154600Z
UID:21450-1758394800-1758402000@www.infotetquebec.com
SUMMARY:Val-des-Sources\, QC/Soccer extérieur Val-des-Sources.
DESCRIPTION:Val-des-Sources\, QC/Soccer extérieur Val-des-Sources. \n📍 Parc Du Centenaire\, 517 1ere Avenue\, Val-des-Sources\, QC J1T 3X4\, Canada\n 📅 Tous les samedis du 19 juillet -27 septembre 2025\n 🕐 19h00-21h00 \n👉 Cette activité est destinée aux travailleurs étrangers temporaires (avec un permis de travail fermé). \nVeuillez suivre les instructions indiquées sur l’affiche. \n 
URL:https://www.infotetquebec.com/event/val-des-sources-qc-soccer-exterieur-val-des-sources-10/
LOCATION:517 1ere Avenue\, Val-des-Sources\, QC J1T 3X4\, Canada
CATEGORIES:Activité culturelle ou sportive,soccer
ATTACH;FMTTYPE=image/jpeg:https://www.infotetquebec.com/wp-content/uploads/2025/07/EOS-Soccer-exterieur-VdS-ete-2025-fr.jpg
END:VEVENT
BEGIN:VEVENT
DTSTART;TZID=America/Toronto:20250926T180000
DTEND;TZID=America/Toronto:20250926T210000
DTSTAMP:20260425T182441
CREATED:20250825T172857Z
LAST-MODIFIED:20250825T172857Z
UID:22485-1758909600-1758920400@www.infotetquebec.com
SUMMARY:Saint-Marc-des-Carrières\, Qc./Soccer extérieur pour TET. 
DESCRIPTION:Saint-Marc-des-Carrières\, Qc./Soccer extérieur pour TET.  \n📍 1600 Boul. Bona-Dussault\, Saint-Marc-des-Carrières\, QC G0A 4B0\, Canada\n  📅 26-septembre-2025\n 🕐 18h00-21h00 \n👉 Cette activité est destinée aux travailleurs étrangers temporaires (avec un permis de travail fermé). \nFin saison de soccer extérieur avec barbecue \nVeuillez suivre les instructions indiquées sur l’affiche.
URL:https://www.infotetquebec.com/event/saint-marc-des-carrieres-qc-soccer-exterieur-pour-tet/
LOCATION:1600 Boul. Bona-Dussault\, Saint-Marc-des-Carrières\, QC G0A 4B0\, Canada
CATEGORIES:Activité culturelle ou sportive,BBQ,soccer
ATTACH;FMTTYPE=image/png:https://www.infotetquebec.com/wp-content/uploads/2025/08/Fin_saison_soccer_26_sept_FR.png
END:VEVENT
BEGIN:VEVENT
DTSTART;TZID=America/Toronto:20250926T190000
DTEND;TZID=America/Toronto:20250926T210000
DTSTAMP:20260425T182441
CREATED:20250926T161529Z
LAST-MODIFIED:20250926T161627Z
UID:22928-1758913200-1758920400@www.infotetquebec.com
SUMMARY:Coaticook\, QC/Soccer à Coaticook pour les TET
DESCRIPTION:Coaticook\, QC/Soccer à Coaticook pour les TET \n📍 497 Rue Saint-Jean-Baptiste\, Coaticook\, QC J1A 1G1\, Canada\n 📅 Tous les vendredis du 26 septembre -12 décembre 2025\n 🕐 19h00-21h00 \n👉 Cette activité est destinée aux travailleurs étrangers temporaires (avec un permis de travail fermé). \nVeuillez suivre les instructions indiquées sur l’affiche et contacter l’organisateur.
URL:https://www.infotetquebec.com/event/coaticook-qc-soccer-a-coaticook-pour-les-tet/
LOCATION:497 Rue Saint-Jean-Baptiste\, Coaticook\, QC J1A 1G1\, Canada
CATEGORIES:Activité culturelle ou sportive,soccer
ATTACH;FMTTYPE=image/png:https://www.infotetquebec.com/wp-content/uploads/2025/09/EOS-Soccer-Coaticook-interieur-2025-fr.png
END:VEVENT
BEGIN:VEVENT
DTSTART;TZID=America/Toronto:20250927T110000
DTEND;TZID=America/Toronto:20250927T120000
DTSTAMP:20260425T182441
CREATED:20250918T170638Z
LAST-MODIFIED:20250918T171205Z
UID:22644-1758970800-1758974400@www.infotetquebec.com
SUMMARY:Webinaire/Atelier virtuel portant sur les services gratuits de traduction pour les TET
DESCRIPTION:Webinaire/Atelier virtuel portant sur les services gratuits de traduction pour les TET \n📍 Webinaire/ Serres Savoura Mirabel\n  📅 27-septembre-2025\n 🕐 11h00-12h00 \n👉 Cette activité est destinée aux travailleurs étrangers temporaires.  \nVeuillez suivre les instructions indiquées sur l’affiche et contacter l’organisateur. \n 
URL:https://www.infotetquebec.com/event/webinaire-atelier-virtuel-portant-sur-les-services-gratuits-de-traduction-pour-les-tet/
LOCATION:En ligne
CATEGORIES:Séance d'information,Sesión de información
ATTACH;FMTTYPE=image/jpeg:https://www.infotetquebec.com/wp-content/uploads/2025/09/Modele-invitation-TET_page-0002.jpg
END:VEVENT
BEGIN:VEVENT
DTSTART;TZID=America/Toronto:20250927T140000
DTEND;TZID=America/Toronto:20250927T170000
DTSTAMP:20260425T182441
CREATED:20250922T182442Z
LAST-MODIFIED:20250922T182442Z
UID:22845-1758981600-1758992400@www.infotetquebec.com
SUMMARY:Cap-Saint-Ignace\, QC/Cueillette de pommes pour les TET
DESCRIPTION:Cap-Saint-Ignace\, QC/Cueillette de pommes pour les TET \n📍 1308 Chem. Bellevue O\, Cap-Saint-Ignace\, QC G0R 1H0\n  📅 27-septembre-2025\n 🕐 14h00-17h00 \n👉 Cette activité est destinée aux travailleurs étrangers temporaires.  \nVeuillez suivre les instructions indiquées sur l’affiche et contacter l’organisateur.
URL:https://www.infotetquebec.com/event/cap-saint-ignace-qc-cueillette-de-pommes-pour-les-tet/
LOCATION:1308 Chem. Bellevue O\, Cap-Saint-Ignace\, QC G0R 1H0
CATEGORIES:Activité culturelle ou sportive,Activité sociale
ATTACH;FMTTYPE=image/png:https://www.infotetquebec.com/wp-content/uploads/2025/09/visuel-cueillette-pommes-.png
ORGANIZER;CN="Corporation de d%C3%A9veloppement %C3%A9conomique de la MRC de Montmagny (CDEMM)":MAILTO:abrebion@cgocable.ca
END:VEVENT
BEGIN:VEVENT
DTSTART;TZID=America/Toronto:20250927T180000
DTEND;TZID=America/Toronto:20250927T210000
DTSTAMP:20260425T182441
CREATED:20250926T153225Z
LAST-MODIFIED:20250926T153515Z
UID:22885-1758996000-1759006800@www.infotetquebec.com
SUMMARY:Saint-Raymond\, QC / SOCCER POUR LES TET
DESCRIPTION:Saint-Raymond\, QC /Rencontres de soccer fin de saison pour TET \n📍 175 Route des Pionniers-Saint-Raymond\, QC G0A\, Canada\n 📅 Samedi 27 septembre 2025\n 🕐 18h00 \n👉 Cette activité est destinée aux travailleurs étrangers temporaires (avec un permis de travail fermé). \nVeuillez suivre les instructions indiquées sur l’affiche.
URL:https://www.infotetquebec.com/event/saint-raymond-qc-soccer-pour-les-tet/
LOCATION:175 Route des Pionniers-Saint-Raymond\, QC G0A\, Canada
CATEGORIES:Activité culturelle ou sportive,soccer
ATTACH;FMTTYPE=image/png:https://www.infotetquebec.com/wp-content/uploads/2025/09/1.png
END:VEVENT
BEGIN:VEVENT
DTSTART;TZID=America/Toronto:20250927T190000
DTEND;TZID=America/Toronto:20250927T210000
DTSTAMP:20260425T182441
CREATED:20250717T154631Z
LAST-MODIFIED:20250717T154631Z
UID:21452-1758999600-1759006800@www.infotetquebec.com
SUMMARY:Val-des-Sources\, QC/Soccer extérieur Val-des-Sources.
DESCRIPTION:Val-des-Sources\, QC/Soccer extérieur Val-des-Sources. \n📍 Parc Du Centenaire\, 517 1ere Avenue\, Val-des-Sources\, QC J1T 3X4\, Canada\n 📅 Tous les samedis du 19 juillet -27 septembre 2025\n 🕐 19h00-21h00 \n👉 Cette activité est destinée aux travailleurs étrangers temporaires (avec un permis de travail fermé). \nVeuillez suivre les instructions indiquées sur l’affiche. \n 
URL:https://www.infotetquebec.com/event/val-des-sources-qc-soccer-exterieur-val-des-sources-11/
LOCATION:517 1ere Avenue\, Val-des-Sources\, QC J1T 3X4\, Canada
CATEGORIES:Activité culturelle ou sportive,soccer
ATTACH;FMTTYPE=image/jpeg:https://www.infotetquebec.com/wp-content/uploads/2025/07/EOS-Soccer-exterieur-VdS-ete-2025-fr.jpg
END:VEVENT
END:VCALENDAR