BEGIN:VCALENDAR
VERSION:2.0
PRODID:-//Infotetquebec - ECPv6.15.20//NONSGML v1.0//EN
CALSCALE:GREGORIAN
METHOD:PUBLISH
X-WR-CALNAME:Infotetquebec
X-ORIGINAL-URL:https://www.infotetquebec.com
X-WR-CALDESC:Évènements pour Infotetquebec
REFRESH-INTERVAL;VALUE=DURATION:PT1H
X-Robots-Tag:noindex
X-PUBLISHED-TTL:PT1H
BEGIN:VTIMEZONE
TZID:America/Toronto
BEGIN:DAYLIGHT
TZOFFSETFROM:-0500
TZOFFSETTO:-0400
TZNAME:EDT
DTSTART:20240310T070000
END:DAYLIGHT
BEGIN:STANDARD
TZOFFSETFROM:-0400
TZOFFSETTO:-0500
TZNAME:EST
DTSTART:20241103T060000
END:STANDARD
BEGIN:DAYLIGHT
TZOFFSETFROM:-0500
TZOFFSETTO:-0400
TZNAME:EDT
DTSTART:20250309T070000
END:DAYLIGHT
BEGIN:STANDARD
TZOFFSETFROM:-0400
TZOFFSETTO:-0500
TZNAME:EST
DTSTART:20251102T060000
END:STANDARD
BEGIN:DAYLIGHT
TZOFFSETFROM:-0500
TZOFFSETTO:-0400
TZNAME:EDT
DTSTART:20260308T070000
END:DAYLIGHT
BEGIN:STANDARD
TZOFFSETFROM:-0400
TZOFFSETTO:-0500
TZNAME:EST
DTSTART:20261101T060000
END:STANDARD
END:VTIMEZONE
BEGIN:VEVENT
DTSTART;TZID=America/Toronto:20250801T173000
DTEND;TZID=America/Toronto:20250801T203000
DTSTAMP:20260425T201137
CREATED:20250708T155631Z
LAST-MODIFIED:20250708T155631Z
UID:21123-1754069400-1754080200@www.infotetquebec.com
SUMMARY:Cap-Santé\, QC / SOCCER POUR LES TET
DESCRIPTION:Cap-Santé\, QC / SOCCER POUR LES TET \n📍 12 Rue Déry\, Cap-Santé\, QC G0A 1L0\n 📅 Chaque vendredi de juillet et d’août 2025\n 🕐 17h30 \n👉 Cette activité est destinée aux travailleurs étrangers temporaires (avec un permis de travail fermé). \nVeuillez suivre les instructions indiquées sur l’affiche.
URL:https://www.infotetquebec.com/event/cap-sante-qc-soccer-pour-les-tet-4/
LOCATION:12 Rue Déry\, Cap-Santé\, QC G0A 1L0
CATEGORIES:Activité culturelle ou sportive,soccer
ATTACH;FMTTYPE=image/png:https://www.infotetquebec.com/wp-content/uploads/2025/07/1.png
END:VEVENT
BEGIN:VEVENT
DTSTART;TZID=America/Toronto:20250801T180000
DTEND;TZID=America/Toronto:20250801T200000
DTSTAMP:20260425T201137
CREATED:20250728T155338Z
LAST-MODIFIED:20250728T155338Z
UID:21772-1754071200-1754078400@www.infotetquebec.com
SUMMARY:Donnacona\, QC/Présentation de l'utilisation des services ACCÈS D de DESJARDINS.
DESCRIPTION:Donnacona\, QC/Présentation de l’utilisation des services ACCÈS D de DESJARDINS. \n📍 162 Rue Notre Dame\, Donnacona\, QC G3M 1G4\, Canada\n 📅 01-Août-2025\n 🕐 18h00-20h00 \n👉 Cette activité est destinée aux travailleurs étrangers temporaires (avec un permis de travail fermé). \nVeuillez suivre les instructions indiquées sur l’affiche.
URL:https://www.infotetquebec.com/event/donnacona-qc-presentation-de-lutilisation-des-services-acces-d-de-desjardins/
LOCATION:162 Rue Notre Dame\, Donnacona\, QC G3M 1G4\, Canada
CATEGORIES:Séance d'information
ATTACH;FMTTYPE=image/jpeg:https://www.infotetquebec.com/wp-content/uploads/2025/07/Atelier_Desjardins_2025_fr_2.jpg
END:VEVENT
BEGIN:VEVENT
DTSTART;TZID=America/Toronto:20250801T190000
DTEND;TZID=America/Toronto:20250801T210000
DTSTAMP:20260425T201137
CREATED:20250618T150050Z
LAST-MODIFIED:20250618T150050Z
UID:20512-1754074800-1754082000@www.infotetquebec.com
SUMMARY:Coaticook/Soccer en Extérieur
DESCRIPTION:Soccer extérieur hebdomadaire à Coaticook pour les travailleurs étrangers temporaires\, \nTous les vendredis du 16 mai au 05 septembre 2025 de 19h à 21h.
URL:https://www.infotetquebec.com/event/coaticook-soccer-en-exterieur-10/
LOCATION:PARC LAURENCE (TERRAIN 1)\, RUE LAURENCE\, Coaticook\, Québec\, Canada
CATEGORIES:Activité culturelle ou sportive,Activité sociale,soccer
ATTACH;FMTTYPE=image/jpeg:https://www.infotetquebec.com/wp-content/uploads/2025/05/large-EOS-Soccer-Coaticook-ete-2025-fr-1.jpg
END:VEVENT
BEGIN:VEVENT
DTSTART;TZID=America/Toronto:20250802T100000
DTEND;TZID=America/Toronto:20250802T150000
DTSTAMP:20260425T201137
CREATED:20250722T201306Z
LAST-MODIFIED:20250722T201306Z
UID:21652-1754128800-1754146800@www.infotetquebec.com
SUMMARY:St-Jérôme / Tournoi de soccer éclair pour les TET
DESCRIPTION:Tournoi à St-Jérôme pour les entreprises suivantes :\n– Savoura Mirabel et Ste-Sophie\n– Meubles Foliot\n– Serre Royale \n  \nLocalisation : Parc Optimiste-Saint-Antoine. 245 Bd Lachapelle\, Saint-Jérome
URL:https://www.infotetquebec.com/event/st-jerome-tournoi-de-soccer-eclair-pour-les-tet/
LOCATION:Localisation : Parc Optimiste-Saint-Antoine. 245 Bd Lachapelle\, Saint-Jérôme
CATEGORIES:soccer
ATTACH;FMTTYPE=image/png:https://www.infotetquebec.com/wp-content/uploads/2025/07/Gabarit_Fr1.png
END:VEVENT
BEGIN:VEVENT
DTSTART;TZID=America/Toronto:20250802T120000
DTEND;TZID=America/Toronto:20250802T170000
DTSTAMP:20260425T201137
CREATED:20250625T131324Z
LAST-MODIFIED:20250625T131324Z
UID:20669-1754136000-1754154000@www.infotetquebec.com
SUMMARY:Cap-Saint-Ignace\, QC/Ligue de Soccer Interculturelle Été 2025 
DESCRIPTION:Ligue de Soccer Interculturelle Été 2025 \n28 juillet-30 août \n02 août – Cap-Saint-Ignace Parc Municipal l’Optimiste\n630 Rte du Petit Cap\, Cap-Saint-Ignace\, QC G0R 1H0 \nSamedi de 12h00-17h00 \nINSCRIPTION :\nCourriel : emercier@montmagny.com\nTéléphone : 418 248-5985 poste 349\nWhatsApp : +1 418 291-1113\nSur place : le 28 juin 2025 dès 12h \nCette activité est destinée aux travailleurs étrangers temporaires (permis de travail fermé). \nVeuillez suivre les instructions indiquées sur l’affiche de l’événement.
URL:https://www.infotetquebec.com/event/cap-saint-ignace-qc-ligue-de-soccer-interculturelle-ete-2025-4/
LOCATION:630 Rte du Petit Cap\, Cap-Saint-Ignace\, QC G0R 1H0
CATEGORIES:Activité culturelle ou sportive,Activité sociale,soccer
ATTACH;FMTTYPE=image/png:https://www.infotetquebec.com/wp-content/uploads/2025/06/Horaire-soccer-ete-2025-FR.png
END:VEVENT
BEGIN:VEVENT
DTSTART;TZID=America/Toronto:20250802T170000
DTEND;TZID=America/Toronto:20250802T200000
DTSTAMP:20260425T201137
CREATED:20250729T142929Z
LAST-MODIFIED:20250729T143002Z
UID:21801-1754154000-1754164800@www.infotetquebec.com
SUMMARY:Québec\, QC/Partie de soccer. 
DESCRIPTION:Québec\, QC/Partie de soccer.  \n📍 1000 Rue de Bar le Duc\, Québec\, QC G1W 4X6\, Canada\n 📅 02-Août-2025\n 🕐 17h00-20h00 \n👉 Cette activité est destinée aux travailleurs étrangers temporaires (avec un permis de travail fermé). \nVeuillez suivre les instructions indiquées sur l’affiche.
URL:https://www.infotetquebec.com/event/21801/
LOCATION:1000 Rue de Bar le Duc\, Québec\, QC G1W 4X6\, Canada
CATEGORIES:Activité culturelle ou sportive,soccer
ATTACH;FMTTYPE=image/png:https://www.infotetquebec.com/wp-content/uploads/2025/07/Parties-de-soccer-CMQ-_-FR.png
ORGANIZER;CN="Centre multiethnique de Qu%C3%A9bec":MAILTO:sgiroux@centremultiethnique
END:VEVENT
BEGIN:VEVENT
DTSTART;TZID=America/Toronto:20250802T190000
DTEND;TZID=America/Toronto:20250802T210000
DTSTAMP:20260425T201137
CREATED:20250717T154212Z
LAST-MODIFIED:20250717T154212Z
UID:21436-1754161200-1754168400@www.infotetquebec.com
SUMMARY:Val-des-Sources\, QC/Soccer extérieur Val-des-Sources.
DESCRIPTION:Val-des-Sources\, QC/Soccer extérieur Val-des-Sources. \n📍 Parc Du Centenaire\, 517 1ere Avenue\, Val-des-Sources\, QC J1T 3X4\, Canada\n 📅 Tous les samedis du 19 juillet -27 septembre 2025\n 🕐 19h00-21h00 \n👉 Cette activité est destinée aux travailleurs étrangers temporaires (avec un permis de travail fermé). \nVeuillez suivre les instructions indiquées sur l’affiche. \n 
URL:https://www.infotetquebec.com/event/val-des-sources-qc-soccer-exterieur-val-des-sources-3/
LOCATION:517 1ere Avenue\, Val-des-Sources\, QC J1T 3X4\, Canada
CATEGORIES:Activité culturelle ou sportive,soccer
ATTACH;FMTTYPE=image/jpeg:https://www.infotetquebec.com/wp-content/uploads/2025/07/EOS-Soccer-exterieur-VdS-ete-2025-fr.jpg
END:VEVENT
BEGIN:VEVENT
DTSTART;TZID=America/Toronto:20250803T080000
DTEND;TZID=America/Toronto:20250803T150000
DTSTAMP:20260425T201137
CREATED:20250618T145728Z
LAST-MODIFIED:20250618T145728Z
UID:20496-1754208000-1754233200@www.infotetquebec.com
SUMMARY:Saint-Rémi / Soccer été 2025 Avec les TET
DESCRIPTION:Tournoi de soccer d’été 2025 pour les TET \nTous les dimanches du 1er juin au 24 août 2025 \nTous les détails sont dans le visuel de l’événement.
URL:https://www.infotetquebec.com/event/saint-remi-soccer-ete-2025-avec-les-tet-8/
LOCATION:Saint-Rémi\, QC J0L\, Canada
CATEGORIES:Activité culturelle ou sportive,soccer
ATTACH;FMTTYPE=application/pdf:https://www.infotetquebec.com/wp-content/uploads/2025/05/TOURNOI-SOCCER-2025-1.pdf
END:VEVENT
BEGIN:VEVENT
DTSTART;TZID=America/Toronto:20250803T130000
DTEND;TZID=America/Toronto:20250803T160000
DTSTAMP:20260425T201137
CREATED:20250722T154631Z
LAST-MODIFIED:20250722T154631Z
UID:21624-1754226000-1754236800@www.infotetquebec.com
SUMMARY:Québec / Après-midi d'arbre-en-arbre à Arbraska Chauveau
DESCRIPTION:Après-midi d’arbre-en-arbre à Arbraska Chauveau
URL:https://www.infotetquebec.com/event/quebec-apres-midi-darbre-en-arbre-a-arbraska-chauveau/
LOCATION:7200 BOULEVARD DE L’ORMIÈRE\, QUÉBEC QC G2C 1C1
CATEGORIES:Activité culturelle ou sportive,Activité sociale
ATTACH;FMTTYPE=image/png:https://www.infotetquebec.com/wp-content/uploads/2025/07/Flyer-Arbraska-Chauveau-CMQ_fr.png
ORGANIZER;CN="Centre multiethnique de Qu%C3%A9bec":MAILTO:sgiroux@centremultiethnique
END:VEVENT
BEGIN:VEVENT
DTSTART;TZID=America/Toronto:20250807T183000
DTEND;TZID=America/Toronto:20250807T203000
DTSTAMP:20260425T201137
CREATED:20250728T130853Z
LAST-MODIFIED:20250728T134135Z
UID:21730-1754591400-1754598600@www.infotetquebec.com
SUMMARY:Sainte-Thérèse\, QC/Choc culturel: Québécois et Latino-Américains.
DESCRIPTION:Sainte-Thérèse\, QC/Choc culturel: Québécois et Latino-Américains. \n📍 Hôtel de ville à Sainte-Thérèse\, Québec.- 6 Rue de l’Eglise\, Sainte-Thérèse\, QC J7E 1W9\n 📅 07-Août-2025\n 🕐 18h30-20h30 \n👉 Cette activité est destinée aux travailleurs étrangers temporaires (avec un permis de travail fermé). \nVeuillez suivre les instructions indiquées sur l’affiche.
URL:https://www.infotetquebec.com/event/sainte-therese-qc-choc-culturel-quebecois-et-latino-americains/
LOCATION:Hôtel de ville à Sainte-Thérèse\, Québec
CATEGORIES:Séance d'information
ATTACH;FMTTYPE=image/png:https://www.infotetquebec.com/wp-content/uploads/2025/07/Logo-FR-min.png
END:VEVENT
BEGIN:VEVENT
DTSTART;TZID=America/Toronto:20250808T173000
DTEND;TZID=America/Toronto:20250808T203000
DTSTAMP:20260425T201137
CREATED:20250708T155712Z
LAST-MODIFIED:20250708T155712Z
UID:21125-1754674200-1754685000@www.infotetquebec.com
SUMMARY:Cap-Santé\, QC / SOCCER POUR LES TET
DESCRIPTION:Cap-Santé\, QC / SOCCER POUR LES TET \n📍 12 Rue Déry\, Cap-Santé\, QC G0A 1L0\n 📅 Chaque vendredi de juillet et d’août 2025\n 🕐 17h30 \n👉 Cette activité est destinée aux travailleurs étrangers temporaires (avec un permis de travail fermé). \nVeuillez suivre les instructions indiquées sur l’affiche.
URL:https://www.infotetquebec.com/event/cap-sante-qc-soccer-pour-les-tet-5/
LOCATION:12 Rue Déry\, Cap-Santé\, QC G0A 1L0
CATEGORIES:Activité culturelle ou sportive,soccer
ATTACH;FMTTYPE=image/png:https://www.infotetquebec.com/wp-content/uploads/2025/07/1.png
END:VEVENT
BEGIN:VEVENT
DTSTART;TZID=America/Toronto:20250808T190000
DTEND;TZID=America/Toronto:20250808T210000
DTSTAMP:20260425T201137
CREATED:20250618T150117Z
LAST-MODIFIED:20250618T150117Z
UID:20514-1754679600-1754686800@www.infotetquebec.com
SUMMARY:Coaticook/Soccer en Extérieur
DESCRIPTION:Soccer extérieur hebdomadaire à Coaticook pour les travailleurs étrangers temporaires\, \nTous les vendredis du 16 mai au 05 septembre 2025 de 19h à 21h.
URL:https://www.infotetquebec.com/event/coaticook-soccer-en-exterieur-11/
LOCATION:PARC LAURENCE (TERRAIN 1)\, RUE LAURENCE\, Coaticook\, Québec\, Canada
CATEGORIES:Activité culturelle ou sportive,Activité sociale,soccer
ATTACH;FMTTYPE=image/jpeg:https://www.infotetquebec.com/wp-content/uploads/2025/05/large-EOS-Soccer-Coaticook-ete-2025-fr-1.jpg
END:VEVENT
BEGIN:VEVENT
DTSTART;TZID=America/Toronto:20250809T100000
DTEND;TZID=America/Toronto:20250809T150000
DTSTAMP:20260425T201137
CREATED:20250801T132249Z
LAST-MODIFIED:20250801T132839Z
UID:21881-1754733600-1754751600@www.infotetquebec.com
SUMMARY:Drummondville\, QC/Foire Sportive
DESCRIPTION:Drummondville\, QC/Foire Sportive \n📍 Complexe Sportif Drummondville (1380\, rue Montplaisir Drummondville QC J2C 0M6)\n  📅 09-août-2025\n🕐 10h00-15h00 \n👉 Cette activité est destinée aux travailleurs étrangers temporaires (avec un permis de travail fermé). \nVeuillez suivre les instructions indiquées sur l’affiche. \nGratuit pour les travailleurs étrangers avec un permis fermé \nDate limite pour s’inscrire : 8 août 2025\n \nDrummond économique est heureuse de t’inviter à bouger à la Foire Sportive\, cette initiative sportive est organisée par Drummondville Sports au Complexe sportif Drummondville!\nSeul\, en famille ou entre amis\, apporte ta tenue de sport👕👟 et ton maillot 👙 pour bouger avec nous! Tu pourras découvrir l’ensemble des associations\, des organisations et des attraits sportifs de la région\, tout en développant de saines habitudes de vie.
URL:https://www.infotetquebec.com/event/drummondville-qc-foire-sportive/
LOCATION:1380\, rue Montplaisir Drummondville QC J2C 0M6
CATEGORIES:Activité culturelle ou sportive,Activité sociale
ATTACH;FMTTYPE=image/png:https://www.infotetquebec.com/wp-content/uploads/2025/08/Accueil-Activites-Foire-sportive.png
END:VEVENT
BEGIN:VEVENT
DTSTART;TZID=America/Toronto:20250809T120000
DTEND;TZID=America/Toronto:20250809T170000
DTSTAMP:20260425T201137
CREATED:20250625T133224Z
LAST-MODIFIED:20250625T133224Z
UID:20683-1754740800-1754758800@www.infotetquebec.com
SUMMARY:Berthier-sur-Mer\, QC/Ligue de Soccer Interculturelle Été 2025 
DESCRIPTION:Ligue de Soccer Interculturelle Été 2025 \n28 juillet-30 août \n09 août – Berthier-sur-Mer Centre de Loisirs\n24 Bd Blais E\, Berthier-sur-Mer\, QC G0R 1E0\n \nSamedi de 12h00-17h00 \nINSCRIPTION :\nCourriel : emercier@montmagny.com\nTéléphone : 418 248-5985 poste 349\nWhatsApp : +1 418 291-1113\nSur place : le 28 juin 2025 dès 12h \nCette activité est destinée aux travailleurs étrangers temporaires (permis de travail fermé). \nVeuillez suivre les instructions indiquées sur l’affiche de l’événement.
URL:https://www.infotetquebec.com/event/berthier-sur-mer-qc-ligue-de-soccer-interculturelle-ete-2025/
LOCATION:24 Bd Blais E\, Berthier-sur-Mer\, QC G0R 1E0
CATEGORIES:Activité culturelle ou sportive,Activité sociale,soccer
ATTACH;FMTTYPE=image/png:https://www.infotetquebec.com/wp-content/uploads/2025/06/Horaire-soccer-ete-2025-FR.png
END:VEVENT
BEGIN:VEVENT
DTSTART;TZID=America/Toronto:20250809T120000
DTEND;TZID=America/Toronto:20250809T170000
DTSTAMP:20260425T201137
CREATED:20250722T153434Z
LAST-MODIFIED:20250722T153434Z
UID:21618-1754740800-1754758800@www.infotetquebec.com
SUMMARY:Berthier-sur-Mer / Fête du soccer annuelle
DESCRIPTION:Fête du soccer annuelle à Berthier-sur-mer
URL:https://www.infotetquebec.com/event/berthier-sur-mer-fete-du-soccer-annuelle/
LOCATION:Berthier-sur-Mer
CATEGORIES:soccer
ATTACH;FMTTYPE=image/png:https://www.infotetquebec.com/wp-content/uploads/2025/07/Fete-du-soccer-20250809-FR.png
ORGANIZER;CN="Corporation de d%C3%A9veloppement %C3%A9conomique de la MRC de Montmagny (CDEMM)":MAILTO:abrebion@cgocable.ca
END:VEVENT
BEGIN:VEVENT
DTSTART;TZID=America/Toronto:20250809T190000
DTEND;TZID=America/Toronto:20250809T210000
DTSTAMP:20260425T201137
CREATED:20250717T154245Z
LAST-MODIFIED:20250717T154245Z
UID:21438-1754766000-1754773200@www.infotetquebec.com
SUMMARY:Val-des-Sources\, QC/Soccer extérieur Val-des-Sources.
DESCRIPTION:Val-des-Sources\, QC/Soccer extérieur Val-des-Sources. \n📍 Parc Du Centenaire\, 517 1ere Avenue\, Val-des-Sources\, QC J1T 3X4\, Canada\n 📅 Tous les samedis du 19 juillet -27 septembre 2025\n 🕐 19h00-21h00 \n👉 Cette activité est destinée aux travailleurs étrangers temporaires (avec un permis de travail fermé). \nVeuillez suivre les instructions indiquées sur l’affiche. \n 
URL:https://www.infotetquebec.com/event/val-des-sources-qc-soccer-exterieur-val-des-sources-4/
LOCATION:517 1ere Avenue\, Val-des-Sources\, QC J1T 3X4\, Canada
CATEGORIES:Activité culturelle ou sportive,soccer
ATTACH;FMTTYPE=image/jpeg:https://www.infotetquebec.com/wp-content/uploads/2025/07/EOS-Soccer-exterieur-VdS-ete-2025-fr.jpg
END:VEVENT
BEGIN:VEVENT
DTSTART;TZID=America/Toronto:20250810T080000
DTEND;TZID=America/Toronto:20250810T150000
DTSTAMP:20260425T201137
CREATED:20250618T145747Z
LAST-MODIFIED:20250618T145747Z
UID:20498-1754812800-1754838000@www.infotetquebec.com
SUMMARY:Saint-Rémi / Soccer été 2025 Avec les TET
DESCRIPTION:Tournoi de soccer d’été 2025 pour les TET \nTous les dimanches du 1er juin au 24 août 2025 \nTous les détails sont dans le visuel de l’événement.
URL:https://www.infotetquebec.com/event/saint-remi-soccer-ete-2025-avec-les-tet-9/
LOCATION:Saint-Rémi\, QC J0L\, Canada
CATEGORIES:Activité culturelle ou sportive,soccer
ATTACH;FMTTYPE=application/pdf:https://www.infotetquebec.com/wp-content/uploads/2025/05/TOURNOI-SOCCER-2025-1.pdf
END:VEVENT
BEGIN:VEVENT
DTSTART;TZID=America/Toronto:20250812T130000
DTEND;TZID=America/Toronto:20250812T140000
DTSTAMP:20260425T201137
CREATED:20250729T133617Z
LAST-MODIFIED:20250729T133617Z
UID:21786-1755003600-1755007200@www.infotetquebec.com
SUMMARY:Portneuf\, QC/Atelier de réparation de vélos.
DESCRIPTION:Portneuf\, QC/Atelier de réparation de vélos. \n📍 700 Rue Lucien Thibodeau\, Portneuf\, QC G0A 2Y0\, Canada-  (Enterprise GenV)                                                                                                                              📅 12-Août-2025\n 🕐 13h00-14h00 \n👉 Cette activité est destinée aux travailleurs étrangers temporaires (avec un permis de travail fermé). \nVeuillez suivre les instructions indiquées sur l’affiche.
URL:https://www.infotetquebec.com/event/portneuf-qc-atelier-de-reparation-de-velos/
LOCATION:700 Rue Lucien Thibodeau\, Portneuf\, QC G0A 2Y0\, Canada
CATEGORIES:Sesión de información
ATTACH;FMTTYPE=image/png:https://www.infotetquebec.com/wp-content/uploads/2025/07/1-1.png
END:VEVENT
BEGIN:VEVENT
DTSTART;TZID=America/Toronto:20250815T173000
DTEND;TZID=America/Toronto:20250815T203000
DTSTAMP:20260425T201137
CREATED:20250708T155742Z
LAST-MODIFIED:20250708T155742Z
UID:21127-1755279000-1755289800@www.infotetquebec.com
SUMMARY:Cap-Santé\, QC / SOCCER POUR LES TET
DESCRIPTION:Cap-Santé\, QC / SOCCER POUR LES TET \n📍 12 Rue Déry\, Cap-Santé\, QC G0A 1L0\n 📅 Chaque vendredi de juillet et d’août 2025\n 🕐 17h30 \n👉 Cette activité est destinée aux travailleurs étrangers temporaires (avec un permis de travail fermé). \nVeuillez suivre les instructions indiquées sur l’affiche.
URL:https://www.infotetquebec.com/event/cap-sante-qc-soccer-pour-les-tet-6/
LOCATION:12 Rue Déry\, Cap-Santé\, QC G0A 1L0
CATEGORIES:Activité culturelle ou sportive,soccer
ATTACH;FMTTYPE=image/png:https://www.infotetquebec.com/wp-content/uploads/2025/07/1.png
END:VEVENT
BEGIN:VEVENT
DTSTART;TZID=America/Toronto:20250815T190000
DTEND;TZID=America/Toronto:20250815T210000
DTSTAMP:20260425T201137
CREATED:20250618T150140Z
LAST-MODIFIED:20250618T150140Z
UID:20516-1755284400-1755291600@www.infotetquebec.com
SUMMARY:Coaticook/Soccer en Extérieur
DESCRIPTION:Soccer extérieur hebdomadaire à Coaticook pour les travailleurs étrangers temporaires\, \nTous les vendredis du 16 mai au 05 septembre 2025 de 19h à 21h.
URL:https://www.infotetquebec.com/event/coaticook-soccer-en-exterieur-12/
LOCATION:PARC LAURENCE (TERRAIN 1)\, RUE LAURENCE\, Coaticook\, Québec\, Canada
CATEGORIES:Activité culturelle ou sportive,Activité sociale,soccer
ATTACH;FMTTYPE=image/jpeg:https://www.infotetquebec.com/wp-content/uploads/2025/05/large-EOS-Soccer-Coaticook-ete-2025-fr-1.jpg
END:VEVENT
BEGIN:VEVENT
DTSTART;TZID=America/Toronto:20250816T120000
DTEND;TZID=America/Toronto:20250816T170000
DTSTAMP:20260425T201137
CREATED:20250625T131402Z
LAST-MODIFIED:20250625T131402Z
UID:20671-1755345600-1755363600@www.infotetquebec.com
SUMMARY:Cap-Saint-Ignace\, QC/Ligue de Soccer Interculturelle Été 2025 
DESCRIPTION:Ligue de Soccer Interculturelle Été 2025 \n28 juillet-30 août \n16 août – Cap-Saint-Ignace Parc Municipal l’Optimiste\n630 Rte du Petit Cap\, Cap-Saint-Ignace\, QC G0R 1H0 \nSamedi de 12h00-17h00 \nINSCRIPTION :\nCourriel : emercier@montmagny.com\nTéléphone : 418 248-5985 poste 349\nWhatsApp : +1 418 291-1113\nSur place : le 28 juin 2025 dès 12h \nCette activité est destinée aux travailleurs étrangers temporaires (permis de travail fermé). \nVeuillez suivre les instructions indiquées sur l’affiche de l’événement.
URL:https://www.infotetquebec.com/event/cap-saint-ignace-qc-ligue-de-soccer-interculturelle-ete-2025-5/
LOCATION:630 Rte du Petit Cap\, Cap-Saint-Ignace\, QC G0R 1H0
CATEGORIES:Activité culturelle ou sportive,Activité sociale,soccer
ATTACH;FMTTYPE=image/png:https://www.infotetquebec.com/wp-content/uploads/2025/06/Horaire-soccer-ete-2025-FR.png
END:VEVENT
BEGIN:VEVENT
DTSTART;TZID=America/Toronto:20250816T190000
DTEND;TZID=America/Toronto:20250816T210000
DTSTAMP:20260425T201137
CREATED:20250717T154322Z
LAST-MODIFIED:20250717T154322Z
UID:21440-1755370800-1755378000@www.infotetquebec.com
SUMMARY:Val-des-Sources\, QC/Soccer extérieur Val-des-Sources.
DESCRIPTION:Val-des-Sources\, QC/Soccer extérieur Val-des-Sources. \n📍 Parc Du Centenaire\, 517 1ere Avenue\, Val-des-Sources\, QC J1T 3X4\, Canada\n 📅 Tous les samedis du 19 juillet -27 septembre 2025\n 🕐 19h00-21h00 \n👉 Cette activité est destinée aux travailleurs étrangers temporaires (avec un permis de travail fermé). \nVeuillez suivre les instructions indiquées sur l’affiche. \n 
URL:https://www.infotetquebec.com/event/val-des-sources-qc-soccer-exterieur-val-des-sources-5/
LOCATION:517 1ere Avenue\, Val-des-Sources\, QC J1T 3X4\, Canada
CATEGORIES:Activité culturelle ou sportive,soccer
ATTACH;FMTTYPE=image/jpeg:https://www.infotetquebec.com/wp-content/uploads/2025/07/EOS-Soccer-exterieur-VdS-ete-2025-fr.jpg
END:VEVENT
BEGIN:VEVENT
DTSTART;TZID=America/Toronto:20250817T080000
DTEND;TZID=America/Toronto:20250817T150000
DTSTAMP:20260425T201137
CREATED:20250618T145810Z
LAST-MODIFIED:20250618T145810Z
UID:20500-1755417600-1755442800@www.infotetquebec.com
SUMMARY:Saint-Rémi / Soccer été 2025 Avec les TET
DESCRIPTION:Tournoi de soccer d’été 2025 pour les TET \nTous les dimanches du 1er juin au 24 août 2025 \nTous les détails sont dans le visuel de l’événement.
URL:https://www.infotetquebec.com/event/saint-remi-soccer-ete-2025-avec-les-tet-10/
LOCATION:Saint-Rémi\, QC J0L\, Canada
CATEGORIES:Activité culturelle ou sportive,soccer
ATTACH;FMTTYPE=application/pdf:https://www.infotetquebec.com/wp-content/uploads/2025/05/TOURNOI-SOCCER-2025-1.pdf
END:VEVENT
BEGIN:VEVENT
DTSTART;TZID=America/Toronto:20250821T160000
DTEND;TZID=America/Toronto:20250821T190000
DTSTAMP:20260425T201137
CREATED:20250801T130809Z
LAST-MODIFIED:20250801T130809Z
UID:21863-1755792000-1755802800@www.infotetquebec.com
SUMMARY:Compton\, QC/Fiesta Latina au Marché public du Compton
DESCRIPTION:Compton\, QC/Fiesta Latina au Marché public du Compton \n📍 Parc des Lions de Compton\, Compton\, QC J0B 1L0\, Canada\n  📅 21-août-2025\n 🕐 16h00-19h00 \n👉 Cette activité est destinée aux travailleurs étrangers temporaires (avec un permis de travail fermé). \nVeuillez suivre les instructions indiquées sur l’affiche.
URL:https://www.infotetquebec.com/event/compton-qc-fiesta-latina-au-marche-public-du-compton/
LOCATION:Parc des Lions de Compton\, Compton\, QC J0B 1L0\, Canada
CATEGORIES:Activité sociale,Fête
ATTACH;FMTTYPE=image/png:https://www.infotetquebec.com/wp-content/uploads/2025/08/EOS-Fiesta-Latina-a-Compton-fr.png
END:VEVENT
BEGIN:VEVENT
DTSTART;TZID=America/Toronto:20250822T173000
DTEND;TZID=America/Toronto:20250822T203000
DTSTAMP:20260425T201137
CREATED:20250708T155811Z
LAST-MODIFIED:20250708T155811Z
UID:21129-1755883800-1755894600@www.infotetquebec.com
SUMMARY:Cap-Santé\, QC / SOCCER POUR LES TET
DESCRIPTION:Cap-Santé\, QC / SOCCER POUR LES TET \n📍 12 Rue Déry\, Cap-Santé\, QC G0A 1L0\n 📅 Chaque vendredi de juillet et d’août 2025\n 🕐 17h30 \n👉 Cette activité est destinée aux travailleurs étrangers temporaires (avec un permis de travail fermé). \nVeuillez suivre les instructions indiquées sur l’affiche.
URL:https://www.infotetquebec.com/event/cap-sante-qc-soccer-pour-les-tet-7/
LOCATION:12 Rue Déry\, Cap-Santé\, QC G0A 1L0
CATEGORIES:Activité culturelle ou sportive,soccer
ATTACH;FMTTYPE=image/png:https://www.infotetquebec.com/wp-content/uploads/2025/07/1.png
END:VEVENT
BEGIN:VEVENT
DTSTART;TZID=America/Toronto:20250822T180000
DTEND;TZID=America/Toronto:20250822T200000
DTSTAMP:20260425T201137
CREATED:20250806T154936Z
LAST-MODIFIED:20250806T154936Z
UID:22143-1755885600-1755892800@www.infotetquebec.com
SUMMARY:Québec\, Qc./Café Rencontre
DESCRIPTION:Québec\, Qc./Café Rencontre \n📍 200 Rue Dorchester\, Québec\, QC G1K 0E9\, Canada\n  📅 22-août-2025\n 🕐 18h00-20h00 \n👉 Cette activité est destinée aux travailleurs étrangers temporaires (avec un permis de travail fermé). \nVeuillez suivre les instructions indiquées sur l’affiche.
URL:https://www.infotetquebec.com/event/quebec-qc-cafe-rencontre/
LOCATION:200 Rue Dorchester\, Québec\, QC G1K 0E9\, Canada
CATEGORIES:Activité sociale
ATTACH;FMTTYPE=image/png:https://www.infotetquebec.com/wp-content/uploads/2025/08/Cafe-rencontre-1-1.png
ORGANIZER;CN="Centre multiethnique de Qu%C3%A9bec":MAILTO:sgiroux@centremultiethnique
END:VEVENT
BEGIN:VEVENT
DTSTART;TZID=America/Toronto:20250822T190000
DTEND;TZID=America/Toronto:20250822T210000
DTSTAMP:20260425T201137
CREATED:20250618T150204Z
LAST-MODIFIED:20250618T150204Z
UID:20518-1755889200-1755896400@www.infotetquebec.com
SUMMARY:Coaticook/Soccer en Extérieur
DESCRIPTION:Soccer extérieur hebdomadaire à Coaticook pour les travailleurs étrangers temporaires\, \nTous les vendredis du 16 mai au 05 septembre 2025 de 19h à 21h.
URL:https://www.infotetquebec.com/event/coaticook-soccer-en-exterieur-13/
LOCATION:PARC LAURENCE (TERRAIN 1)\, RUE LAURENCE\, Coaticook\, Québec\, Canada
CATEGORIES:Activité culturelle ou sportive,Activité sociale,soccer
ATTACH;FMTTYPE=image/jpeg:https://www.infotetquebec.com/wp-content/uploads/2025/05/large-EOS-Soccer-Coaticook-ete-2025-fr-1.jpg
END:VEVENT
BEGIN:VEVENT
DTSTART;TZID=America/Toronto:20250823T093000
DTEND;TZID=America/Toronto:20250823T120000
DTSTAMP:20260425T201137
CREATED:20250818T174517Z
LAST-MODIFIED:20250818T174517Z
UID:22332-1755941400-1755950400@www.infotetquebec.com
SUMMARY:Cap-Santé\, Qc./Match de football pour TET.
DESCRIPTION:Cap-Santé\, Qc./Match de football pour TET. \n📍 Parc canin Cap-Santé\, 30 Rue Déry\, Cap-Santé\, QC G0A 1L0\, Canada\n  📅 23-août-2025\n 🕐 09h30-12h00 \n👉 Cette activité est destinée aux travailleurs étrangers temporaires (avec un permis de travail fermé). \nVeuillez suivre les instructions indiquées sur l’affiche. \n  \nUne activité pour les TET afin de profiter de la fin de l’été en plein air\, pratiquer une activité physique et partager une matinée conviviale. Ils dégusteront un délicieux goûter.
URL:https://www.infotetquebec.com/event/cap-sante-qc-match-de-football-pour-tet/
LOCATION:30 Rue Déry\, Cap-Santé\, QC G0A 1L0\, Canada
CATEGORIES:Activité culturelle ou sportive,soccer
ATTACH;FMTTYPE=image/png:https://www.infotetquebec.com/wp-content/uploads/2025/08/Francais.png
END:VEVENT
BEGIN:VEVENT
DTSTART;TZID=America/Toronto:20250823T120000
DTEND;TZID=America/Toronto:20250823T180000
DTSTAMP:20260425T201137
CREATED:20250813T152925Z
LAST-MODIFIED:20250813T152925Z
UID:22280-1755950400-1755972000@www.infotetquebec.com
SUMMARY:Saint-Fabien-de-Panet\, Qc./Match de soccer et fête de la famille.
DESCRIPTION:Saint-Fabien-de-Panet\, Qc./Match de soccer et fête de la famille. \n📍 47 Rue Principale O\, Saint-Fabien-de-Panet\, QC G0R 2J0\, Canada\n  📅 23-août-2025\n 🕐 12h00-18h00 \n👉 Cette activité est destinée aux travailleurs étrangers temporaires (avec un permis de travail fermé). \nVeuillez suivre les instructions indiquées sur l’affiche. \nMatch de soccer et fête de la famille à Saint-Fabien-de-Panet !  \nLa CNESST sera présente pour informer les TET.
URL:https://www.infotetquebec.com/event/saint-fabien-de-panet-qc-match-de-soccer-et-fete-de-la-famille/
LOCATION:47 Rue Principale O\, Saint-Fabien-de-Panet\, QC G0R 2J0\, Canada
CATEGORIES:Activité culturelle ou sportive,Activité sociale,soccer
ATTACH;FMTTYPE=image/png:https://www.infotetquebec.com/wp-content/uploads/2025/08/Soccer-fete-famille-23-08-2025_FR-1.png
END:VEVENT
BEGIN:VEVENT
DTSTART;TZID=America/Toronto:20250823T190000
DTEND;TZID=America/Toronto:20250823T210000
DTSTAMP:20260425T201137
CREATED:20250717T154359Z
LAST-MODIFIED:20250717T154359Z
UID:21442-1755975600-1755982800@www.infotetquebec.com
SUMMARY:Val-des-Sources\, QC/Soccer extérieur Val-des-Sources.
DESCRIPTION:Val-des-Sources\, QC/Soccer extérieur Val-des-Sources. \n📍 Parc Du Centenaire\, 517 1ere Avenue\, Val-des-Sources\, QC J1T 3X4\, Canada\n 📅 Tous les samedis du 19 juillet -27 septembre 2025\n 🕐 19h00-21h00 \n👉 Cette activité est destinée aux travailleurs étrangers temporaires (avec un permis de travail fermé). \nVeuillez suivre les instructions indiquées sur l’affiche. \n 
URL:https://www.infotetquebec.com/event/val-des-sources-qc-soccer-exterieur-val-des-sources-6/
LOCATION:517 1ere Avenue\, Val-des-Sources\, QC J1T 3X4\, Canada
CATEGORIES:Activité culturelle ou sportive,soccer
ATTACH;FMTTYPE=image/jpeg:https://www.infotetquebec.com/wp-content/uploads/2025/07/EOS-Soccer-exterieur-VdS-ete-2025-fr.jpg
END:VEVENT
END:VCALENDAR