BEGIN:VCALENDAR
VERSION:2.0
PRODID:-//Infotetquebec - ECPv6.15.20//NONSGML v1.0//EN
CALSCALE:GREGORIAN
METHOD:PUBLISH
X-ORIGINAL-URL:https://www.infotetquebec.com
X-WR-CALDESC:Évènements pour Infotetquebec
REFRESH-INTERVAL;VALUE=DURATION:PT1H
X-Robots-Tag:noindex
X-PUBLISHED-TTL:PT1H
BEGIN:VTIMEZONE
TZID:America/Toronto
BEGIN:DAYLIGHT
TZOFFSETFROM:-0500
TZOFFSETTO:-0400
TZNAME:EDT
DTSTART:20250309T070000
END:DAYLIGHT
BEGIN:STANDARD
TZOFFSETFROM:-0400
TZOFFSETTO:-0500
TZNAME:EST
DTSTART:20251102T060000
END:STANDARD
BEGIN:DAYLIGHT
TZOFFSETFROM:-0500
TZOFFSETTO:-0400
TZNAME:EDT
DTSTART:20260308T070000
END:DAYLIGHT
BEGIN:STANDARD
TZOFFSETFROM:-0400
TZOFFSETTO:-0500
TZNAME:EST
DTSTART:20261101T060000
END:STANDARD
BEGIN:DAYLIGHT
TZOFFSETFROM:-0500
TZOFFSETTO:-0400
TZNAME:EDT
DTSTART:20270314T070000
END:DAYLIGHT
BEGIN:STANDARD
TZOFFSETFROM:-0400
TZOFFSETTO:-0500
TZNAME:EST
DTSTART:20271107T060000
END:STANDARD
END:VTIMEZONE
BEGIN:VEVENT
DTSTART;TZID=America/Toronto:20260329T183000
DTEND;TZID=America/Toronto:20260329T203000
DTSTAMP:20260421T090336
CREATED:20260108T193717Z
LAST-MODIFIED:20260108T193717Z
UID:25303-1774809000-1774816200@www.infotetquebec.com
SUMMARY:Saint-Basile\, QC/Soccer intérieur pour les TET
DESCRIPTION:Saint-Basile\, QC/Soccer intérieur pour les TET \n📍Centre Ernest-J.-Papillon\, Rue Sainte Angélique\, Saint-Basile\, QC\, Canada\n  📅 Tous les dimanches janvier\, février\, mars et avril 2026.\n 🕐 18h30-20h30  \n👉 Cette activité est destinée aux travailleurs étrangers temporaires.  \nVeuillez suivre les instructions indiquées sur l’affiche et contacter l’organisateur.
URL:https://www.infotetquebec.com/event/saint-basile-qc-soccer-interieur-pour-les-tet-25/
LOCATION:Centre Ernest-J.-Papillon\, Rue Sainte Angélique\, Saint-Basile\, QC\, Canada
CATEGORIES:Activité culturelle ou sportive,soccer
ATTACH;FMTTYPE=image/png:https://www.infotetquebec.com/wp-content/uploads/2026/01/FUTSAL-ST-BASILE-HIVER-2026_-FR.png
END:VEVENT
BEGIN:VEVENT
DTSTART;TZID=America/Toronto:20260329T200000
DTEND;TZID=America/Toronto:20260329T220000
DTSTAMP:20260421T090336
CREATED:20260317T173206Z
LAST-MODIFIED:20260317T173206Z
UID:27327-1774814400-1774821600@www.infotetquebec.com
SUMMARY:Châteauguay\, QC/Cabane à sucre pour les TET.
DESCRIPTION:Châteauguay\, QC/Cabane à sucre pour les TET. \n📍498 Bd D’Youville\, Châteauguay\, QC J6J 2T2\n 📅 29 mars 2026\n 🕐 20h00-22h00 \n👉 Cette activité est destinée aux travailleurs étrangers temporaires.  \nVeuillez suivre les instructions indiquées sur l’affiche et contacter l’organisateur.
URL:https://www.infotetquebec.com/event/chateauguay-qc-cabane-a-sucre-pour-les-tet/
LOCATION:498 Bd D’Youville\, Châteauguay\, QC J6J 2T2
CATEGORIES:Activité culturelle ou sportive,Activité sociale,Soirée
ATTACH;FMTTYPE=image/jpeg:https://www.infotetquebec.com/wp-content/uploads/2026/03/Cabane-a-sucre-Fr-1.jpg
ORGANIZER;CN="Complexe X Immigration":MAILTO:scerdeline@complx-immigration.ca
END:VEVENT
END:VCALENDAR