BEGIN:VCALENDAR
VERSION:2.0
PRODID:-//Infotetquebec - ECPv6.15.20//NONSGML v1.0//EN
CALSCALE:GREGORIAN
METHOD:PUBLISH
X-WR-CALNAME:Infotetquebec
X-ORIGINAL-URL:https://www.infotetquebec.com
X-WR-CALDESC:Évènements pour Infotetquebec
REFRESH-INTERVAL;VALUE=DURATION:PT1H
X-Robots-Tag:noindex
X-PUBLISHED-TTL:PT1H
BEGIN:VTIMEZONE
TZID:America/Toronto
BEGIN:DAYLIGHT
TZOFFSETFROM:-0500
TZOFFSETTO:-0400
TZNAME:EDT
DTSTART:20250309T070000
END:DAYLIGHT
BEGIN:STANDARD
TZOFFSETFROM:-0400
TZOFFSETTO:-0500
TZNAME:EST
DTSTART:20251102T060000
END:STANDARD
BEGIN:DAYLIGHT
TZOFFSETFROM:-0500
TZOFFSETTO:-0400
TZNAME:EDT
DTSTART:20260308T070000
END:DAYLIGHT
BEGIN:STANDARD
TZOFFSETFROM:-0400
TZOFFSETTO:-0500
TZNAME:EST
DTSTART:20261101T060000
END:STANDARD
BEGIN:DAYLIGHT
TZOFFSETFROM:-0500
TZOFFSETTO:-0400
TZNAME:EDT
DTSTART:20270314T070000
END:DAYLIGHT
BEGIN:STANDARD
TZOFFSETFROM:-0400
TZOFFSETTO:-0500
TZNAME:EST
DTSTART:20271107T060000
END:STANDARD
END:VTIMEZONE
BEGIN:VEVENT
DTSTART;TZID=America/Toronto:20260328T130000
DTEND;TZID=America/Toronto:20260328T170000
DTSTAMP:20260421T092406
CREATED:20260303T161121Z
LAST-MODIFIED:20260303T162235Z
UID:27063-1774702800-1774717200@www.infotetquebec.com
SUMMARY:Mont-Laurier\, QC/Journée découverte et bien-être pour les TET de l'entreprise PITRE. 
DESCRIPTION:Mont-Laurier\, QC/Journée découverte et bien-être pour les TET de l’entreprise PITRE.  \n📍565 Rue de la Montagne\, Mont-Laurier\, QC\, Canada \n📅 28-mars-2026.\n🕐 13h00-17h00 \nUne activité organisée pour les travailleurs de l’entreprise PITRE à une journée spéciale pour découvrir la région\, recevoir de l’info sur la santé mentale et santé publique ainsi que profiter d’un moment entre collègues. \nInscription obligatoire avant le 15 mars 2026: https://form.jotform.com/260566352847061  \nCourriel: tet@cielaurentides.com  \nWhatsApp.: 514 475-0326 \nOrganismes participants: CAFLA / FERME \n👉 Cette activité est destinée aux travailleurs étrangers temporaires (avec un permis de travail fermé). \nVeuillez suivre les instructions indiquées sur l’affiche et contacter l’organisateur.
URL:https://www.infotetquebec.com/event/mont-laurier-qc-journee-decouverte-et-bien-etre-pour-les-tet-de-lentreprise-pitre/
LOCATION:565 Rue de la Montagne\, Mont-Laurier\, QC\, Canada
CATEGORIES:Activité sociale,Réseautage,Séance d'information
ATTACH;FMTTYPE=image/jpeg:https://www.infotetquebec.com/wp-content/uploads/2026/03/Modele-invitation-TET-esp.jpg
END:VEVENT
BEGIN:VEVENT
DTSTART;TZID=America/Toronto:20260328T133000
DTEND;TZID=America/Toronto:20260328T153000
DTSTAMP:20260421T092406
CREATED:20260310T172540Z
LAST-MODIFIED:20260310T172540Z
UID:27186-1774704600-1774711800@www.infotetquebec.com
SUMMARY:Saint-Eustache\, QC/Bowling pour les TET. 
DESCRIPTION:Saint-Eustache\, QC/Bowling pour les TET.  \n📍367 Bd Arthur-Sauvé\, Saint-Eustache\, QC J7P 2B1\, Canada.  \n📅 28-mars-2026.\n🕐 13h30-15h30 \n👉 Cette activité est destinée aux travailleurs étrangers temporaires (avec un permis de travail fermé). \nVeuillez suivre les instructions indiquées sur l’affiche et contacter l’organisateur.
URL:https://www.infotetquebec.com/event/saint-eustache-qc-bowling-pour-les-tet/
LOCATION:367 Bd Arthur-Sauvé\, Saint-Eustache\, QC J7P 2B1\, Canada.
CATEGORIES:Activité culturelle ou sportive,Bowling
ATTACH;FMTTYPE=image/png:https://www.infotetquebec.com/wp-content/uploads/2026/03/Logo-FR.png
END:VEVENT
END:VCALENDAR