BEGIN:VCALENDAR
VERSION:2.0
PRODID:-//Infotetquebec - ECPv6.15.20//NONSGML v1.0//EN
CALSCALE:GREGORIAN
METHOD:PUBLISH
X-ORIGINAL-URL:https://www.infotetquebec.com
X-WR-CALDESC:Évènements pour Infotetquebec
REFRESH-INTERVAL;VALUE=DURATION:PT1H
X-Robots-Tag:noindex
X-PUBLISHED-TTL:PT1H
BEGIN:VTIMEZONE
TZID:America/Toronto
BEGIN:DAYLIGHT
TZOFFSETFROM:-0500
TZOFFSETTO:-0400
TZNAME:EDT
DTSTART:20250309T070000
END:DAYLIGHT
BEGIN:STANDARD
TZOFFSETFROM:-0400
TZOFFSETTO:-0500
TZNAME:EST
DTSTART:20251102T060000
END:STANDARD
BEGIN:DAYLIGHT
TZOFFSETFROM:-0500
TZOFFSETTO:-0400
TZNAME:EDT
DTSTART:20260308T070000
END:DAYLIGHT
BEGIN:STANDARD
TZOFFSETFROM:-0400
TZOFFSETTO:-0500
TZNAME:EST
DTSTART:20261101T060000
END:STANDARD
BEGIN:DAYLIGHT
TZOFFSETFROM:-0500
TZOFFSETTO:-0400
TZNAME:EDT
DTSTART:20270314T070000
END:DAYLIGHT
BEGIN:STANDARD
TZOFFSETFROM:-0400
TZOFFSETTO:-0500
TZNAME:EST
DTSTART:20271107T060000
END:STANDARD
END:VTIMEZONE
BEGIN:VEVENT
DTSTART;TZID=America/Toronto:20260327T180000
DTEND;TZID=America/Toronto:20260327T200000
DTSTAMP:20260421T071830
CREATED:20260317T202847Z
LAST-MODIFIED:20260317T202847Z
UID:27367-1774634400-1774641600@www.infotetquebec.com
SUMMARY:Matane\, QC/Quilles pour les TET.
DESCRIPTION:Matane\, QC/Quilles pour les TET. \n📍140 Boulevard Dion\, Matane\, QC\, Canada\n 📅 27 mars 2026\n 🕐 18h00-20h00 \nActivité de quilles organisée dans le cadre du TET afin de briser l’isolement\, favoriser les échanges et encourager la socialisation dans un climat convivial et inclusif. \n👉 Cette activité est destinée aux travailleurs étrangers temporaires.  \nVeuillez suivre les instructions indiquées sur l’affiche et contacter l’organisateur.
URL:https://www.infotetquebec.com/event/matane-qc-quilles-pour-les-tet/
LOCATION:140 Boulevard Dion\, Matane\, QC\, Canada
CATEGORIES:Activité culturelle ou sportive,Activité sociale,Bowling
ATTACH;FMTTYPE=image/png:https://www.infotetquebec.com/wp-content/uploads/2026/03/Quilles-Pizza-pour-les-TET-3-1.png
END:VEVENT
BEGIN:VEVENT
DTSTART;TZID=America/Toronto:20260327T190000
DTEND;TZID=America/Toronto:20260327T210000
DTSTAMP:20260421T071830
CREATED:20260112T203842Z
LAST-MODIFIED:20260112T203842Z
UID:25429-1774638000-1774645200@www.infotetquebec.com
SUMMARY:Coaticook\, QC/Soccer à Coaticook pour les TET
DESCRIPTION:Coaticook\, QC/Soccer à Coaticook pour les TET \n📍 497 Rue Saint-Jean-Baptiste\, Coaticook\, QC J1A 1G1\, Canada\n 📅 Tous les vendredis du 09 janvier-27 mars 2026.\n 🕐 19h00-21h00 \n👉 Cette activité est destinée aux travailleurs étrangers temporaires (avec un permis de travail fermé). \nVeuillez suivre les instructions indiquées sur l’affiche et contacter l’organisateur.
URL:https://www.infotetquebec.com/event/coaticook-qc-soccer-a-coaticook-pour-les-tet-24/
LOCATION:497 Rue Saint-Jean-Baptiste\, Coaticook\, QC J1A 1G1\, Canada
CATEGORIES:Activité culturelle ou sportive,soccer
ATTACH;FMTTYPE=image/png:https://www.infotetquebec.com/wp-content/uploads/2026/01/EOS-Soccer-Coaticook-interieur-2026-fr.png
END:VEVENT
BEGIN:VEVENT
DTSTART;TZID=America/Toronto:20260327T190000
DTEND;TZID=America/Toronto:20260327T210000
DTSTAMP:20260421T071830
CREATED:20260311T173639Z
LAST-MODIFIED:20260311T173639Z
UID:27271-1774638000-1774645200@www.infotetquebec.com
SUMMARY:Dégelis\, QC/Activité Futsal pour les travailleurs étrangers temporaires (TET). 
DESCRIPTION:Dégelis\, QC/Activité Futsal pour les travailleurs étrangers temporaires (TET).  \n📍 385 Av. Principale\, Dégelis\, QC G5T 1L3.\n📅 Vendredi 13-20-27 mars et 3 et 10 avril 2026\n🕐 19h00-21h00 \n👉 Cette activité est destinée aux travailleurs étrangers temporaires.  \nVeuillez suivre les instructions indiquées sur l’affiche et contacter l’organisateur.
URL:https://www.infotetquebec.com/event/degelis-qc-activite-futsal-pour-les-travailleurs-etrangers-temporaires-tet-3/
LOCATION:385 Av. Principale\, Dégelis\, QC G5T 1L3.
CATEGORIES:Activité culturelle ou sportive,soccer
ATTACH;FMTTYPE=image/png:https://www.infotetquebec.com/wp-content/uploads/2026/03/Activite-Futsal-Fr.png
END:VEVENT
END:VCALENDAR