BEGIN:VCALENDAR
VERSION:2.0
PRODID:-//Infotetquebec - ECPv6.15.20//NONSGML v1.0//EN
CALSCALE:GREGORIAN
METHOD:PUBLISH
X-ORIGINAL-URL:https://www.infotetquebec.com
X-WR-CALDESC:Évènements pour Infotetquebec
REFRESH-INTERVAL;VALUE=DURATION:PT1H
X-Robots-Tag:noindex
X-PUBLISHED-TTL:PT1H
BEGIN:VTIMEZONE
TZID:America/Toronto
BEGIN:DAYLIGHT
TZOFFSETFROM:-0500
TZOFFSETTO:-0400
TZNAME:EDT
DTSTART:20250309T070000
END:DAYLIGHT
BEGIN:STANDARD
TZOFFSETFROM:-0400
TZOFFSETTO:-0500
TZNAME:EST
DTSTART:20251102T060000
END:STANDARD
BEGIN:DAYLIGHT
TZOFFSETFROM:-0500
TZOFFSETTO:-0400
TZNAME:EDT
DTSTART:20260308T070000
END:DAYLIGHT
BEGIN:STANDARD
TZOFFSETFROM:-0400
TZOFFSETTO:-0500
TZNAME:EST
DTSTART:20261101T060000
END:STANDARD
BEGIN:DAYLIGHT
TZOFFSETFROM:-0500
TZOFFSETTO:-0400
TZNAME:EDT
DTSTART:20270314T070000
END:DAYLIGHT
BEGIN:STANDARD
TZOFFSETFROM:-0400
TZOFFSETTO:-0500
TZNAME:EST
DTSTART:20271107T060000
END:STANDARD
END:VTIMEZONE
BEGIN:VEVENT
DTSTART;TZID=America/Toronto:20260319T190000
DTEND;TZID=America/Toronto:20260319T220000
DTSTAMP:20260421T071830
CREATED:20260310T174442Z
LAST-MODIFIED:20260310T174442Z
UID:27199-1773946800-1773957600@www.infotetquebec.com
SUMMARY:Matane\, QC/Ciné-Popcorn pour les TET. 
DESCRIPTION:Matane\, QC/Ciné-Popcorn pour les TET.  \n📍289 Rue St Pierre\, Matane\, QC\, Canada.  \n📅 19-mars-2026.\n🕐 19h00-22h00 \nProjection de film en français \nNous vous invitons à venir briser l’isolement en vous joignant à nous pour une soirée cinéma conviviale. Profitez d’un bon film accompagné d’un bol de popcorn dans une ambiance chaleureuse. \nCette activité sera également une belle occasion de rencontrer d’autres personnes\, d’échanger et de tisser des liens. \nAu plaisir de vous accueillir. À très bientôt ! \n👉 Cette activité est destinée aux travailleurs étrangers temporaires (avec un permis de travail fermé). \nVeuillez suivre les instructions indiquées sur l’affiche et contacter l’organisateur.
URL:https://www.infotetquebec.com/event/matane-qc-cine-popcorn-pour-les-tet/
LOCATION:289 Rue St Pierre\, Matane\, QC\, Canada.
CATEGORIES:Activité sociale
ATTACH;FMTTYPE=image/png:https://www.infotetquebec.com/wp-content/uploads/2026/03/Activite-fevrier_-Rencontre-CTTI-SANAM-3.png
END:VEVENT
END:VCALENDAR