BEGIN:VCALENDAR
VERSION:2.0
PRODID:-//Infotetquebec - ECPv6.15.20//NONSGML v1.0//EN
CALSCALE:GREGORIAN
METHOD:PUBLISH
X-WR-CALNAME:Infotetquebec
X-ORIGINAL-URL:https://www.infotetquebec.com
X-WR-CALDESC:Évènements pour Infotetquebec
REFRESH-INTERVAL;VALUE=DURATION:PT1H
X-Robots-Tag:noindex
X-PUBLISHED-TTL:PT1H
BEGIN:VTIMEZONE
TZID:America/Toronto
BEGIN:DAYLIGHT
TZOFFSETFROM:-0500
TZOFFSETTO:-0400
TZNAME:EDT
DTSTART:20250309T070000
END:DAYLIGHT
BEGIN:STANDARD
TZOFFSETFROM:-0400
TZOFFSETTO:-0500
TZNAME:EST
DTSTART:20251102T060000
END:STANDARD
BEGIN:DAYLIGHT
TZOFFSETFROM:-0500
TZOFFSETTO:-0400
TZNAME:EDT
DTSTART:20260308T070000
END:DAYLIGHT
BEGIN:STANDARD
TZOFFSETFROM:-0400
TZOFFSETTO:-0500
TZNAME:EST
DTSTART:20261101T060000
END:STANDARD
BEGIN:DAYLIGHT
TZOFFSETFROM:-0500
TZOFFSETTO:-0400
TZNAME:EDT
DTSTART:20270314T070000
END:DAYLIGHT
BEGIN:STANDARD
TZOFFSETFROM:-0400
TZOFFSETTO:-0500
TZNAME:EST
DTSTART:20271107T060000
END:STANDARD
END:VTIMEZONE
BEGIN:VEVENT
DTSTART;TZID=America/Toronto:20260315T123000
DTEND;TZID=America/Toronto:20260315T160000
DTSTAMP:20260419T105337
CREATED:20260227T203129Z
LAST-MODIFIED:20260227T203129Z
UID:27034-1773577800-1773590400@www.infotetquebec.com
SUMMARY:Saint-Césaire\, QC/Match de soccer et repas convivial pour les TET. 
DESCRIPTION:Saint-Césaire\, QC/Match de soccer et repas convivial pour les TET.  \n📍1109 Av. Saint-Paul\, Saint-Césaire\, QC J0L 1T0\, Canada \n📅 15-mars-2026.\n🕐 12h30-16h00 \nActivité de soccer suivie d’un repas convivial\, offrant à chacun l’occasion de se retrouver dans une ambiance chaleureuse et informelle. Ce moment privilégié permettra également de partager des informations utiles et de mettre en lumière les ressources disponibles pour les TET. \n👉 Cette activité est destinée aux travailleurs étrangers temporaires (avec un permis de travail fermé). \nVeuillez suivre les instructions indiquées sur l’affiche et contacter l’organisateur.
URL:https://www.infotetquebec.com/event/saint-cesaire-qc-match-de-soccer-et-repas-convivial-pour-les-tet/
LOCATION:1109 Av. Saint-Paul\, Saint-Césaire\, QC J0L 1T0\, Canada
CATEGORIES:Activité culturelle ou sportive,Activité sociale,soccer
ATTACH;FMTTYPE=image/png:https://www.infotetquebec.com/wp-content/uploads/2026/02/Du-terrain-a-la-table-FR.png
ORGANIZER;CN="Int%C3%A9gration comp%C3%A9tences":MAILTO:lilianasalgado@integrationcompetences.ca
END:VEVENT
BEGIN:VEVENT
DTSTART;TZID=America/Toronto:20260315T170000
DTEND;TZID=America/Toronto:20260315T190000
DTSTAMP:20260419T105337
CREATED:20260312T193234Z
LAST-MODIFIED:20260312T193234Z
UID:27293-1773594000-1773601200@www.infotetquebec.com
SUMMARY:Ham-Nord\, QC/Visite des TET de la ferme SELEXIE.
DESCRIPTION:Ham-Nord\, QC/Visite des TET de la ferme SELEXIE.  \n📍 571 Rte 216 O\, Ham-Nord\, QC\, Canada.\n📅 15 mars 2026\n🕐 17h00-19h00 \nVisite aux travailleurs étrangers temporaires de la ferme Selexie chez eux \n👉 Cette activité est destinée aux travailleurs étrangers temporaires de la ferme Selexie.  \nVeuillez suivre les instructions indiquées sur l’affiche et contacter l’organisateur.
URL:https://www.infotetquebec.com/event/ham-nord-qc-visite-des-tet-de-la-ferme-selexie/
LOCATION:571 Rte 216 O\, Ham-Nord\, QC\, Canada.
CATEGORIES:Activité sociale,Soirée
ATTACH;FMTTYPE=image/png:https://www.infotetquebec.com/wp-content/uploads/2026/03/Visite-a-la-ferme-Selexie-fr.png
END:VEVENT
BEGIN:VEVENT
DTSTART;TZID=America/Toronto:20260315T183000
DTEND;TZID=America/Toronto:20260315T203000
DTSTAMP:20260419T105337
CREATED:20260108T193607Z
LAST-MODIFIED:20260108T193607Z
UID:25299-1773599400-1773606600@www.infotetquebec.com
SUMMARY:Saint-Basile\, QC/Soccer intérieur pour les TET
DESCRIPTION:Saint-Basile\, QC/Soccer intérieur pour les TET \n📍Centre Ernest-J.-Papillon\, Rue Sainte Angélique\, Saint-Basile\, QC\, Canada\n  📅 Tous les dimanches janvier\, février\, mars et avril 2026.\n 🕐 18h30-20h30  \n👉 Cette activité est destinée aux travailleurs étrangers temporaires.  \nVeuillez suivre les instructions indiquées sur l’affiche et contacter l’organisateur.
URL:https://www.infotetquebec.com/event/saint-basile-qc-soccer-interieur-pour-les-tet-23/
LOCATION:Centre Ernest-J.-Papillon\, Rue Sainte Angélique\, Saint-Basile\, QC\, Canada
CATEGORIES:Activité culturelle ou sportive,soccer
ATTACH;FMTTYPE=image/png:https://www.infotetquebec.com/wp-content/uploads/2026/01/FUTSAL-ST-BASILE-HIVER-2026_-FR.png
END:VEVENT
END:VCALENDAR