BEGIN:VCALENDAR
VERSION:2.0
PRODID:-//Infotetquebec - ECPv6.15.20//NONSGML v1.0//EN
CALSCALE:GREGORIAN
METHOD:PUBLISH
X-WR-CALNAME:Infotetquebec
X-ORIGINAL-URL:https://www.infotetquebec.com
X-WR-CALDESC:Évènements pour Infotetquebec
REFRESH-INTERVAL;VALUE=DURATION:PT1H
X-Robots-Tag:noindex
X-PUBLISHED-TTL:PT1H
BEGIN:VTIMEZONE
TZID:America/Toronto
BEGIN:DAYLIGHT
TZOFFSETFROM:-0500
TZOFFSETTO:-0400
TZNAME:EDT
DTSTART:20250309T070000
END:DAYLIGHT
BEGIN:STANDARD
TZOFFSETFROM:-0400
TZOFFSETTO:-0500
TZNAME:EST
DTSTART:20251102T060000
END:STANDARD
BEGIN:DAYLIGHT
TZOFFSETFROM:-0500
TZOFFSETTO:-0400
TZNAME:EDT
DTSTART:20260308T070000
END:DAYLIGHT
BEGIN:STANDARD
TZOFFSETFROM:-0400
TZOFFSETTO:-0500
TZNAME:EST
DTSTART:20261101T060000
END:STANDARD
BEGIN:DAYLIGHT
TZOFFSETFROM:-0500
TZOFFSETTO:-0400
TZNAME:EDT
DTSTART:20270314T070000
END:DAYLIGHT
BEGIN:STANDARD
TZOFFSETFROM:-0400
TZOFFSETTO:-0500
TZNAME:EST
DTSTART:20271107T060000
END:STANDARD
END:VTIMEZONE
BEGIN:VEVENT
DTSTART;TZID=America/Toronto:20260311T153000
DTEND;TZID=America/Toronto:20260311T173000
DTSTAMP:20260421T041637
CREATED:20260305T141443Z
LAST-MODIFIED:20260305T141443Z
UID:27087-1773243000-1773250200@www.infotetquebec.com
SUMMARY:Montréal\, QC/Séance d'information sur la déclaration de revenus pour les TET. 
DESCRIPTION:Montréal\, QC/Séance d’information sur la déclaration de revenus pour les TET.  \n📍CACI/ 12049 Blvd. Laurentien\, Montréal\, Québec H4K 1N3.  \n📅 11-mars-2026.\n🕐 15h30-17h30 \nSéance d’information en français  \nTravailleurs étrangers temporaires : Vous avez des questions sur les impôts ? Cet atelier est fait pour vous ! \nPourquoi participer ? \n\nObtenez des réponses claires et adaptées à votre situation\nApprenez à mieux gérer votre argent et à protéger vos finances\nRepartez avec des conseils pratiques et applicables immédiatement\n\n👉 Cette activité est destinée aux travailleurs étrangers temporaires (avec un permis de travail fermé). \nVeuillez suivre les instructions indiquées sur l’affiche et contacter l’organisateur.
URL:https://www.infotetquebec.com/event/montreal-qc-seance-dinformation-sur-la-declaration-de-revenus-pour-les-tet/
LOCATION:12049 Blvd. Laurentien\, Montreal\, Quebec H4K 1N3
CATEGORIES:Séance d'information,Sesión de información
ATTACH;FMTTYPE=image/jpeg:https://www.infotetquebec.com/wp-content/uploads/2026/03/FLYER.jpg
ORGANIZER;CN="CACI":MAILTO:info@caci-bc.org
END:VEVENT
END:VCALENDAR