BEGIN:VCALENDAR
VERSION:2.0
PRODID:-//Infotetquebec - ECPv6.15.20//NONSGML v1.0//EN
CALSCALE:GREGORIAN
METHOD:PUBLISH
X-WR-CALNAME:Infotetquebec
X-ORIGINAL-URL:https://www.infotetquebec.com
X-WR-CALDESC:Évènements pour Infotetquebec
REFRESH-INTERVAL;VALUE=DURATION:PT1H
X-Robots-Tag:noindex
X-PUBLISHED-TTL:PT1H
BEGIN:VTIMEZONE
TZID:America/Toronto
BEGIN:DAYLIGHT
TZOFFSETFROM:-0500
TZOFFSETTO:-0400
TZNAME:EDT
DTSTART:20250309T070000
END:DAYLIGHT
BEGIN:STANDARD
TZOFFSETFROM:-0400
TZOFFSETTO:-0500
TZNAME:EST
DTSTART:20251102T060000
END:STANDARD
BEGIN:DAYLIGHT
TZOFFSETFROM:-0500
TZOFFSETTO:-0400
TZNAME:EDT
DTSTART:20260308T070000
END:DAYLIGHT
BEGIN:STANDARD
TZOFFSETFROM:-0400
TZOFFSETTO:-0500
TZNAME:EST
DTSTART:20261101T060000
END:STANDARD
BEGIN:DAYLIGHT
TZOFFSETFROM:-0500
TZOFFSETTO:-0400
TZNAME:EDT
DTSTART:20270314T070000
END:DAYLIGHT
BEGIN:STANDARD
TZOFFSETFROM:-0400
TZOFFSETTO:-0500
TZNAME:EST
DTSTART:20271107T060000
END:STANDARD
END:VTIMEZONE
BEGIN:VEVENT
DTSTART;TZID=America/Toronto:20260309T120000
DTEND;TZID=America/Toronto:20260309T130000
DTSTAMP:20260421T092448
CREATED:20260227T191538Z
LAST-MODIFIED:20260227T191538Z
UID:27022-1773057600-1773061200@www.infotetquebec.com
SUMMARY:En ligne / Webinaire : Séance d’information gratuite organisée par Justice Pro Bono pour les travailleurs étrangers temporaires (TET) en situation de fin d’emploi.
DESCRIPTION:En ligne / Webinaire : Séance d’information gratuite organisée par Justice Pro Bono pour les travailleurs étrangers temporaires (TET) en situation de fin d’emploi. \n📅 Quand : Lundi 9 mars 2026 \n🕒 Heure : De 12 h à 12h50 \n💻 Format : En ligne (séance virtuelle) \nCes séances seront offertes en deux langues\, soit en français et en espagnol. \nPour participer\, le travailleur doit s’inscrire : \n✅ En scannant le code QR figurant sur l’image \nou \n✅ En cliquant sur le lien suivant :  \n➡️  Français     Microsoft Virtual Events Powered by Teams \n➡️  Espagnol    Microsoft Virtual Events Powered by Teams \nCette séance vous offrira une présentation claire et pratique sur : \n\n Les différents types de fin d’emploi;\n Vos droits selon le type de fin d’emploi;\n Les recours possibles en droit du travail;\n Les options disponibles en immigration.\n\n👉 Cette activité est destinée aux travailleurs étrangers temporaires (avec un permis de travail fermé). \nVeuillez suivre les instructions indiquées sur l’affiche et contacter l’organisateur.
URL:https://www.infotetquebec.com/event/en-ligne-webinaire-seance-dinformation-gratuite-organisee-par-justice-pro-bono-pour-les-travailleurs-etrangers-temporaires-tet-en-situation-de-fin-demploi/
LOCATION:En ligne
CATEGORIES:Séance d'information,Sesión de información,Webinaire
ATTACH;FMTTYPE=image/png:https://www.infotetquebec.com/wp-content/uploads/2026/02/Seance-francais.png
END:VEVENT
END:VCALENDAR