BEGIN:VCALENDAR
VERSION:2.0
PRODID:-//Infotetquebec - ECPv6.15.20//NONSGML v1.0//EN
CALSCALE:GREGORIAN
METHOD:PUBLISH
X-WR-CALNAME:Infotetquebec
X-ORIGINAL-URL:https://www.infotetquebec.com
X-WR-CALDESC:Évènements pour Infotetquebec
REFRESH-INTERVAL;VALUE=DURATION:PT1H
X-Robots-Tag:noindex
X-PUBLISHED-TTL:PT1H
BEGIN:VTIMEZONE
TZID:America/Toronto
BEGIN:DAYLIGHT
TZOFFSETFROM:-0500
TZOFFSETTO:-0400
TZNAME:EDT
DTSTART:20250309T070000
END:DAYLIGHT
BEGIN:STANDARD
TZOFFSETFROM:-0400
TZOFFSETTO:-0500
TZNAME:EST
DTSTART:20251102T060000
END:STANDARD
BEGIN:DAYLIGHT
TZOFFSETFROM:-0500
TZOFFSETTO:-0400
TZNAME:EDT
DTSTART:20260308T070000
END:DAYLIGHT
BEGIN:STANDARD
TZOFFSETFROM:-0400
TZOFFSETTO:-0500
TZNAME:EST
DTSTART:20261101T060000
END:STANDARD
BEGIN:DAYLIGHT
TZOFFSETFROM:-0500
TZOFFSETTO:-0400
TZNAME:EDT
DTSTART:20270314T070000
END:DAYLIGHT
BEGIN:STANDARD
TZOFFSETFROM:-0400
TZOFFSETTO:-0500
TZNAME:EST
DTSTART:20271107T060000
END:STANDARD
END:VTIMEZONE
BEGIN:VEVENT
DTSTART;TZID=America/Toronto:20260210T104500
DTEND;TZID=America/Toronto:20260210T120000
DTSTAMP:20260421T092503
CREATED:20260202T162820Z
LAST-MODIFIED:20260202T162820Z
UID:26188-1770720300-1770724800@www.infotetquebec.com
SUMMARY:Mirabel\, QC/Atelier d’information de la police de Mirabel pour les TET.
DESCRIPTION:Mirabel\, QC/Atelier d’information de la police de Mirabel pour les TET. \n📍 13000 Chem. Bélanger\, Mirabel\, QC J7J 1P3\, Canada\n📅 10 février 2026\n🕐 10h45-12h00\nNous recevrons la police de Mirabel\, pour discuter de différents sujet : prévention du harcèlement\, de la manière de vivre ensemble en respectant les règles et des dangers de l’alcool au volant. \nConfirmer votre présence ici : \ntet@cielaurentides.com  \n📞 514-475-0326 📱 \n👉 Cette activité est destinée aux travailleurs étrangers temporaires.  \nVeuillez suivre les instructions indiquées sur l’affiche et contacter l’organisateur.
URL:https://www.infotetquebec.com/event/mirabel-qc-atelier-dinformation-de-la-police-de-mirabel-pour-les-tet/
LOCATION:13000 Chem. Bélanger\, Mirabel\, QC J7J 1P3\, Canada
CATEGORIES:Séance d'information,Sesión de información
ATTACH;FMTTYPE=image/jpeg:https://www.infotetquebec.com/wp-content/uploads/2026/02/Modele-invitation-TET-FR.jpg
END:VEVENT
BEGIN:VEVENT
DTSTART;TZID=America/Toronto:20260210T114000
DTEND;TZID=America/Toronto:20260210T124000
DTSTAMP:20260421T092503
CREATED:20260204T154738Z
LAST-MODIFIED:20260204T154738Z
UID:26350-1770723600-1770727200@www.infotetquebec.com
SUMMARY:Saint-Jean-sur-Richelieu\, QC/Séance d’information pour les TET.
DESCRIPTION:Saint-Jean-sur-Richelieu\, QC/Séance d’information pour les TET. \n📍 300 Rue Georges-Phaneuf\, Saint-Jean-sur-Richelieu\, QC\, Canada. Centre la Relance.\n 📅 10 février 2026\n 🕐 11h40-12h40 \nL’ANCRE vous invite à un moment convivial au cœur de votre milieu d’apprentissage\, à La Relance\, pour s’informer\, échanger et mieux connaître les services gratuits offerts. \n👉 Cette activité est destinée aux travailleurs étrangers temporaires.  \nVeuillez suivre les instructions indiquées sur l’affiche et contacter l’organisateur.
URL:https://www.infotetquebec.com/event/saint-jean-sur-richelieu-qc-seance-dinformation-pour-les-tet/
LOCATION:300 Rue Georges-Phaneuf\, Saint-Jean-sur-Richelieu\, QC\, Canada
CATEGORIES:Activité sociale,Réseautage,Séance d'information
ATTACH;FMTTYPE=image/png:https://www.infotetquebec.com/wp-content/uploads/2026/02/affiche-LANCRE-RELANCE-FRA.png
ORGANIZER;CN="L'ANCRE":MAILTO:karladuenas@lancre.ca
END:VEVENT
END:VCALENDAR