BEGIN:VCALENDAR
VERSION:2.0
PRODID:-//Infotetquebec - ECPv6.15.20//NONSGML v1.0//EN
CALSCALE:GREGORIAN
METHOD:PUBLISH
X-WR-CALNAME:Infotetquebec
X-ORIGINAL-URL:https://www.infotetquebec.com
X-WR-CALDESC:Évènements pour Infotetquebec
REFRESH-INTERVAL;VALUE=DURATION:PT1H
X-Robots-Tag:noindex
X-PUBLISHED-TTL:PT1H
BEGIN:VTIMEZONE
TZID:America/Toronto
BEGIN:DAYLIGHT
TZOFFSETFROM:-0500
TZOFFSETTO:-0400
TZNAME:EDT
DTSTART:20250309T070000
END:DAYLIGHT
BEGIN:STANDARD
TZOFFSETFROM:-0400
TZOFFSETTO:-0500
TZNAME:EST
DTSTART:20251102T060000
END:STANDARD
BEGIN:DAYLIGHT
TZOFFSETFROM:-0500
TZOFFSETTO:-0400
TZNAME:EDT
DTSTART:20260308T070000
END:DAYLIGHT
BEGIN:STANDARD
TZOFFSETFROM:-0400
TZOFFSETTO:-0500
TZNAME:EST
DTSTART:20261101T060000
END:STANDARD
BEGIN:DAYLIGHT
TZOFFSETFROM:-0500
TZOFFSETTO:-0400
TZNAME:EDT
DTSTART:20270314T070000
END:DAYLIGHT
BEGIN:STANDARD
TZOFFSETFROM:-0400
TZOFFSETTO:-0500
TZNAME:EST
DTSTART:20271107T060000
END:STANDARD
END:VTIMEZONE
BEGIN:VEVENT
DTSTART;TZID=America/Toronto:20260205T190000
DTEND;TZID=America/Toronto:20260205T210000
DTSTAMP:20260421T092401
CREATED:20260114T133520Z
LAST-MODIFIED:20260114T133520Z
UID:25642-1770318000-1770325200@www.infotetquebec.com
SUMMARY:Saint-Ubalde\, QC/Soirée de socialisation avec jeux de table pour les TET.
DESCRIPTION:Saint-Ubalde\, QC/Soirée de socialisation avec jeux de table pour les TET. \n📍  St-Ubalde Arena\, Rue de l’Aréna\, Saint-Ubalde\, QC\, Canada\n 📅 5 février 2026\n 🕐 19h00-21h00 \nSoirée de socialisation avec jeux de table et soupe chaude \n👉 Cette activité est destinée aux travailleurs étrangers temporaires.  \nVeuillez suivre les instructions indiquées sur l’affiche et contacter l’organisateur.
URL:https://www.infotetquebec.com/event/saint-ubalde-qc-soiree-de-socialisation-avec-jeux-de-table-pour-les-tet/
LOCATION:St-Ubalde Arena\, Rue de l’Aréna\, Saint-Ubalde\, QC\, Canada
CATEGORIES:Activité culturelle ou sportive,Activité sociale,Soirée
ATTACH;FMTTYPE=image/png:https://www.infotetquebec.com/wp-content/uploads/2026/01/jeux-de-table-SAINT-UBALDE.png
END:VEVENT
END:VCALENDAR