BEGIN:VCALENDAR
VERSION:2.0
PRODID:-//Infotetquebec - ECPv6.15.20//NONSGML v1.0//EN
CALSCALE:GREGORIAN
METHOD:PUBLISH
X-WR-CALNAME:Infotetquebec
X-ORIGINAL-URL:https://www.infotetquebec.com
X-WR-CALDESC:Évènements pour Infotetquebec
REFRESH-INTERVAL;VALUE=DURATION:PT1H
X-Robots-Tag:noindex
X-PUBLISHED-TTL:PT1H
BEGIN:VTIMEZONE
TZID:America/Toronto
BEGIN:DAYLIGHT
TZOFFSETFROM:-0500
TZOFFSETTO:-0400
TZNAME:EDT
DTSTART:20250309T070000
END:DAYLIGHT
BEGIN:STANDARD
TZOFFSETFROM:-0400
TZOFFSETTO:-0500
TZNAME:EST
DTSTART:20251102T060000
END:STANDARD
BEGIN:DAYLIGHT
TZOFFSETFROM:-0500
TZOFFSETTO:-0400
TZNAME:EDT
DTSTART:20260308T070000
END:DAYLIGHT
BEGIN:STANDARD
TZOFFSETFROM:-0400
TZOFFSETTO:-0500
TZNAME:EST
DTSTART:20261101T060000
END:STANDARD
BEGIN:DAYLIGHT
TZOFFSETFROM:-0500
TZOFFSETTO:-0400
TZNAME:EDT
DTSTART:20270314T070000
END:DAYLIGHT
BEGIN:STANDARD
TZOFFSETFROM:-0400
TZOFFSETTO:-0500
TZNAME:EST
DTSTART:20271107T060000
END:STANDARD
END:VTIMEZONE
BEGIN:VEVENT
DTSTART;TZID=America/Toronto:20260202T173000
DTEND;TZID=America/Toronto:20260202T193000
DTSTAMP:20260421T092445
CREATED:20260126T150355Z
LAST-MODIFIED:20260126T150355Z
UID:26066-1770053400-1770060600@www.infotetquebec.com
SUMMARY:Saint-François-Xavier-de-Brompton\, QC / Visite des TET de la ferme Porc-Saint
DESCRIPTION:Saint-François-Xavier-de-Brompton\, QC / Visite des TET de la ferme Porc-Saint \n📍 159 2e Rang\, Saint-François-Xavier-de-Brompton\, QC\, Canada\n 📅 2 février 2026\n 🕐 17h30-19h30 \nVisite à la ferme Porc-Saint pour travailleurs étrangers temporaires \n👉 Cette activité est destinée aux travailleurs étrangers temporaires.  \nVeuillez suivre les instructions indiquées sur l’affiche et contacter l’organisateur.
URL:https://www.infotetquebec.com/event/saint-francois-xavier-de-brompton-qc-visite-des-tet-de-la-ferme-porc-saint/
LOCATION:159 2e Rang\, Saint-François-Xavier-de-Brompton\, QC\, Canada
CATEGORIES:Activité sociale,soirée
ATTACH;FMTTYPE=image/png:https://www.infotetquebec.com/wp-content/uploads/2026/01/Soiree-latina-fr-1.png
END:VEVENT
END:VCALENDAR