BEGIN:VCALENDAR
VERSION:2.0
PRODID:-//Infotetquebec - ECPv6.15.20//NONSGML v1.0//EN
CALSCALE:GREGORIAN
METHOD:PUBLISH
X-WR-CALNAME:Infotetquebec
X-ORIGINAL-URL:https://www.infotetquebec.com
X-WR-CALDESC:Évènements pour Infotetquebec
REFRESH-INTERVAL;VALUE=DURATION:PT1H
X-Robots-Tag:noindex
X-PUBLISHED-TTL:PT1H
BEGIN:VTIMEZONE
TZID:America/Toronto
BEGIN:DAYLIGHT
TZOFFSETFROM:-0500
TZOFFSETTO:-0400
TZNAME:EDT
DTSTART:20240310T070000
END:DAYLIGHT
BEGIN:STANDARD
TZOFFSETFROM:-0400
TZOFFSETTO:-0500
TZNAME:EST
DTSTART:20241103T060000
END:STANDARD
BEGIN:DAYLIGHT
TZOFFSETFROM:-0500
TZOFFSETTO:-0400
TZNAME:EDT
DTSTART:20250309T070000
END:DAYLIGHT
BEGIN:STANDARD
TZOFFSETFROM:-0400
TZOFFSETTO:-0500
TZNAME:EST
DTSTART:20251102T060000
END:STANDARD
BEGIN:DAYLIGHT
TZOFFSETFROM:-0500
TZOFFSETTO:-0400
TZNAME:EDT
DTSTART:20260308T070000
END:DAYLIGHT
BEGIN:STANDARD
TZOFFSETFROM:-0400
TZOFFSETTO:-0500
TZNAME:EST
DTSTART:20261101T060000
END:STANDARD
END:VTIMEZONE
BEGIN:VEVENT
DTSTART;TZID=America/Toronto:20251221T170000
DTEND;TZID=America/Toronto:20251221T200000
DTSTAMP:20260425T134529
CREATED:20251205T144858Z
LAST-MODIFIED:20251205T144858Z
UID:24438-1766336400-1766347200@www.infotetquebec.com
SUMMARY:Drummondville\, QC/ Village illuminé pour les TET.
DESCRIPTION:Drummondville\, QC/ Village illuminé pour les TET. \n📍1425\, Rue Montplaisir\, Drummondville. Qc. Village Québécois d’Antan \n📅 21-décembre-2025 \n🕐 17h00-20h00  \n👉 Cette activité est destinée aux travailleurs étrangers temporaires.  \nVeuillez suivre les instructions indiquées sur l’affiche et contacter l’organisateur. \nPour célébrer la magie des fêtes\, Drummond économique est heureuse de vous inviter à une activité d’intégration unique au Village québécois d’antan. \nPlongez dans l’ambiance chaleureuse d’un village d’autrefois\, illuminé par des milliers de lumières et décoré pour l’hiver. Découvrez ses rues enneigées\, ses maisons historiques et ses animations qui vous feront vivre un Noël traditionnel québécois. \nPlaces limitées \nInscription obligatoire avant le 15 décembre 2025 \nTravailleurs avec permis fermés : Gratuit \nAucun transport offert. Si vous avez besoin d’un transport\, indiquez-le lors de l’inscription. Un système de covoiturage pourra être organisé. \nImportant : Habillez-vous chaudement pour profiter pleinement de l’expérience extérieure.
URL:https://www.infotetquebec.com/event/drummondville-qc-village-illumine-pour-les-tet/
LOCATION:1425\, Rue Montplaisir\, Drummondville. Qc.
CATEGORIES:Activité sociale,Fête
ATTACH;FMTTYPE=image/jpeg:https://www.infotetquebec.com/wp-content/uploads/2025/12/Village-illumine-Desjardins_FR.jpg
END:VEVENT
BEGIN:VEVENT
DTSTART;TZID=America/Toronto:20251221T173000
DTEND;TZID=America/Toronto:20251221T193000
DTSTAMP:20260425T134529
CREATED:20251010T173914Z
LAST-MODIFIED:20251010T173914Z
UID:23213-1766338200-1766345400@www.infotetquebec.com
SUMMARY:Saint-Basile\, QC/Soccer intérieur pour les TET
DESCRIPTION:Saint-Basile\, QC/Soccer intérieur pour les TET \n📍Centre Ernest-J.-Papillon\, Rue Sainte Angélique\, Saint-Basile\, QC\, Canada\n  📅 Tous les dimanches du 12 octobre -28 décembre 2025\n 🕐 17h30-19h30  \n👉 Cette activité est destinée aux travailleurs étrangers temporaires.  \nVeuillez suivre les instructions indiquées sur l’affiche et contacter l’organisateur.
URL:https://www.infotetquebec.com/event/saint-basile-qc-soccer-interieur-pour-les-tet-11/
LOCATION:Centre Ernest-J.-Papillon\, Rue Sainte Angélique\, Saint-Basile\, QC\, Canada
CATEGORIES:Activité culturelle ou sportive,soccer
ATTACH;FMTTYPE=image/png:https://www.infotetquebec.com/wp-content/uploads/2025/10/SOCCER-INTERIEUR-FR.png
END:VEVENT
END:VCALENDAR