BEGIN:VCALENDAR
VERSION:2.0
PRODID:-//Infotetquebec - ECPv6.15.20//NONSGML v1.0//EN
CALSCALE:GREGORIAN
METHOD:PUBLISH
X-ORIGINAL-URL:https://www.infotetquebec.com
X-WR-CALDESC:Évènements pour Infotetquebec
REFRESH-INTERVAL;VALUE=DURATION:PT1H
X-Robots-Tag:noindex
X-PUBLISHED-TTL:PT1H
BEGIN:VTIMEZONE
TZID:America/Toronto
BEGIN:DAYLIGHT
TZOFFSETFROM:-0500
TZOFFSETTO:-0400
TZNAME:EDT
DTSTART:20240310T070000
END:DAYLIGHT
BEGIN:STANDARD
TZOFFSETFROM:-0400
TZOFFSETTO:-0500
TZNAME:EST
DTSTART:20241103T060000
END:STANDARD
BEGIN:DAYLIGHT
TZOFFSETFROM:-0500
TZOFFSETTO:-0400
TZNAME:EDT
DTSTART:20250309T070000
END:DAYLIGHT
BEGIN:STANDARD
TZOFFSETFROM:-0400
TZOFFSETTO:-0500
TZNAME:EST
DTSTART:20251102T060000
END:STANDARD
BEGIN:DAYLIGHT
TZOFFSETFROM:-0500
TZOFFSETTO:-0400
TZNAME:EDT
DTSTART:20260308T070000
END:DAYLIGHT
BEGIN:STANDARD
TZOFFSETFROM:-0400
TZOFFSETTO:-0500
TZNAME:EST
DTSTART:20261101T060000
END:STANDARD
END:VTIMEZONE
BEGIN:VEVENT
DTSTART;TZID=America/Toronto:20251219T190000
DTEND;TZID=America/Toronto:20251219T210000
DTSTAMP:20260425T152106
CREATED:20251128T171323Z
LAST-MODIFIED:20251215T202154Z
UID:24395-1766170800-1766178000@www.infotetquebec.com
SUMMARY:Victoriaville\, QC/ Soirée de Noël pour les TET.
DESCRIPTION:Victoriaville\, QC/ Soirée de Noël pour les TET. \n📍905 Boulevard des Bois Francs Sud\, Victoriaville\, QC.  \n📅 19-décembre-2025\n🕐 19h00-21h00  \n👉 Cette activité est destinée aux travailleurs étrangers temporaires.  \nVeuillez suivre les instructions indiquées sur l’affiche et contacter l’organisateur. \nFête de Noël pour les travailleurs étrangers temporaires afin de leur offrir un moment de plaisir\, de rapprochement et de convivialité. Ils pourront partager un repas festif\, participer à des activités amusantes et profiter d’une soirée chaleureuse qui leur permettra de créer des liens et de se sentir moins isolés pendant la période des Fêtes.
URL:https://www.infotetquebec.com/event/24395/
LOCATION:905 Boulevard des Bois Francs Sud\, Victoriaville\, QC.
CATEGORIES:Fête,Soirée
ATTACH;FMTTYPE=image/png:https://www.infotetquebec.com/wp-content/uploads/2025/11/Invitation-Soiree-de-Noel-Francais.png
END:VEVENT
END:VCALENDAR