BEGIN:VCALENDAR
VERSION:2.0
PRODID:-//Infotetquebec - ECPv6.15.20//NONSGML v1.0//EN
CALSCALE:GREGORIAN
METHOD:PUBLISH
X-WR-CALNAME:Infotetquebec
X-ORIGINAL-URL:https://www.infotetquebec.com
X-WR-CALDESC:Évènements pour Infotetquebec
REFRESH-INTERVAL;VALUE=DURATION:PT1H
X-Robots-Tag:noindex
X-PUBLISHED-TTL:PT1H
BEGIN:VTIMEZONE
TZID:America/Toronto
BEGIN:DAYLIGHT
TZOFFSETFROM:-0500
TZOFFSETTO:-0400
TZNAME:EDT
DTSTART:20240310T070000
END:DAYLIGHT
BEGIN:STANDARD
TZOFFSETFROM:-0400
TZOFFSETTO:-0500
TZNAME:EST
DTSTART:20241103T060000
END:STANDARD
BEGIN:DAYLIGHT
TZOFFSETFROM:-0500
TZOFFSETTO:-0400
TZNAME:EDT
DTSTART:20250309T070000
END:DAYLIGHT
BEGIN:STANDARD
TZOFFSETFROM:-0400
TZOFFSETTO:-0500
TZNAME:EST
DTSTART:20251102T060000
END:STANDARD
BEGIN:DAYLIGHT
TZOFFSETFROM:-0500
TZOFFSETTO:-0400
TZNAME:EDT
DTSTART:20260308T070000
END:DAYLIGHT
BEGIN:STANDARD
TZOFFSETFROM:-0400
TZOFFSETTO:-0500
TZNAME:EST
DTSTART:20261101T060000
END:STANDARD
END:VTIMEZONE
BEGIN:VEVENT
DTSTART;TZID=America/Toronto:20251128T150000
DTEND;TZID=America/Toronto:20251128T170000
DTSTAMP:20260425T151742
CREATED:20251103T195106Z
LAST-MODIFIED:20251103T195106Z
UID:23662-1764342000-1764349200@www.infotetquebec.com
SUMMARY:Matane\, QC/Atelier d'information avec la CNESST pour les TET
DESCRIPTION:Matane\, QC/Atelier d’information avec la CNESST pour les TET \n📍289 Rue du Bon Pasteur\, Matane\, QC\, Canada \n📅 28 novembre 2025\n🕐 15h00-17h00  \n👉 Cette activité est destinée aux travailleurs étrangers temporaires.  \nVeuillez suivre les instructions indiquées sur l’affiche et contacter l’organisateur. \nAvec la collaboration de la CNESST deux ateliers sont proposés durant la semaine et avec horaires différents pour réussir rejoindre les travailleurs que ne sont pas disponibles en fin de semaine. \nLes thématiques à aborder seront les Normes du travail et Santé et sécurité au travail.
URL:https://www.infotetquebec.com/event/matane-qc-atelier-dinformation-avec-la-cnesst-pour-les-tet-2/
LOCATION:289 Rue du Bon Pasteur\, Matane\, QC\, Canada
CATEGORIES:Séance d'information,Sesión de información
ATTACH;FMTTYPE=image/png:https://www.infotetquebec.com/wp-content/uploads/2025/11/Atelier-CNESST-Francais.png
END:VEVENT
BEGIN:VEVENT
DTSTART;TZID=America/Toronto:20251128T180000
DTEND;TZID=America/Toronto:20251128T210000
DTSTAMP:20260425T151742
CREATED:20251106T163526Z
LAST-MODIFIED:20251106T164010Z
UID:23778-1764352800-1764363600@www.infotetquebec.com
SUMMARY:Granby\, QC/Souper des fêtes pour les TET. 
DESCRIPTION:Granby\, QC/Souper des fêtes pour les TET.  \n📍181 Rue Principale\, Granby\, QC J2G 2V5.  \nChez Bivic\, Rue Principale\, Granby\, QC\, Canada \n📅 28-novembre-2025 \n🕐 18h00-21h00  \n👉 Cette activité est destinée aux travailleurs étrangers temporaires.  \nVeuillez suivre les instructions indiquées sur l’affiche et contacter l’organisateur. \nPlaces limitées. \nGranby Industriel convie les TET à un souper festif afin de célébrer la fin de l’année\, se rappeler que l’hiver approche vite\, réseauter et se connaître davantage dans la paix\, la joie et la reconnaissance.
URL:https://www.infotetquebec.com/event/granby-qc-souper-des-fetes-pour-les-tet/
LOCATION:181 Rue Principale\, Granby\, QC J2G 2V5.
ATTACH;FMTTYPE=image/png:https://www.infotetquebec.com/wp-content/uploads/2025/11/Francais-1-min.png
ORGANIZER;CN="Granby Industriel":MAILTO:ga.brand@granby-industriel.com
END:VEVENT
BEGIN:VEVENT
DTSTART;TZID=America/Toronto:20251128T190000
DTEND;TZID=America/Toronto:20251128T210000
DTSTAMP:20260425T151742
CREATED:20250926T171617Z
LAST-MODIFIED:20250926T171617Z
UID:22959-1764356400-1764363600@www.infotetquebec.com
SUMMARY:Coaticook\, QC/Soccer à Coaticook pour les TET
DESCRIPTION:Coaticook\, QC/Soccer à Coaticook pour les TET \n📍 497 Rue Saint-Jean-Baptiste\, Coaticook\, QC J1A 1G1\, Canada\n 📅 Tous les vendredis du 26 septembre -12 décembre 2025\n 🕐 19h00-21h00 \n👉 Cette activité est destinée aux travailleurs étrangers temporaires (avec un permis de travail fermé). \nVeuillez suivre les instructions indiquées sur l’affiche et contacter l’organisateur.
URL:https://www.infotetquebec.com/event/coaticook-qc-soccer-a-coaticook-pour-les-tet-10/
LOCATION:497 Rue Saint-Jean-Baptiste\, Coaticook\, QC J1A 1G1\, Canada
CATEGORIES:Activité culturelle ou sportive,soccer
ATTACH;FMTTYPE=image/png:https://www.infotetquebec.com/wp-content/uploads/2025/09/EOS-Soccer-Coaticook-interieur-2025-fr.png
END:VEVENT
BEGIN:VEVENT
DTSTART;TZID=America/Toronto:20251128T190000
DTEND;TZID=America/Toronto:20251128T220000
DTSTAMP:20260425T151742
CREATED:20251114T144303Z
LAST-MODIFIED:20251114T144303Z
UID:23898-1764356400-1764367200@www.infotetquebec.com
SUMMARY:Sept-Îles\, QC/Soirée de quilles pour les TET. 
DESCRIPTION:Sept-Îles\, QC/Soirée de quilles pour les TET.  \n📍160 Rue Régnault\, Sept-Îles\, QC\, Canada \n📅 28-novembre-2025 \n🕐 19h00-22h00  \n👉 Cette activité est destinée aux travailleurs étrangers temporaires.  \nVeuillez suivre les instructions indiquées sur l’affiche et contacter l’organisateur. \nCentre Alpha Lira est heureuse de vous inviter à une soirée de quilles! Venez pratiquer ce sport accessible à tous et profiter de l’occasion pour faire de nouvelles rencontres!
URL:https://www.infotetquebec.com/event/sept-iles-qc-soiree-de-quilles-pour-les-tet/
LOCATION:160 Rue Régnault\, Sept-Îles\, QC\, Canada
CATEGORIES:Bowling,Soirée
ATTACH;FMTTYPE=image/png:https://www.infotetquebec.com/wp-content/uploads/2025/11/Soiree-quilles-Francais.png
END:VEVENT
END:VCALENDAR