BEGIN:VCALENDAR
VERSION:2.0
PRODID:-//Infotetquebec - ECPv6.15.20//NONSGML v1.0//EN
CALSCALE:GREGORIAN
METHOD:PUBLISH
X-ORIGINAL-URL:https://www.infotetquebec.com
X-WR-CALDESC:Évènements pour Infotetquebec
REFRESH-INTERVAL;VALUE=DURATION:PT1H
X-Robots-Tag:noindex
X-PUBLISHED-TTL:PT1H
BEGIN:VTIMEZONE
TZID:America/Toronto
BEGIN:DAYLIGHT
TZOFFSETFROM:-0500
TZOFFSETTO:-0400
TZNAME:EDT
DTSTART:20240310T070000
END:DAYLIGHT
BEGIN:STANDARD
TZOFFSETFROM:-0400
TZOFFSETTO:-0500
TZNAME:EST
DTSTART:20241103T060000
END:STANDARD
BEGIN:DAYLIGHT
TZOFFSETFROM:-0500
TZOFFSETTO:-0400
TZNAME:EDT
DTSTART:20250309T070000
END:DAYLIGHT
BEGIN:STANDARD
TZOFFSETFROM:-0400
TZOFFSETTO:-0500
TZNAME:EST
DTSTART:20251102T060000
END:STANDARD
BEGIN:DAYLIGHT
TZOFFSETFROM:-0500
TZOFFSETTO:-0400
TZNAME:EDT
DTSTART:20260308T070000
END:DAYLIGHT
BEGIN:STANDARD
TZOFFSETFROM:-0400
TZOFFSETTO:-0500
TZNAME:EST
DTSTART:20261101T060000
END:STANDARD
END:VTIMEZONE
BEGIN:VEVENT
DTSTART;TZID=America/Toronto:20251121T190000
DTEND;TZID=America/Toronto:20251121T210000
DTSTAMP:20260425T151227
CREATED:20250926T171538Z
LAST-MODIFIED:20250926T171538Z
UID:22957-1763751600-1763758800@www.infotetquebec.com
SUMMARY:Coaticook\, QC/Soccer à Coaticook pour les TET
DESCRIPTION:Coaticook\, QC/Soccer à Coaticook pour les TET \n📍 497 Rue Saint-Jean-Baptiste\, Coaticook\, QC J1A 1G1\, Canada\n 📅 Tous les vendredis du 26 septembre -12 décembre 2025\n 🕐 19h00-21h00 \n👉 Cette activité est destinée aux travailleurs étrangers temporaires (avec un permis de travail fermé). \nVeuillez suivre les instructions indiquées sur l’affiche et contacter l’organisateur.
URL:https://www.infotetquebec.com/event/coaticook-qc-soccer-a-coaticook-pour-les-tet-9/
LOCATION:497 Rue Saint-Jean-Baptiste\, Coaticook\, QC J1A 1G1\, Canada
CATEGORIES:Activité culturelle ou sportive,soccer
ATTACH;FMTTYPE=image/png:https://www.infotetquebec.com/wp-content/uploads/2025/09/EOS-Soccer-Coaticook-interieur-2025-fr.png
END:VEVENT
BEGIN:VEVENT
DTSTART;TZID=America/Toronto:20251121T190000
DTEND;TZID=America/Toronto:20251121T210000
DTSTAMP:20260425T151227
CREATED:20251027T180056Z
LAST-MODIFIED:20251027T180056Z
UID:23629-1763751600-1763758800@www.infotetquebec.com
SUMMARY:Boisbriand\, QC/Match de hockey pour les TET
DESCRIPTION:Boisbriand\, QC/Match de hockey pour les TET \n📍Centre d’Excellence Sports Rousseau\, Boulevard de la Grande-Allée\, Boisbriand\, QC. \n3600 Bd de la Grande-Allée #1\, Boisbriand\, QC J7H 1M9 \n📅 21 novembre 2025\n🕐 19h00-21h00  \n👉 Cette activité est destinée aux travailleurs étrangers temporaires.  \nVeuillez suivre les instructions indiquées sur l’affiche et contacter l’organisateur.
URL:https://www.infotetquebec.com/event/boisbriand-qc-match-de-hockey-pour-les-tet/
LOCATION:3600 Bd de la Grande-Allée #1\, Boisbriand\, QC J7H 1M9
CATEGORIES:Activité culturelle ou sportive,Hockey
ATTACH;FMTTYPE=image/jpeg:https://www.infotetquebec.com/wp-content/uploads/2025/10/Match-de-Hockey-21-novembre-2025-1_page-0001-min.jpg
END:VEVENT
END:VCALENDAR