BEGIN:VCALENDAR
VERSION:2.0
PRODID:-//Infotetquebec - ECPv6.15.20//NONSGML v1.0//EN
CALSCALE:GREGORIAN
METHOD:PUBLISH
X-ORIGINAL-URL:https://www.infotetquebec.com
X-WR-CALDESC:Évènements pour Infotetquebec
REFRESH-INTERVAL;VALUE=DURATION:PT1H
X-Robots-Tag:noindex
X-PUBLISHED-TTL:PT1H
BEGIN:VTIMEZONE
TZID:America/Toronto
BEGIN:DAYLIGHT
TZOFFSETFROM:-0500
TZOFFSETTO:-0400
TZNAME:EDT
DTSTART:20240310T070000
END:DAYLIGHT
BEGIN:STANDARD
TZOFFSETFROM:-0400
TZOFFSETTO:-0500
TZNAME:EST
DTSTART:20241103T060000
END:STANDARD
BEGIN:DAYLIGHT
TZOFFSETFROM:-0500
TZOFFSETTO:-0400
TZNAME:EDT
DTSTART:20250309T070000
END:DAYLIGHT
BEGIN:STANDARD
TZOFFSETFROM:-0400
TZOFFSETTO:-0500
TZNAME:EST
DTSTART:20251102T060000
END:STANDARD
BEGIN:DAYLIGHT
TZOFFSETFROM:-0500
TZOFFSETTO:-0400
TZNAME:EDT
DTSTART:20260308T070000
END:DAYLIGHT
BEGIN:STANDARD
TZOFFSETFROM:-0400
TZOFFSETTO:-0500
TZNAME:EST
DTSTART:20261101T060000
END:STANDARD
END:VTIMEZONE
BEGIN:VEVENT
DTSTART;TZID=America/Toronto:20251118T180000
DTEND;TZID=America/Toronto:20251118T190000
DTSTAMP:20260425T152108
CREATED:20251114T153518Z
LAST-MODIFIED:20251114T153518Z
UID:23927-1763488800-1763492400@www.infotetquebec.com
SUMMARY:Émission de radio pour les TÉT / Séance d'information sur les services du projet pour les TÉT/96.7 CING FM
DESCRIPTION:Émission de radio pour les TÉT / Séance d’information sur les services du projet pour les TÉT/96.7 CING FM \n📻96.7 CING FM\n  📅 18-novembre-2025\n 🕐 18h00-19h00 \n👉 Cette activité est destinée aux travailleurs étrangers temporaires.  \nSéance d’information sur les services du projet pour les TÉT \nÉmission de radio en ligne \nhttps://cignfm.ca/streaming-player/player.php  \nVeuillez suivre les instructions indiquées sur l’affiche.
URL:https://www.infotetquebec.com/event/emission-de-radio-pour-les-tet-seance-dinformation-sur-les-services-du-projet-pour-les-tet-96-7-cing-fm-3/
LOCATION:À la radio\, CIGN FM 96\,7\, Coaticook\, Québec\, Canada
CATEGORIES:Séance d'information
ATTACH;FMTTYPE=image/png:https://www.infotetquebec.com/wp-content/uploads/2025/11/CIGN-FM-96.7-Radio-cooperative-de-Coaticook-fr.png
END:VEVENT
BEGIN:VEVENT
DTSTART;TZID=America/Toronto:20251118T180000
DTEND;TZID=America/Toronto:20251118T200000
DTSTAMP:20260425T152108
CREATED:20251110T211420Z
LAST-MODIFIED:20251110T211420Z
UID:23869-1763488800-1763496000@www.infotetquebec.com
SUMMARY:Drummondville\, QC/Soirée de quilles pour les TET. 
DESCRIPTION:Drummondville\, QC/Soirée de quilles pour les TET.  \n📍600 Rue Cormier\, Drummondville\, QC\, Canada \n📅 18-novembre-2025 \n🕐 18h00-20h00  \n👉 Cette activité est destinée aux travailleurs étrangers temporaires.  \nVeuillez suivre les instructions indiquées sur l’affiche et contacter l’organisateur. \nPlaces limitées.- Date limite pour s’inscrire : 15 novembre \nDrummond économique est heureuse de vous inviter à une soirée de quilles au Centre Divertissement Drummond! Venez pratiquer ce sport accessible à tous et profiter de l’occasion pour faire de nouvelles rencontres!
URL:https://www.infotetquebec.com/event/drummondville-qc-soiree-de-quilles-pour-les-tet/
LOCATION:600 Rue Cormier\, Drummondville\, QC\, Canada
CATEGORIES:Activité culturelle ou sportive,Bowling
ATTACH;FMTTYPE=image/jpeg:https://www.infotetquebec.com/wp-content/uploads/2025/11/18-novembre-Francais-2.jpg
END:VEVENT
BEGIN:VEVENT
DTSTART;TZID=America/Toronto:20251118T193000
DTEND;TZID=America/Toronto:20251118T210000
DTSTAMP:20260425T152108
CREATED:20251118T144613Z
LAST-MODIFIED:20251118T144613Z
UID:23947-1763494200-1763499600@www.infotetquebec.com
SUMMARY:Cookshire-Eaton\, QC/Fête d'au revoir pour les TET. 
DESCRIPTION:Cookshire-Eaton\, QC/Fête d’au revoir pour les TET.  \n📍80 Rue Principale Est\, Cookshire-Eaton\, QC.  \n📅 18-novembre-2025 \n🕐 19h30-21h00  \n👉 Cette activité est destinée aux travailleurs étrangers temporaires.  \nVeuillez suivre les instructions indiquées sur l’affiche et contacter l’organisateur. \nFête d’au revoir pour les TET agricoles de la regions de Cookshire-Eaton pour souligner le travail et l’apport à l’économie locale
URL:https://www.infotetquebec.com/event/cookshire-eaton-qc-fete-dau-revoir-pour-les-tet/
LOCATION:80 Rue Principale Est\, Cookshire-Eaton\, QC.
CATEGORIES:Fête,Soirée
ATTACH;FMTTYPE=image/png:https://www.infotetquebec.com/wp-content/uploads/2025/11/Fetes-dau-revoir-fr.png
END:VEVENT
END:VCALENDAR