BEGIN:VCALENDAR
VERSION:2.0
PRODID:-//Infotetquebec - ECPv6.15.20//NONSGML v1.0//EN
CALSCALE:GREGORIAN
METHOD:PUBLISH
X-WR-CALNAME:Infotetquebec
X-ORIGINAL-URL:https://www.infotetquebec.com
X-WR-CALDESC:Évènements pour Infotetquebec
REFRESH-INTERVAL;VALUE=DURATION:PT1H
X-Robots-Tag:noindex
X-PUBLISHED-TTL:PT1H
BEGIN:VTIMEZONE
TZID:America/Toronto
BEGIN:DAYLIGHT
TZOFFSETFROM:-0500
TZOFFSETTO:-0400
TZNAME:EDT
DTSTART:20240310T070000
END:DAYLIGHT
BEGIN:STANDARD
TZOFFSETFROM:-0400
TZOFFSETTO:-0500
TZNAME:EST
DTSTART:20241103T060000
END:STANDARD
BEGIN:DAYLIGHT
TZOFFSETFROM:-0500
TZOFFSETTO:-0400
TZNAME:EDT
DTSTART:20250309T070000
END:DAYLIGHT
BEGIN:STANDARD
TZOFFSETFROM:-0400
TZOFFSETTO:-0500
TZNAME:EST
DTSTART:20251102T060000
END:STANDARD
BEGIN:DAYLIGHT
TZOFFSETFROM:-0500
TZOFFSETTO:-0400
TZNAME:EDT
DTSTART:20260308T070000
END:DAYLIGHT
BEGIN:STANDARD
TZOFFSETFROM:-0400
TZOFFSETTO:-0500
TZNAME:EST
DTSTART:20261101T060000
END:STANDARD
END:VTIMEZONE
BEGIN:VEVENT
DTSTART;TZID=America/Toronto:20250927T110000
DTEND;TZID=America/Toronto:20250927T120000
DTSTAMP:20260425T182548
CREATED:20250918T170638Z
LAST-MODIFIED:20250918T171205Z
UID:22644-1758970800-1758974400@www.infotetquebec.com
SUMMARY:Webinaire/Atelier virtuel portant sur les services gratuits de traduction pour les TET
DESCRIPTION:Webinaire/Atelier virtuel portant sur les services gratuits de traduction pour les TET \n📍 Webinaire/ Serres Savoura Mirabel\n  📅 27-septembre-2025\n 🕐 11h00-12h00 \n👉 Cette activité est destinée aux travailleurs étrangers temporaires.  \nVeuillez suivre les instructions indiquées sur l’affiche et contacter l’organisateur. \n 
URL:https://www.infotetquebec.com/event/webinaire-atelier-virtuel-portant-sur-les-services-gratuits-de-traduction-pour-les-tet/
LOCATION:En ligne
CATEGORIES:Séance d'information,Sesión de información
ATTACH;FMTTYPE=image/jpeg:https://www.infotetquebec.com/wp-content/uploads/2025/09/Modele-invitation-TET_page-0002.jpg
END:VEVENT
BEGIN:VEVENT
DTSTART;TZID=America/Toronto:20250927T140000
DTEND;TZID=America/Toronto:20250927T170000
DTSTAMP:20260425T182548
CREATED:20250922T182442Z
LAST-MODIFIED:20250922T182442Z
UID:22845-1758981600-1758992400@www.infotetquebec.com
SUMMARY:Cap-Saint-Ignace\, QC/Cueillette de pommes pour les TET
DESCRIPTION:Cap-Saint-Ignace\, QC/Cueillette de pommes pour les TET \n📍 1308 Chem. Bellevue O\, Cap-Saint-Ignace\, QC G0R 1H0\n  📅 27-septembre-2025\n 🕐 14h00-17h00 \n👉 Cette activité est destinée aux travailleurs étrangers temporaires.  \nVeuillez suivre les instructions indiquées sur l’affiche et contacter l’organisateur.
URL:https://www.infotetquebec.com/event/cap-saint-ignace-qc-cueillette-de-pommes-pour-les-tet/
LOCATION:1308 Chem. Bellevue O\, Cap-Saint-Ignace\, QC G0R 1H0
CATEGORIES:Activité culturelle ou sportive,Activité sociale
ATTACH;FMTTYPE=image/png:https://www.infotetquebec.com/wp-content/uploads/2025/09/visuel-cueillette-pommes-.png
ORGANIZER;CN="Corporation de d%C3%A9veloppement %C3%A9conomique de la MRC de Montmagny (CDEMM)":MAILTO:abrebion@cgocable.ca
END:VEVENT
BEGIN:VEVENT
DTSTART;TZID=America/Toronto:20250927T180000
DTEND;TZID=America/Toronto:20250927T210000
DTSTAMP:20260425T182548
CREATED:20250926T153225Z
LAST-MODIFIED:20250926T153515Z
UID:22885-1758996000-1759006800@www.infotetquebec.com
SUMMARY:Saint-Raymond\, QC / SOCCER POUR LES TET
DESCRIPTION:Saint-Raymond\, QC /Rencontres de soccer fin de saison pour TET \n📍 175 Route des Pionniers-Saint-Raymond\, QC G0A\, Canada\n 📅 Samedi 27 septembre 2025\n 🕐 18h00 \n👉 Cette activité est destinée aux travailleurs étrangers temporaires (avec un permis de travail fermé). \nVeuillez suivre les instructions indiquées sur l’affiche.
URL:https://www.infotetquebec.com/event/saint-raymond-qc-soccer-pour-les-tet/
LOCATION:175 Route des Pionniers-Saint-Raymond\, QC G0A\, Canada
CATEGORIES:Activité culturelle ou sportive,soccer
ATTACH;FMTTYPE=image/png:https://www.infotetquebec.com/wp-content/uploads/2025/09/1.png
END:VEVENT
BEGIN:VEVENT
DTSTART;TZID=America/Toronto:20250927T190000
DTEND;TZID=America/Toronto:20250927T210000
DTSTAMP:20260425T182548
CREATED:20250717T154631Z
LAST-MODIFIED:20250717T154631Z
UID:21452-1758999600-1759006800@www.infotetquebec.com
SUMMARY:Val-des-Sources\, QC/Soccer extérieur Val-des-Sources.
DESCRIPTION:Val-des-Sources\, QC/Soccer extérieur Val-des-Sources. \n📍 Parc Du Centenaire\, 517 1ere Avenue\, Val-des-Sources\, QC J1T 3X4\, Canada\n 📅 Tous les samedis du 19 juillet -27 septembre 2025\n 🕐 19h00-21h00 \n👉 Cette activité est destinée aux travailleurs étrangers temporaires (avec un permis de travail fermé). \nVeuillez suivre les instructions indiquées sur l’affiche. \n 
URL:https://www.infotetquebec.com/event/val-des-sources-qc-soccer-exterieur-val-des-sources-11/
LOCATION:517 1ere Avenue\, Val-des-Sources\, QC J1T 3X4\, Canada
CATEGORIES:Activité culturelle ou sportive,soccer
ATTACH;FMTTYPE=image/jpeg:https://www.infotetquebec.com/wp-content/uploads/2025/07/EOS-Soccer-exterieur-VdS-ete-2025-fr.jpg
END:VEVENT
END:VCALENDAR