BEGIN:VCALENDAR
VERSION:2.0
PRODID:-//Infotetquebec - ECPv6.15.20//NONSGML v1.0//EN
CALSCALE:GREGORIAN
METHOD:PUBLISH
X-ORIGINAL-URL:https://www.infotetquebec.com
X-WR-CALDESC:Évènements pour Infotetquebec
REFRESH-INTERVAL;VALUE=DURATION:PT1H
X-Robots-Tag:noindex
X-PUBLISHED-TTL:PT1H
BEGIN:VTIMEZONE
TZID:America/Toronto
BEGIN:DAYLIGHT
TZOFFSETFROM:-0500
TZOFFSETTO:-0400
TZNAME:EDT
DTSTART:20240310T070000
END:DAYLIGHT
BEGIN:STANDARD
TZOFFSETFROM:-0400
TZOFFSETTO:-0500
TZNAME:EST
DTSTART:20241103T060000
END:STANDARD
BEGIN:DAYLIGHT
TZOFFSETFROM:-0500
TZOFFSETTO:-0400
TZNAME:EDT
DTSTART:20250309T070000
END:DAYLIGHT
BEGIN:STANDARD
TZOFFSETFROM:-0400
TZOFFSETTO:-0500
TZNAME:EST
DTSTART:20251102T060000
END:STANDARD
BEGIN:DAYLIGHT
TZOFFSETFROM:-0500
TZOFFSETTO:-0400
TZNAME:EDT
DTSTART:20260308T070000
END:DAYLIGHT
BEGIN:STANDARD
TZOFFSETFROM:-0400
TZOFFSETTO:-0500
TZNAME:EST
DTSTART:20261101T060000
END:STANDARD
END:VTIMEZONE
BEGIN:VEVENT
DTSTART;TZID=America/Toronto:20250913T104500
DTEND;TZID=America/Toronto:20250913T124500
DTSTAMP:20260425T183016
CREATED:20250731T185539Z
LAST-MODIFIED:20250731T185539Z
UID:21832-1757760300-1757767500@www.infotetquebec.com
SUMMARY:Granby\, QC/Autocueillette de pommes.
DESCRIPTION:Granby\, QC/Autocueillette de pommes.  \n📍 210 Rue Denison E Granby\, QC J2H 2R6\n  📅 13-Septembre-2025\n 🕐 10h45-12h45 \n👉 Cette activité est destinée aux travailleurs étrangers temporaires (avec un permis de travail fermé). \nVeuillez suivre les instructions indiquées sur l’affiche.
URL:https://www.infotetquebec.com/event/granby-qc-autocueillette-de-pommes/
LOCATION:210 Rue Denison E Granby\, QC J2H 2R6
CATEGORIES:Activité culturelle ou sportive,Activité sociale
ATTACH;FMTTYPE=image/png:https://www.infotetquebec.com/wp-content/uploads/2025/07/Francais-2.png
ORGANIZER;CN="Granby Industriel":MAILTO:ga.brand@granby-industriel.com
END:VEVENT
BEGIN:VEVENT
DTSTART;TZID=America/Toronto:20250913T133000
DTEND;TZID=America/Toronto:20250913T153000
DTSTAMP:20260425T183016
CREATED:20250909T130527Z
LAST-MODIFIED:20250909T130527Z
UID:22542-1757770200-1757777400@www.infotetquebec.com
SUMMARY:Matane\, QC/Soccer Amical pour les TET
DESCRIPTION:Matane\, QC/Soccer Amical pour les TET \n📍 616 Avenue St Rédempteur\, Matane\, QC G4W 1L1\, Canada\n  📅 13-septembre-2025\n 🕐 13h30-15h30 \n👉 Cette activité est destinée aux travailleurs étrangers temporaires.  \nVeuillez suivre les instructions indiquées sur l’affiche. \nC’est un évènement sportif amical qui a comme objectifs briser l’isolement\, tisser des liens et faire des rencontres.  \nL’activité est prévue à l’extérieur mais en cas de pluie nous allons utiliser l’espace réservé et en location du terrain intérieur du Cégep. 
URL:https://www.infotetquebec.com/event/matane-qc-soccer-amical-pour-les-tet/
LOCATION:616 Avenue St Rédempteur\, Matane\, QC G4W 1L1\, Canada
CATEGORIES:Activité culturelle ou sportive,Activité sociale,soccer
ATTACH;FMTTYPE=image/png:https://www.infotetquebec.com/wp-content/uploads/2025/09/Soccer-13-sept_Fran-2.png
END:VEVENT
BEGIN:VEVENT
DTSTART;TZID=America/Toronto:20250913T190000
DTEND;TZID=America/Toronto:20250913T210000
DTSTAMP:20260425T183016
CREATED:20250717T154531Z
LAST-MODIFIED:20250717T154531Z
UID:21448-1757790000-1757797200@www.infotetquebec.com
SUMMARY:Val-des-Sources\, QC/Soccer extérieur Val-des-Sources.
DESCRIPTION:Val-des-Sources\, QC/Soccer extérieur Val-des-Sources. \n📍 Parc Du Centenaire\, 517 1ere Avenue\, Val-des-Sources\, QC J1T 3X4\, Canada\n 📅 Tous les samedis du 19 juillet -27 septembre 2025\n 🕐 19h00-21h00 \n👉 Cette activité est destinée aux travailleurs étrangers temporaires (avec un permis de travail fermé). \nVeuillez suivre les instructions indiquées sur l’affiche. \n 
URL:https://www.infotetquebec.com/event/val-des-sources-qc-soccer-exterieur-val-des-sources-9/
LOCATION:517 1ere Avenue\, Val-des-Sources\, QC J1T 3X4\, Canada
CATEGORIES:Activité culturelle ou sportive,soccer
ATTACH;FMTTYPE=image/jpeg:https://www.infotetquebec.com/wp-content/uploads/2025/07/EOS-Soccer-exterieur-VdS-ete-2025-fr.jpg
END:VEVENT
END:VCALENDAR