BEGIN:VCALENDAR
VERSION:2.0
PRODID:-//Infotetquebec - ECPv6.15.20//NONSGML v1.0//EN
CALSCALE:GREGORIAN
METHOD:PUBLISH
X-ORIGINAL-URL:https://www.infotetquebec.com
X-WR-CALDESC:Évènements pour Infotetquebec
REFRESH-INTERVAL;VALUE=DURATION:PT1H
X-Robots-Tag:noindex
X-PUBLISHED-TTL:PT1H
BEGIN:VTIMEZONE
TZID:America/Toronto
BEGIN:DAYLIGHT
TZOFFSETFROM:-0500
TZOFFSETTO:-0400
TZNAME:EDT
DTSTART:20240310T070000
END:DAYLIGHT
BEGIN:STANDARD
TZOFFSETFROM:-0400
TZOFFSETTO:-0500
TZNAME:EST
DTSTART:20241103T060000
END:STANDARD
BEGIN:DAYLIGHT
TZOFFSETFROM:-0500
TZOFFSETTO:-0400
TZNAME:EDT
DTSTART:20250309T070000
END:DAYLIGHT
BEGIN:STANDARD
TZOFFSETFROM:-0400
TZOFFSETTO:-0500
TZNAME:EST
DTSTART:20251102T060000
END:STANDARD
BEGIN:DAYLIGHT
TZOFFSETFROM:-0500
TZOFFSETTO:-0400
TZNAME:EDT
DTSTART:20260308T070000
END:DAYLIGHT
BEGIN:STANDARD
TZOFFSETFROM:-0400
TZOFFSETTO:-0500
TZNAME:EST
DTSTART:20261101T060000
END:STANDARD
END:VTIMEZONE
BEGIN:VEVENT
DTSTART;TZID=America/Toronto:20250823T093000
DTEND;TZID=America/Toronto:20250823T120000
DTSTAMP:20260425T200723
CREATED:20250818T174517Z
LAST-MODIFIED:20250818T174517Z
UID:22332-1755941400-1755950400@www.infotetquebec.com
SUMMARY:Cap-Santé\, Qc./Match de football pour TET.
DESCRIPTION:Cap-Santé\, Qc./Match de football pour TET. \n📍 Parc canin Cap-Santé\, 30 Rue Déry\, Cap-Santé\, QC G0A 1L0\, Canada\n  📅 23-août-2025\n 🕐 09h30-12h00 \n👉 Cette activité est destinée aux travailleurs étrangers temporaires (avec un permis de travail fermé). \nVeuillez suivre les instructions indiquées sur l’affiche. \n  \nUne activité pour les TET afin de profiter de la fin de l’été en plein air\, pratiquer une activité physique et partager une matinée conviviale. Ils dégusteront un délicieux goûter.
URL:https://www.infotetquebec.com/event/cap-sante-qc-match-de-football-pour-tet/
LOCATION:30 Rue Déry\, Cap-Santé\, QC G0A 1L0\, Canada
CATEGORIES:Activité culturelle ou sportive,soccer
ATTACH;FMTTYPE=image/png:https://www.infotetquebec.com/wp-content/uploads/2025/08/Francais.png
END:VEVENT
BEGIN:VEVENT
DTSTART;TZID=America/Toronto:20250823T120000
DTEND;TZID=America/Toronto:20250823T180000
DTSTAMP:20260425T200723
CREATED:20250813T152925Z
LAST-MODIFIED:20250813T152925Z
UID:22280-1755950400-1755972000@www.infotetquebec.com
SUMMARY:Saint-Fabien-de-Panet\, Qc./Match de soccer et fête de la famille.
DESCRIPTION:Saint-Fabien-de-Panet\, Qc./Match de soccer et fête de la famille. \n📍 47 Rue Principale O\, Saint-Fabien-de-Panet\, QC G0R 2J0\, Canada\n  📅 23-août-2025\n 🕐 12h00-18h00 \n👉 Cette activité est destinée aux travailleurs étrangers temporaires (avec un permis de travail fermé). \nVeuillez suivre les instructions indiquées sur l’affiche. \nMatch de soccer et fête de la famille à Saint-Fabien-de-Panet !  \nLa CNESST sera présente pour informer les TET.
URL:https://www.infotetquebec.com/event/saint-fabien-de-panet-qc-match-de-soccer-et-fete-de-la-famille/
LOCATION:47 Rue Principale O\, Saint-Fabien-de-Panet\, QC G0R 2J0\, Canada
CATEGORIES:Activité culturelle ou sportive,Activité sociale,soccer
ATTACH;FMTTYPE=image/png:https://www.infotetquebec.com/wp-content/uploads/2025/08/Soccer-fete-famille-23-08-2025_FR-1.png
END:VEVENT
BEGIN:VEVENT
DTSTART;TZID=America/Toronto:20250823T190000
DTEND;TZID=America/Toronto:20250823T210000
DTSTAMP:20260425T200724
CREATED:20250717T154359Z
LAST-MODIFIED:20250717T154359Z
UID:21442-1755975600-1755982800@www.infotetquebec.com
SUMMARY:Val-des-Sources\, QC/Soccer extérieur Val-des-Sources.
DESCRIPTION:Val-des-Sources\, QC/Soccer extérieur Val-des-Sources. \n📍 Parc Du Centenaire\, 517 1ere Avenue\, Val-des-Sources\, QC J1T 3X4\, Canada\n 📅 Tous les samedis du 19 juillet -27 septembre 2025\n 🕐 19h00-21h00 \n👉 Cette activité est destinée aux travailleurs étrangers temporaires (avec un permis de travail fermé). \nVeuillez suivre les instructions indiquées sur l’affiche. \n 
URL:https://www.infotetquebec.com/event/val-des-sources-qc-soccer-exterieur-val-des-sources-6/
LOCATION:517 1ere Avenue\, Val-des-Sources\, QC J1T 3X4\, Canada
CATEGORIES:Activité culturelle ou sportive,soccer
ATTACH;FMTTYPE=image/jpeg:https://www.infotetquebec.com/wp-content/uploads/2025/07/EOS-Soccer-exterieur-VdS-ete-2025-fr.jpg
END:VEVENT
END:VCALENDAR