BEGIN:VCALENDAR
VERSION:2.0
PRODID:-//Infotetquebec - ECPv6.15.20//NONSGML v1.0//EN
CALSCALE:GREGORIAN
METHOD:PUBLISH
X-WR-CALNAME:Infotetquebec
X-ORIGINAL-URL:https://www.infotetquebec.com
X-WR-CALDESC:Évènements pour Infotetquebec
REFRESH-INTERVAL;VALUE=DURATION:PT1H
X-Robots-Tag:noindex
X-PUBLISHED-TTL:PT1H
BEGIN:VTIMEZONE
TZID:America/Toronto
BEGIN:DAYLIGHT
TZOFFSETFROM:-0500
TZOFFSETTO:-0400
TZNAME:EDT
DTSTART:20240310T070000
END:DAYLIGHT
BEGIN:STANDARD
TZOFFSETFROM:-0400
TZOFFSETTO:-0500
TZNAME:EST
DTSTART:20241103T060000
END:STANDARD
BEGIN:DAYLIGHT
TZOFFSETFROM:-0500
TZOFFSETTO:-0400
TZNAME:EDT
DTSTART:20250309T070000
END:DAYLIGHT
BEGIN:STANDARD
TZOFFSETFROM:-0400
TZOFFSETTO:-0500
TZNAME:EST
DTSTART:20251102T060000
END:STANDARD
BEGIN:DAYLIGHT
TZOFFSETFROM:-0500
TZOFFSETTO:-0400
TZNAME:EDT
DTSTART:20260308T070000
END:DAYLIGHT
BEGIN:STANDARD
TZOFFSETFROM:-0400
TZOFFSETTO:-0500
TZNAME:EST
DTSTART:20261101T060000
END:STANDARD
END:VTIMEZONE
BEGIN:VEVENT
DTSTART;TZID=America/Toronto:20250802T100000
DTEND;TZID=America/Toronto:20250802T150000
DTSTAMP:20260425T200521
CREATED:20250722T201306Z
LAST-MODIFIED:20250722T201306Z
UID:21652-1754128800-1754146800@www.infotetquebec.com
SUMMARY:St-Jérôme / Tournoi de soccer éclair pour les TET
DESCRIPTION:Tournoi à St-Jérôme pour les entreprises suivantes :\n– Savoura Mirabel et Ste-Sophie\n– Meubles Foliot\n– Serre Royale \n  \nLocalisation : Parc Optimiste-Saint-Antoine. 245 Bd Lachapelle\, Saint-Jérome
URL:https://www.infotetquebec.com/event/st-jerome-tournoi-de-soccer-eclair-pour-les-tet/
LOCATION:Localisation : Parc Optimiste-Saint-Antoine. 245 Bd Lachapelle\, Saint-Jérôme
CATEGORIES:soccer
ATTACH;FMTTYPE=image/png:https://www.infotetquebec.com/wp-content/uploads/2025/07/Gabarit_Fr1.png
END:VEVENT
BEGIN:VEVENT
DTSTART;TZID=America/Toronto:20250802T120000
DTEND;TZID=America/Toronto:20250802T170000
DTSTAMP:20260425T200521
CREATED:20250625T131324Z
LAST-MODIFIED:20250625T131324Z
UID:20669-1754136000-1754154000@www.infotetquebec.com
SUMMARY:Cap-Saint-Ignace\, QC/Ligue de Soccer Interculturelle Été 2025 
DESCRIPTION:Ligue de Soccer Interculturelle Été 2025 \n28 juillet-30 août \n02 août – Cap-Saint-Ignace Parc Municipal l’Optimiste\n630 Rte du Petit Cap\, Cap-Saint-Ignace\, QC G0R 1H0 \nSamedi de 12h00-17h00 \nINSCRIPTION :\nCourriel : emercier@montmagny.com\nTéléphone : 418 248-5985 poste 349\nWhatsApp : +1 418 291-1113\nSur place : le 28 juin 2025 dès 12h \nCette activité est destinée aux travailleurs étrangers temporaires (permis de travail fermé). \nVeuillez suivre les instructions indiquées sur l’affiche de l’événement.
URL:https://www.infotetquebec.com/event/cap-saint-ignace-qc-ligue-de-soccer-interculturelle-ete-2025-4/
LOCATION:630 Rte du Petit Cap\, Cap-Saint-Ignace\, QC G0R 1H0
CATEGORIES:Activité culturelle ou sportive,Activité sociale,soccer
ATTACH;FMTTYPE=image/png:https://www.infotetquebec.com/wp-content/uploads/2025/06/Horaire-soccer-ete-2025-FR.png
END:VEVENT
BEGIN:VEVENT
DTSTART;TZID=America/Toronto:20250802T170000
DTEND;TZID=America/Toronto:20250802T200000
DTSTAMP:20260425T200521
CREATED:20250729T142929Z
LAST-MODIFIED:20250729T143002Z
UID:21801-1754154000-1754164800@www.infotetquebec.com
SUMMARY:Québec\, QC/Partie de soccer. 
DESCRIPTION:Québec\, QC/Partie de soccer.  \n📍 1000 Rue de Bar le Duc\, Québec\, QC G1W 4X6\, Canada\n 📅 02-Août-2025\n 🕐 17h00-20h00 \n👉 Cette activité est destinée aux travailleurs étrangers temporaires (avec un permis de travail fermé). \nVeuillez suivre les instructions indiquées sur l’affiche.
URL:https://www.infotetquebec.com/event/21801/
LOCATION:1000 Rue de Bar le Duc\, Québec\, QC G1W 4X6\, Canada
CATEGORIES:Activité culturelle ou sportive,soccer
ATTACH;FMTTYPE=image/png:https://www.infotetquebec.com/wp-content/uploads/2025/07/Parties-de-soccer-CMQ-_-FR.png
ORGANIZER;CN="Centre multiethnique de Qu%C3%A9bec":MAILTO:sgiroux@centremultiethnique
END:VEVENT
BEGIN:VEVENT
DTSTART;TZID=America/Toronto:20250802T190000
DTEND;TZID=America/Toronto:20250802T210000
DTSTAMP:20260425T200521
CREATED:20250717T154212Z
LAST-MODIFIED:20250717T154212Z
UID:21436-1754161200-1754168400@www.infotetquebec.com
SUMMARY:Val-des-Sources\, QC/Soccer extérieur Val-des-Sources.
DESCRIPTION:Val-des-Sources\, QC/Soccer extérieur Val-des-Sources. \n📍 Parc Du Centenaire\, 517 1ere Avenue\, Val-des-Sources\, QC J1T 3X4\, Canada\n 📅 Tous les samedis du 19 juillet -27 septembre 2025\n 🕐 19h00-21h00 \n👉 Cette activité est destinée aux travailleurs étrangers temporaires (avec un permis de travail fermé). \nVeuillez suivre les instructions indiquées sur l’affiche. \n 
URL:https://www.infotetquebec.com/event/val-des-sources-qc-soccer-exterieur-val-des-sources-3/
LOCATION:517 1ere Avenue\, Val-des-Sources\, QC J1T 3X4\, Canada
CATEGORIES:Activité culturelle ou sportive,soccer
ATTACH;FMTTYPE=image/jpeg:https://www.infotetquebec.com/wp-content/uploads/2025/07/EOS-Soccer-exterieur-VdS-ete-2025-fr.jpg
END:VEVENT
END:VCALENDAR