BEGIN:VCALENDAR
VERSION:2.0
PRODID:-//Infotetquebec - ECPv6.15.20//NONSGML v1.0//EN
CALSCALE:GREGORIAN
METHOD:PUBLISH
X-ORIGINAL-URL:https://www.infotetquebec.com
X-WR-CALDESC:Évènements pour Infotetquebec
REFRESH-INTERVAL;VALUE=DURATION:PT1H
X-Robots-Tag:noindex
X-PUBLISHED-TTL:PT1H
BEGIN:VTIMEZONE
TZID:America/Toronto
BEGIN:DAYLIGHT
TZOFFSETFROM:-0500
TZOFFSETTO:-0400
TZNAME:EDT
DTSTART:20240310T070000
END:DAYLIGHT
BEGIN:STANDARD
TZOFFSETFROM:-0400
TZOFFSETTO:-0500
TZNAME:EST
DTSTART:20241103T060000
END:STANDARD
BEGIN:DAYLIGHT
TZOFFSETFROM:-0500
TZOFFSETTO:-0400
TZNAME:EDT
DTSTART:20250309T070000
END:DAYLIGHT
BEGIN:STANDARD
TZOFFSETFROM:-0400
TZOFFSETTO:-0500
TZNAME:EST
DTSTART:20251102T060000
END:STANDARD
BEGIN:DAYLIGHT
TZOFFSETFROM:-0500
TZOFFSETTO:-0400
TZNAME:EDT
DTSTART:20260308T070000
END:DAYLIGHT
BEGIN:STANDARD
TZOFFSETFROM:-0400
TZOFFSETTO:-0500
TZNAME:EST
DTSTART:20261101T060000
END:STANDARD
END:VTIMEZONE
BEGIN:VEVENT
DTSTART;TZID=America/Toronto:20250524T090000
DTEND;TZID=America/Toronto:20250524T150000
DTSTAMP:20260421T092438
CREATED:20250501T195219Z
LAST-MODIFIED:20250501T195219Z
UID:19575-1748077200-1748098800@www.infotetquebec.com
SUMMARY:Victoriaville / Journée spéciale TET
DESCRIPTION:
URL:https://www.infotetquebec.com/event/victoriaville-journee-speciale-tet/
LOCATION:Complexe Sacre coeur
CATEGORIES:Séance d'information
ATTACH;FMTTYPE=image/png:https://www.infotetquebec.com/wp-content/uploads/2025/05/Invitation-Activite-CCIBFE-Francais.png
END:VEVENT
BEGIN:VEVENT
DTSTART;TZID=America/Toronto:20250524T180000
DTEND;TZID=America/Toronto:20250524T190000
DTSTAMP:20260421T092438
CREATED:20250411T124609Z
LAST-MODIFIED:20250411T124609Z
UID:19478-1748109600-1748113200@www.infotetquebec.com
SUMMARY:Saint-Raymond / Soccer destiné aux TET
DESCRIPTION:
URL:https://www.infotetquebec.com/event/saint-raymond-soccer-destine-aux-tet/
LOCATION:Estadio Promutuel – 175 Route des Pionniers – Saint-Raymond
CATEGORIES:soccer
ATTACH;FMTTYPE=image/png:https://www.infotetquebec.com/wp-content/uploads/2025/04/soccer-st-raymond-2025.png
END:VEVENT
END:VCALENDAR