BEGIN:VCALENDAR
VERSION:2.0
PRODID:-//Infotetquebec - ECPv6.15.20//NONSGML v1.0//EN
CALSCALE:GREGORIAN
METHOD:PUBLISH
X-WR-CALNAME:Infotetquebec
X-ORIGINAL-URL:https://www.infotetquebec.com
X-WR-CALDESC:Évènements pour Infotetquebec
REFRESH-INTERVAL;VALUE=DURATION:PT1H
X-Robots-Tag:noindex
X-PUBLISHED-TTL:PT1H
BEGIN:VTIMEZONE
TZID:America/Toronto
BEGIN:DAYLIGHT
TZOFFSETFROM:-0500
TZOFFSETTO:-0400
TZNAME:EDT
DTSTART:20240310T070000
END:DAYLIGHT
BEGIN:STANDARD
TZOFFSETFROM:-0400
TZOFFSETTO:-0500
TZNAME:EST
DTSTART:20241103T060000
END:STANDARD
BEGIN:DAYLIGHT
TZOFFSETFROM:-0500
TZOFFSETTO:-0400
TZNAME:EDT
DTSTART:20250309T070000
END:DAYLIGHT
BEGIN:STANDARD
TZOFFSETFROM:-0400
TZOFFSETTO:-0500
TZNAME:EST
DTSTART:20251102T060000
END:STANDARD
BEGIN:DAYLIGHT
TZOFFSETFROM:-0500
TZOFFSETTO:-0400
TZNAME:EDT
DTSTART:20260308T070000
END:DAYLIGHT
BEGIN:STANDARD
TZOFFSETFROM:-0400
TZOFFSETTO:-0500
TZNAME:EST
DTSTART:20261101T060000
END:STANDARD
END:VTIMEZONE
BEGIN:VEVENT
DTSTART;TZID=America/Toronto:20250523T180000
DTEND;TZID=America/Toronto:20250523T193000
DTSTAMP:20260421T055302
CREATED:20250411T123725Z
LAST-MODIFIED:20250411T124158Z
UID:19466-1748023200-1748028600@www.infotetquebec.com
SUMMARY:Saint-Marc / Soccer destiné aux TET
DESCRIPTION:
URL:https://www.infotetquebec.com/event/saint-marc-soocer-destine-aux-tet/
LOCATION:1600 Boulevard Bona-Dussault – Saint-Marc
CATEGORIES:soccer
ATTACH;FMTTYPE=image/png:https://www.infotetquebec.com/wp-content/uploads/2025/04/SOCCER-ST-MARC-FR.png
END:VEVENT
BEGIN:VEVENT
DTSTART;TZID=America/Toronto:20250523T190000
DTEND;TZID=America/Toronto:20250523T210000
DTSTAMP:20260421T055302
CREATED:20250520T161806Z
LAST-MODIFIED:20250520T162544Z
UID:19856-1748026800-1748034000@www.infotetquebec.com
SUMMARY:Coaticook/soccer extérieur
DESCRIPTION:
URL:https://www.infotetquebec.com/event/coaticook-soccer-exterieur/
LOCATION:PARC LAURENCE (TERRAIN 1)\, RUE LAURENCE\, Coaticook\, Québec\, Canada
CATEGORIES:Activité culturelle ou sportive,soccer
ATTACH;FMTTYPE=image/jpeg:https://www.infotetquebec.com/wp-content/uploads/2025/05/large-EOS-Soccer-Coaticook-ete-2025-fr.jpg
END:VEVENT
END:VCALENDAR