BEGIN:VCALENDAR
VERSION:2.0
PRODID:-//Infotetquebec - ECPv6.15.20//NONSGML v1.0//EN
CALSCALE:GREGORIAN
METHOD:PUBLISH
X-ORIGINAL-URL:https://www.infotetquebec.com
X-WR-CALDESC:Évènements pour Infotetquebec
REFRESH-INTERVAL;VALUE=DURATION:PT1H
X-Robots-Tag:noindex
X-PUBLISHED-TTL:PT1H
BEGIN:VTIMEZONE
TZID:America/Toronto
BEGIN:DAYLIGHT
TZOFFSETFROM:-0500
TZOFFSETTO:-0400
TZNAME:EDT
DTSTART:20240310T070000
END:DAYLIGHT
BEGIN:STANDARD
TZOFFSETFROM:-0400
TZOFFSETTO:-0500
TZNAME:EST
DTSTART:20241103T060000
END:STANDARD
BEGIN:DAYLIGHT
TZOFFSETFROM:-0500
TZOFFSETTO:-0400
TZNAME:EDT
DTSTART:20250309T070000
END:DAYLIGHT
BEGIN:STANDARD
TZOFFSETFROM:-0400
TZOFFSETTO:-0500
TZNAME:EST
DTSTART:20251102T060000
END:STANDARD
BEGIN:DAYLIGHT
TZOFFSETFROM:-0500
TZOFFSETTO:-0400
TZNAME:EDT
DTSTART:20260308T070000
END:DAYLIGHT
BEGIN:STANDARD
TZOFFSETFROM:-0400
TZOFFSETTO:-0500
TZNAME:EST
DTSTART:20261101T060000
END:STANDARD
END:VTIMEZONE
BEGIN:VEVENT
DTSTART;TZID=America/Toronto:20250518T090000
DTEND;TZID=America/Toronto:20250518T100000
DTSTAMP:20260421T090335
CREATED:20250508T192217Z
LAST-MODIFIED:20250508T192217Z
UID:19716-1747558800-1747562400@www.infotetquebec.com
SUMMARY:La Durantaye / Fête des mères TET
DESCRIPTION:
URL:https://www.infotetquebec.com/event/la-durantaye-fete-des-meres-tet/
LOCATION:183 A Rang de l’Hêtrière\, La Durantaye\, QC G0R 1W0\, Canada
CATEGORIES:Activité sociale
ATTACH;FMTTYPE=image/png:https://www.infotetquebec.com/wp-content/uploads/2025/05/ESPAGNOL.png
END:VEVENT
BEGIN:VEVENT
DTSTART;TZID=America/Toronto:20250518T150000
DTEND;TZID=America/Toronto:20250518T163000
DTSTAMP:20260421T090335
CREATED:20250425T140921Z
LAST-MODIFIED:20250425T140921Z
UID:19551-1747580400-1747585800@www.infotetquebec.com
SUMMARY:Saint Rémi / Messe pour les travailleurs agricoles.
DESCRIPTION:
URL:https://www.infotetquebec.com/event/saint-remi-messe-pour-les-travailleurs-agricoles/
LOCATION:840 rue Notre Dame\, Saint Rémi\, JOL 2L0
CATEGORIES:Messe,Misa
ATTACH;FMTTYPE=image/png:https://www.infotetquebec.com/wp-content/uploads/2025/04/Logo-EN-2.png
ORGANIZER;CN="Fondation Oscar Arnulfo Romero au Canada":MAILTO:mendezon@gmail.com
END:VEVENT
END:VCALENDAR