BEGIN:VCALENDAR
VERSION:2.0
PRODID:-//Infotetquebec - ECPv6.15.20//NONSGML v1.0//EN
CALSCALE:GREGORIAN
METHOD:PUBLISH
X-WR-CALNAME:Infotetquebec
X-ORIGINAL-URL:https://www.infotetquebec.com
X-WR-CALDESC:Évènements pour Infotetquebec
REFRESH-INTERVAL;VALUE=DURATION:PT1H
X-Robots-Tag:noindex
X-PUBLISHED-TTL:PT1H
BEGIN:VTIMEZONE
TZID:America/Toronto
BEGIN:DAYLIGHT
TZOFFSETFROM:-0500
TZOFFSETTO:-0400
TZNAME:EDT
DTSTART:20250309T070000
END:DAYLIGHT
BEGIN:STANDARD
TZOFFSETFROM:-0400
TZOFFSETTO:-0500
TZNAME:EST
DTSTART:20251102T060000
END:STANDARD
BEGIN:DAYLIGHT
TZOFFSETFROM:-0500
TZOFFSETTO:-0400
TZNAME:EDT
DTSTART:20260308T070000
END:DAYLIGHT
BEGIN:STANDARD
TZOFFSETFROM:-0400
TZOFFSETTO:-0500
TZNAME:EST
DTSTART:20261101T060000
END:STANDARD
BEGIN:DAYLIGHT
TZOFFSETFROM:-0500
TZOFFSETTO:-0400
TZNAME:EDT
DTSTART:20270314T070000
END:DAYLIGHT
BEGIN:STANDARD
TZOFFSETFROM:-0400
TZOFFSETTO:-0500
TZNAME:EST
DTSTART:20271107T060000
END:STANDARD
END:VTIMEZONE
BEGIN:VEVENT
DTSTART;TZID=America/Toronto:20260307T093000
DTEND;TZID=America/Toronto:20260307T123000
DTSTAMP:20260419T090752
CREATED:20260303T154506Z
LAST-MODIFIED:20260303T154506Z
UID:27050-1772875800-1772886600@www.infotetquebec.com
SUMMARY:Saint-Gabriel-de-Valcartier\, QC/Glissades sur tubes pour les TET. 
DESCRIPTION:Saint-Gabriel-de-Valcartier\, QC/Glissades sur tubes pour les TET.  \n📍2280 Bd Valcartier\, Saint-Gabriel-de-Valcartier\, QC\, Canada \n📅 7-mars-2026.\n🕐 9h30-12h30 \nUne activité organisée pour les travailleurs avec un permis fermé\, aura lieu ce samedi matin et leur permettra de découvrir un nouvel endroit au Québec et de profiter d’une journée de loisirs et de divertissement en glissant sur des tubes au centre de vacances de Valcartier. \n👉 Cette activité est destinée aux travailleurs étrangers temporaires (avec un permis de travail fermé). \nVeuillez suivre les instructions indiquées sur l’affiche et contacter l’organisateur.
URL:https://www.infotetquebec.com/event/saint-gabriel-de-valcartier-qc-glissades-sur-tubes-pour-les-tet/
LOCATION:2280 Bd Valcartier\, Saint-Gabriel-de-Valcartier\, QC\, Canada
CATEGORIES:Activité culturelle ou sportive,Activité sociale
ATTACH;FMTTYPE=image/png:https://www.infotetquebec.com/wp-content/uploads/2026/03/FRANCAIS.png
END:VEVENT
END:VCALENDAR