BEGIN:VCALENDAR
VERSION:2.0
PRODID:-//Infotetquebec - ECPv6.15.20//NONSGML v1.0//EN
CALSCALE:GREGORIAN
METHOD:PUBLISH
X-WR-CALNAME:Infotetquebec
X-ORIGINAL-URL:https://www.infotetquebec.com
X-WR-CALDESC:Évènements pour Infotetquebec
REFRESH-INTERVAL;VALUE=DURATION:PT1H
X-Robots-Tag:noindex
X-PUBLISHED-TTL:PT1H
BEGIN:VTIMEZONE
TZID:America/New_York
BEGIN:DAYLIGHT
TZOFFSETFROM:-0500
TZOFFSETTO:-0400
TZNAME:EDT
DTSTART:20250309T070000
END:DAYLIGHT
BEGIN:STANDARD
TZOFFSETFROM:-0400
TZOFFSETTO:-0500
TZNAME:EST
DTSTART:20251102T060000
END:STANDARD
BEGIN:DAYLIGHT
TZOFFSETFROM:-0500
TZOFFSETTO:-0400
TZNAME:EDT
DTSTART:20260308T070000
END:DAYLIGHT
BEGIN:STANDARD
TZOFFSETFROM:-0400
TZOFFSETTO:-0500
TZNAME:EST
DTSTART:20261101T060000
END:STANDARD
BEGIN:DAYLIGHT
TZOFFSETFROM:-0500
TZOFFSETTO:-0400
TZNAME:EDT
DTSTART:20270314T070000
END:DAYLIGHT
BEGIN:STANDARD
TZOFFSETFROM:-0400
TZOFFSETTO:-0500
TZNAME:EST
DTSTART:20271107T060000
END:STANDARD
END:VTIMEZONE
BEGIN:VEVENT
DTSTART;TZID=America/New_York:20260421T092901
DTEND;TZID=America/New_York:20260421T092901
DTSTAMP:20260421T092901
CREATED:20240515T144413Z
LAST-MODIFIED:20240515T144413Z
UID:13998-1776763741-1776763741@www.infotetquebec.com
SUMMARY:Saint-Césaire / Journée consulaire et clinique d'information pour les TET guatémaltèques
DESCRIPTION:
URL:https://www.infotetquebec.com/event/saint-cesaire-journee-consulaire-et-clinique-dinformation-pour-les-tet-guatemalteques/
CATEGORIES:Séance d'information
END:VEVENT
END:VCALENDAR