BEGIN:VCALENDAR
VERSION:2.0
PRODID:-//Infotetquebec - ECPv6.15.20//NONSGML v1.0//EN
CALSCALE:GREGORIAN
METHOD:PUBLISH
X-WR-CALNAME:Infotetquebec
X-ORIGINAL-URL:https://www.infotetquebec.com
X-WR-CALDESC:Évènements pour Infotetquebec
REFRESH-INTERVAL;VALUE=DURATION:PT1H
X-Robots-Tag:noindex
X-PUBLISHED-TTL:PT1H
BEGIN:VTIMEZONE
TZID:America/New_York
BEGIN:DAYLIGHT
TZOFFSETFROM:-0500
TZOFFSETTO:-0400
TZNAME:EDT
DTSTART:20230312T070000
END:DAYLIGHT
BEGIN:STANDARD
TZOFFSETFROM:-0400
TZOFFSETTO:-0500
TZNAME:EST
DTSTART:20231105T060000
END:STANDARD
BEGIN:DAYLIGHT
TZOFFSETFROM:-0500
TZOFFSETTO:-0400
TZNAME:EDT
DTSTART:20240310T070000
END:DAYLIGHT
BEGIN:STANDARD
TZOFFSETFROM:-0400
TZOFFSETTO:-0500
TZNAME:EST
DTSTART:20241103T060000
END:STANDARD
BEGIN:DAYLIGHT
TZOFFSETFROM:-0500
TZOFFSETTO:-0400
TZNAME:EDT
DTSTART:20250309T070000
END:DAYLIGHT
BEGIN:STANDARD
TZOFFSETFROM:-0400
TZOFFSETTO:-0500
TZNAME:EST
DTSTART:20251102T060000
END:STANDARD
END:VTIMEZONE
BEGIN:VEVENT
DTSTART;TZID=America/New_York:20240519T100000
DTEND;TZID=America/New_York:20240519T163000
DTSTAMP:20260421T041947
CREATED:20240423T182032Z
LAST-MODIFIED:20240423T182251Z
UID:13592-1716112800-1716136200@www.infotetquebec.com
SUMMARY:Richelieu / Fête des rencontres interculturelles
DESCRIPTION:Détails :  Fête des rencontres interculturelles\n\n\n 	Date :  dimanche 19 mai 2024\n 	Heure : De 10h00 à 16h30\n 	Prix : ÉVÉNEMENT SANS FRAIS\n 	Organisateur : Intégration compétences\n 	Lieu : Parc Florence-Viens à Richelieu\n\n890 Rue des Oblats\, Richelieu\, QC J3L 4W9\n\nhttps://www.google.com/maps/place/890+Rue+des+Oblats\,+Richelieu\,+QC+J3L+4W9/@45.4476249\,-73.2577395\,17z/data=!3m1!4b1!4m5!3m4!1s0x4cc9a88cf079c5e9:0xa93ac0daf8551f38!8m2!3d45.4476249!4d-73.2551646?entry=ttu\n\n 	Personne à la charge de l’activité : Liliana Salgado\, WhatsApp 514 434 3642\, lilianasalgado@integrationcompetences.ca
URL:https://www.infotetquebec.com/event/richelieu-fete-des-rencontres-interculturelles/
LOCATION:890 Rue des Oblats\, Richelieu\, Québec\, J3L 4W9\, Canada
CATEGORIES:Activité culturelle ou sportive,Fête
ORGANIZER;CN="Int%C3%A9gration comp%C3%A9tences":MAILTO:lilianasalgado@integrationcompetences.ca
END:VEVENT
END:VCALENDAR