BEGIN:VCALENDAR
VERSION:2.0
PRODID:-//Infotetquebec - ECPv6.15.20//NONSGML v1.0//EN
CALSCALE:GREGORIAN
METHOD:PUBLISH
X-WR-CALNAME:Infotetquebec
X-ORIGINAL-URL:https://www.infotetquebec.com
X-WR-CALDESC:Évènements pour Infotetquebec
REFRESH-INTERVAL;VALUE=DURATION:PT1H
X-Robots-Tag:noindex
X-PUBLISHED-TTL:PT1H
BEGIN:VTIMEZONE
TZID:America/New_York
BEGIN:DAYLIGHT
TZOFFSETFROM:-0500
TZOFFSETTO:-0400
TZNAME:EDT
DTSTART:20220313T070000
END:DAYLIGHT
BEGIN:STANDARD
TZOFFSETFROM:-0400
TZOFFSETTO:-0500
TZNAME:EST
DTSTART:20221106T060000
END:STANDARD
BEGIN:DAYLIGHT
TZOFFSETFROM:-0500
TZOFFSETTO:-0400
TZNAME:EDT
DTSTART:20230312T070000
END:DAYLIGHT
BEGIN:STANDARD
TZOFFSETFROM:-0400
TZOFFSETTO:-0500
TZNAME:EST
DTSTART:20231105T060000
END:STANDARD
BEGIN:DAYLIGHT
TZOFFSETFROM:-0500
TZOFFSETTO:-0400
TZNAME:EDT
DTSTART:20240310T070000
END:DAYLIGHT
BEGIN:STANDARD
TZOFFSETFROM:-0400
TZOFFSETTO:-0500
TZNAME:EST
DTSTART:20241103T060000
END:STANDARD
END:VTIMEZONE
BEGIN:VEVENT
DTSTART;TZID=America/New_York:20230218T080000
DTEND;TZID=America/New_York:20230218T170000
DTSTAMP:20260421T072535
CREATED:20230119T224452Z
LAST-MODIFIED:20230119T224452Z
UID:5381-1676707200-1676739600@www.infotetquebec.com
SUMMARY:Pêche sur glace à Beauharnois
DESCRIPTION:Venez expérimenter la pêche sur glace! \nPour participer\, contactez les membres de la Fondation Oscar Romero par whatsapp au +1 514 602 5220\, par courriel à melvin1vision@gmail.com ou sur la page Facebook Vision ML : https://www.facebook.com/visionml2?mibextid=LQQJ4d. \n 
URL:https://www.infotetquebec.com/event/peche-sur-glace-a-beauharnois-2/
LOCATION:Beauharnois
CATEGORIES:Activité culturelle ou sportive
ATTACH;FMTTYPE=image/jpeg:https://www.infotetquebec.com/wp-content/uploads/2023/01/clay-banks-Ihful4zTe0Q-unsplash-scaled.jpg
ORGANIZER;CN="Fondation Oscar Romero":MAILTO:melvin1vision@gmail.com
END:VEVENT
END:VCALENDAR