BEGIN:VCALENDAR
VERSION:2.0
PRODID:-//Infotetquebec - ECPv6.15.20//NONSGML v1.0//EN
CALSCALE:GREGORIAN
METHOD:PUBLISH
X-WR-CALNAME:Infotetquebec
X-ORIGINAL-URL:https://www.infotetquebec.com
X-WR-CALDESC:Évènements pour Infotetquebec
REFRESH-INTERVAL;VALUE=DURATION:PT1H
X-Robots-Tag:noindex
X-PUBLISHED-TTL:PT1H
BEGIN:VTIMEZONE
TZID:America/Toronto
BEGIN:DAYLIGHT
TZOFFSETFROM:-0500
TZOFFSETTO:-0400
TZNAME:EDT
DTSTART:20240310T070000
END:DAYLIGHT
BEGIN:STANDARD
TZOFFSETFROM:-0400
TZOFFSETTO:-0500
TZNAME:EST
DTSTART:20241103T060000
END:STANDARD
BEGIN:DAYLIGHT
TZOFFSETFROM:-0500
TZOFFSETTO:-0400
TZNAME:EDT
DTSTART:20250309T070000
END:DAYLIGHT
BEGIN:STANDARD
TZOFFSETFROM:-0400
TZOFFSETTO:-0500
TZNAME:EST
DTSTART:20251102T060000
END:STANDARD
BEGIN:DAYLIGHT
TZOFFSETFROM:-0500
TZOFFSETTO:-0400
TZNAME:EDT
DTSTART:20260308T070000
END:DAYLIGHT
BEGIN:STANDARD
TZOFFSETFROM:-0400
TZOFFSETTO:-0500
TZNAME:EST
DTSTART:20261101T060000
END:STANDARD
END:VTIMEZONE
BEGIN:VEVENT
DTSTART;TZID=America/Toronto:20250628T183000
DTEND;TZID=America/Toronto:20250628T210000
DTSTAMP:20260421T092721
CREATED:20250610T142948Z
LAST-MODIFIED:20250610T142948Z
UID:20233-1751135400-1751144400@www.infotetquebec.com
SUMMARY:Nicolet\, QC/Fête de reconnaissance des TET
DESCRIPTION:Fête de reconnaissance des TET \nSamedi 28 Juin 2025 \n18h30-21h \n*Gratuit pour les travailleurs TET avec un permis fermé \nPour remercier les travailleurs étrangers temporaires avec un permis de travail fermé. \nInformation et réservation (places limitées) \nYeny via Whatsapp : 819 720-4051 \nMarie-Pierre Lemire: 819 294-6020 #203 \n  \n  \n 
URL:https://www.infotetquebec.com/event/nicolet-qc-fete-de-reconnaissance-des-tet/
LOCATION:725 Bd Louis Fréchette\, Nicolet\, QC J3T 1L6\, Canada\, 725 Bd Louis Fréchette\, Nicolet\, Quebec\, J3T1L6\, Canada
CATEGORIES:Activité sociale
ATTACH;FMTTYPE=image/png:https://www.infotetquebec.com/wp-content/uploads/2025/06/Fiesta-Latina-2025-francais.png
END:VEVENT
END:VCALENDAR