BEGIN:VCALENDAR
VERSION:2.0
PRODID:-//Infotetquebec - ECPv6.15.20//NONSGML v1.0//EN
CALSCALE:GREGORIAN
METHOD:PUBLISH
X-WR-CALNAME:Infotetquebec
X-ORIGINAL-URL:https://www.infotetquebec.com
X-WR-CALDESC:Évènements pour Infotetquebec
REFRESH-INTERVAL;VALUE=DURATION:PT1H
X-Robots-Tag:noindex
X-PUBLISHED-TTL:PT1H
BEGIN:VTIMEZONE
TZID:America/Toronto
BEGIN:DAYLIGHT
TZOFFSETFROM:-0500
TZOFFSETTO:-0400
TZNAME:EDT
DTSTART:20240310T070000
END:DAYLIGHT
BEGIN:STANDARD
TZOFFSETFROM:-0400
TZOFFSETTO:-0500
TZNAME:EST
DTSTART:20241103T060000
END:STANDARD
BEGIN:DAYLIGHT
TZOFFSETFROM:-0500
TZOFFSETTO:-0400
TZNAME:EDT
DTSTART:20250309T070000
END:DAYLIGHT
BEGIN:STANDARD
TZOFFSETFROM:-0400
TZOFFSETTO:-0500
TZNAME:EST
DTSTART:20251102T060000
END:STANDARD
BEGIN:DAYLIGHT
TZOFFSETFROM:-0500
TZOFFSETTO:-0400
TZNAME:EDT
DTSTART:20260308T070000
END:DAYLIGHT
BEGIN:STANDARD
TZOFFSETFROM:-0400
TZOFFSETTO:-0500
TZNAME:EST
DTSTART:20261101T060000
END:STANDARD
END:VTIMEZONE
BEGIN:VEVENT
DTSTART;TZID=America/Toronto:20251120T173000
DTEND;TZID=America/Toronto:20251120T190000
DTSTAMP:20260421T114208
CREATED:20251114T150538Z
LAST-MODIFIED:20251114T150538Z
UID:23911-1763659800-1763665200@www.infotetquebec.com
SUMMARY:Montmagny\, QC/Session de formation sur le crédit et dossier de crédit pour les TET. 
DESCRIPTION:Montmagny\, QC/Session de formation sur le crédit et dossier de crédit pour les TET.  \n📍MRC de Montmagny\, 6 Rue Saint Jean Baptiste Est\, Montmagny\, QC.  \n📅 20-novembre-2025 \n🕐 17h30-19h00  \n👉 Cette activité est destinée aux travailleurs étrangers temporaires.  \nVeuillez suivre les instructions indiquées sur l’affiche et contacter l’organisateur. \nSession de formation sur le crédit et dossier de crédit offert par espace finances (+ traduction par nous-même si besoin)
URL:https://www.infotetquebec.com/event/montmagny-qc-session-de-formation-sur-le-credit-et-dossier-de-credit-pour-les-tet/
LOCATION:6 Rue Saint Jean Baptiste Est\, Montmagny\, QC
CATEGORIES:Séance d'information,Sesión de información
ATTACH;FMTTYPE=image/png:https://www.infotetquebec.com/wp-content/uploads/2025/11/CREDIT-ET-DOSSIER-DE-CREDIT-LE-COMPRENDRE-ET-LAMELIORER.png
END:VEVENT
END:VCALENDAR