BEGIN:VCALENDAR
VERSION:2.0
PRODID:-//Infotetquebec - ECPv6.15.20//NONSGML v1.0//EN
CALSCALE:GREGORIAN
METHOD:PUBLISH
X-WR-CALNAME:Infotetquebec
X-ORIGINAL-URL:https://www.infotetquebec.com
X-WR-CALDESC:Évènements pour Infotetquebec
REFRESH-INTERVAL;VALUE=DURATION:PT1H
X-Robots-Tag:noindex
X-PUBLISHED-TTL:PT1H
BEGIN:VTIMEZONE
TZID:America/Toronto
BEGIN:DAYLIGHT
TZOFFSETFROM:-0500
TZOFFSETTO:-0400
TZNAME:EDT
DTSTART:20250309T070000
END:DAYLIGHT
BEGIN:STANDARD
TZOFFSETFROM:-0400
TZOFFSETTO:-0500
TZNAME:EST
DTSTART:20251102T060000
END:STANDARD
BEGIN:DAYLIGHT
TZOFFSETFROM:-0500
TZOFFSETTO:-0400
TZNAME:EDT
DTSTART:20260308T070000
END:DAYLIGHT
BEGIN:STANDARD
TZOFFSETFROM:-0400
TZOFFSETTO:-0500
TZNAME:EST
DTSTART:20261101T060000
END:STANDARD
BEGIN:DAYLIGHT
TZOFFSETFROM:-0500
TZOFFSETTO:-0400
TZNAME:EDT
DTSTART:20270314T070000
END:DAYLIGHT
BEGIN:STANDARD
TZOFFSETFROM:-0400
TZOFFSETTO:-0500
TZNAME:EST
DTSTART:20271107T060000
END:STANDARD
END:VTIMEZONE
BEGIN:VEVENT
DTSTART;TZID=America/Toronto:20260322T110000
DTEND;TZID=America/Toronto:20260322T140000
DTSTAMP:20260421T060116
CREATED:20260225T162213Z
LAST-MODIFIED:20260225T162709Z
UID:26982-1774177200-1774188000@www.infotetquebec.com
SUMMARY:Mont-Saint-Grégoire\, QC/Cabane à sucre pour les TET. 
DESCRIPTION:Mont-Saint-Grégoire\, QC/Cabane à sucre pour les TET.  \n📍45 Chemin du Sous-Bois\, Mont-Saint-Grégoire\, QC\, Canada \n📅 22-mars-2026.\n🕐 11h00-14h00 \nCette activité s’adresse aux travailleurs étrangers temporaires inscrits auprès de L’ANCRE. Une belle occasion de tisser des liens et de s’imprégner de la culture d’ici 🍁 \n👉 Cette activité est destinée aux travailleurs étrangers temporaires (avec un permis de travail fermé). \nVeuillez suivre les instructions indiquées sur l’affiche et contacter l’organisateur.
URL:https://www.infotetquebec.com/event/mont-saint-gregoire-qc-cabane-a-sucre-pour-les-tet/
LOCATION:45 Chemin du Sous-Bois\, Mont-Saint-Grégoire\, QC\, Canada
CATEGORIES:Activité culturelle ou sportive,Activité sociale
ATTACH;FMTTYPE=image/jpeg:https://www.infotetquebec.com/wp-content/uploads/2026/02/TET_Cabane-a-sucre_FR.jpg
ORGANIZER;CN="L'ANCRE":MAILTO:karladuenas@lancre.ca
END:VEVENT
END:VCALENDAR