BEGIN:VCALENDAR
VERSION:2.0
PRODID:-//Infotetquebec - ECPv6.15.20//NONSGML v1.0//EN
CALSCALE:GREGORIAN
METHOD:PUBLISH
X-WR-CALNAME:Infotetquebec
X-ORIGINAL-URL:https://www.infotetquebec.com
X-WR-CALDESC:Évènements pour Infotetquebec
REFRESH-INTERVAL;VALUE=DURATION:PT1H
X-Robots-Tag:noindex
X-PUBLISHED-TTL:PT1H
BEGIN:VTIMEZONE
TZID:America/Toronto
BEGIN:DAYLIGHT
TZOFFSETFROM:-0500
TZOFFSETTO:-0400
TZNAME:EDT
DTSTART:20240310T070000
END:DAYLIGHT
BEGIN:STANDARD
TZOFFSETFROM:-0400
TZOFFSETTO:-0500
TZNAME:EST
DTSTART:20241103T060000
END:STANDARD
BEGIN:DAYLIGHT
TZOFFSETFROM:-0500
TZOFFSETTO:-0400
TZNAME:EDT
DTSTART:20250309T070000
END:DAYLIGHT
BEGIN:STANDARD
TZOFFSETFROM:-0400
TZOFFSETTO:-0500
TZNAME:EST
DTSTART:20251102T060000
END:STANDARD
BEGIN:DAYLIGHT
TZOFFSETFROM:-0500
TZOFFSETTO:-0400
TZNAME:EDT
DTSTART:20260308T070000
END:DAYLIGHT
BEGIN:STANDARD
TZOFFSETFROM:-0400
TZOFFSETTO:-0500
TZNAME:EST
DTSTART:20261101T060000
END:STANDARD
END:VTIMEZONE
BEGIN:VEVENT
DTSTART;TZID=America/Toronto:20251214T170000
DTEND;TZID=America/Toronto:20251214T190000
DTSTAMP:20260421T073818
CREATED:20251024T173553Z
LAST-MODIFIED:20251024T173553Z
UID:23616-1765731600-1765738800@www.infotetquebec.com
SUMMARY:Mirabel\, QC/Activité de cuisine pour les TET
DESCRIPTION:Mirabel\, QC/Activité de cuisine pour les TET \n📍11730 Rte Sir Wilfrid Laurier\, Mirabel\, QC J7N 2Z8 \n📅 14 décembre 2025\n🕐 17h00-19h00  \n👉 Cette activité est destinée aux travailleurs étrangers temporaires.  \nVeuillez suivre les instructions indiquées sur l’affiche et contacter l’organisateur. \nAtelier de cuisine. Les TET sont invités à faire un atelier de cuisine pour apprendre à cuisiner des recettes pratiques\, saines\, nutritives et économiques.
URL:https://www.infotetquebec.com/event/mirabel-qc-activite-de-cuisine-pour-les-tet/
LOCATION:11730 Rte Sir Wilfrid Laurier\, Mirabel\, QC J7N 2Z8
CATEGORIES:Activité culturelle ou sportive
ATTACH;FMTTYPE=image/jpeg:https://www.infotetquebec.com/wp-content/uploads/2025/10/AFF-FRAN-activite-cuisine-14-dec2025.jpg
ORGANIZER;CN="Centre pour l'immigration en r%C3%A9gion (CIR)":MAILTO:centrepourlimmigrationenregion.org
END:VEVENT
END:VCALENDAR