BEGIN:VCALENDAR
VERSION:2.0
PRODID:-//Infotetquebec - ECPv6.15.20//NONSGML v1.0//EN
CALSCALE:GREGORIAN
METHOD:PUBLISH
X-WR-CALNAME:Infotetquebec
X-ORIGINAL-URL:https://www.infotetquebec.com
X-WR-CALDESC:Évènements pour Infotetquebec
REFRESH-INTERVAL;VALUE=DURATION:PT1H
X-Robots-Tag:noindex
X-PUBLISHED-TTL:PT1H
BEGIN:VTIMEZONE
TZID:America/New_York
BEGIN:DAYLIGHT
TZOFFSETFROM:-0500
TZOFFSETTO:-0400
TZNAME:EDT
DTSTART:20220313T070000
END:DAYLIGHT
BEGIN:STANDARD
TZOFFSETFROM:-0400
TZOFFSETTO:-0500
TZNAME:EST
DTSTART:20221106T060000
END:STANDARD
BEGIN:DAYLIGHT
TZOFFSETFROM:-0500
TZOFFSETTO:-0400
TZNAME:EDT
DTSTART:20230312T070000
END:DAYLIGHT
BEGIN:STANDARD
TZOFFSETFROM:-0400
TZOFFSETTO:-0500
TZNAME:EST
DTSTART:20231105T060000
END:STANDARD
BEGIN:DAYLIGHT
TZOFFSETFROM:-0500
TZOFFSETTO:-0400
TZNAME:EDT
DTSTART:20240310T070000
END:DAYLIGHT
BEGIN:STANDARD
TZOFFSETFROM:-0400
TZOFFSETTO:-0500
TZNAME:EST
DTSTART:20241103T060000
END:STANDARD
END:VTIMEZONE
BEGIN:VEVENT
DTSTART;TZID=America/New_York:20230423T100000
DTEND;TZID=America/New_York:20230423T120000
DTSTAMP:20260422T233959
CREATED:20230412T212006Z
LAST-MODIFIED:20230412T212006Z
UID:6240-1682244000-1682251200@www.infotetquebec.com
SUMMARY:Match de soccer
DESCRIPTION:Venez jouer au soccer tous les dimanches du mois d’avril au gymnase de l’école Saint-Antoine de Sherbrooke ! \nInformations et réservation  \nElizabeth Morales \nWhatsApp : +1 (873) 662-2699 \nAndrea Contreras \nWhatsApp : +1 (873) 662-2699
URL:https://www.infotetquebec.com/event/match-de-soccer-12/
LOCATION:Gymnase de l’école Saint-Antoine\, 16 rue Church Lennoxville\, Sherbrooke\, Québec\, J1M 1S9\, Canada
CATEGORIES:soccer
ATTACH;FMTTYPE=image/png:https://www.infotetquebec.com/wp-content/uploads/2023/04/0-5.png
END:VEVENT
END:VCALENDAR