BEGIN:VCALENDAR
VERSION:2.0
PRODID:-//Infotetquebec - ECPv6.15.20//NONSGML v1.0//EN
CALSCALE:GREGORIAN
METHOD:PUBLISH
X-WR-CALNAME:Infotetquebec
X-ORIGINAL-URL:https://www.infotetquebec.com
X-WR-CALDESC:Évènements pour Infotetquebec
REFRESH-INTERVAL;VALUE=DURATION:PT1H
X-Robots-Tag:noindex
X-PUBLISHED-TTL:PT1H
BEGIN:VTIMEZONE
TZID:America/Toronto
BEGIN:DAYLIGHT
TZOFFSETFROM:-0500
TZOFFSETTO:-0400
TZNAME:EDT
DTSTART:20240310T070000
END:DAYLIGHT
BEGIN:STANDARD
TZOFFSETFROM:-0400
TZOFFSETTO:-0500
TZNAME:EST
DTSTART:20241103T060000
END:STANDARD
BEGIN:DAYLIGHT
TZOFFSETFROM:-0500
TZOFFSETTO:-0400
TZNAME:EDT
DTSTART:20250309T070000
END:DAYLIGHT
BEGIN:STANDARD
TZOFFSETFROM:-0400
TZOFFSETTO:-0500
TZNAME:EST
DTSTART:20251102T060000
END:STANDARD
BEGIN:DAYLIGHT
TZOFFSETFROM:-0500
TZOFFSETTO:-0400
TZNAME:EDT
DTSTART:20260308T070000
END:DAYLIGHT
BEGIN:STANDARD
TZOFFSETFROM:-0400
TZOFFSETTO:-0500
TZNAME:EST
DTSTART:20261101T060000
END:STANDARD
END:VTIMEZONE
BEGIN:VEVENT
DTSTART;TZID=America/Toronto:20250903T133000
DTEND;TZID=America/Toronto:20250903T160000
DTSTAMP:20260421T043333
CREATED:20250828T153902Z
LAST-MODIFIED:20250903T160543Z
UID:22506-1756906200-1756915200@www.infotetquebec.com
SUMMARY:Invitation du Consulat général du Mexique à Montréal 
DESCRIPTION:Invitation du Consulat général du Mexique à Montréal  \nSemaine des droits du travail (SDT) 2025 \nLe Consulat général du Mexique à Montréal à l’honneur de vous inviter à participer à la semaine des droits du travail (SDT) 2025\, qui se tiendra du 2 au 7 septembre. \nCet espace vise à renforcer la protection des travailleurs migrants au Canada à travers des conférences et des séances de conseils spécialisés\, grâce à la collaboration des partenaires stratégiques. \nDans cette édition\, nous vous invitons à l’événement suivant\, ouvert au public : \n3 septembre : Conférence La violence économique : comment la reconnaître et s’en protéger ?\, présentée par l’association Option Consommateur \n🕓 13:30  \n📍 2055 rue Peel\, RDC\, Espacio México \nVeuillez confirmer votre présence ici :  \nhttps://docs.google.com/forms/d/e/1FAIpQLSfWdAgVziSLomqmMl78m1dtqU3lgR3GcGcR0a4Q9GTSTWh3OQ/viewform  \nPour plus d’informations\, vous pouvez consulter les réseaux sociaux de l’organisateur\, notamment sa page Facebook : Consulmex Montréal.
URL:https://www.infotetquebec.com/event/invitation-du-consulat-general-du-mexique-a-montreal/
LOCATION:2055 Rue Peel\, Montréal\, QC H3A 1V4
CATEGORIES:Séance d'information
ATTACH;FMTTYPE=image/png:https://www.infotetquebec.com/wp-content/uploads/2025/08/SDL.png
END:VEVENT
END:VCALENDAR