BEGIN:VCALENDAR
VERSION:2.0
PRODID:-//Infotetquebec - ECPv6.15.20//NONSGML v1.0//EN
CALSCALE:GREGORIAN
METHOD:PUBLISH
X-WR-CALNAME:Infotetquebec
X-ORIGINAL-URL:https://www.infotetquebec.com
X-WR-CALDESC:Évènements pour Infotetquebec
REFRESH-INTERVAL;VALUE=DURATION:PT1H
X-Robots-Tag:noindex
X-PUBLISHED-TTL:PT1H
BEGIN:VTIMEZONE
TZID:America/Toronto
BEGIN:DAYLIGHT
TZOFFSETFROM:-0500
TZOFFSETTO:-0400
TZNAME:EDT
DTSTART:20240310T070000
END:DAYLIGHT
BEGIN:STANDARD
TZOFFSETFROM:-0400
TZOFFSETTO:-0500
TZNAME:EST
DTSTART:20241103T060000
END:STANDARD
BEGIN:DAYLIGHT
TZOFFSETFROM:-0500
TZOFFSETTO:-0400
TZNAME:EDT
DTSTART:20250309T070000
END:DAYLIGHT
BEGIN:STANDARD
TZOFFSETFROM:-0400
TZOFFSETTO:-0500
TZNAME:EST
DTSTART:20251102T060000
END:STANDARD
BEGIN:DAYLIGHT
TZOFFSETFROM:-0500
TZOFFSETTO:-0400
TZNAME:EDT
DTSTART:20260308T070000
END:DAYLIGHT
BEGIN:STANDARD
TZOFFSETFROM:-0400
TZOFFSETTO:-0500
TZNAME:EST
DTSTART:20261101T060000
END:STANDARD
END:VTIMEZONE
BEGIN:VEVENT
DTSTART;TZID=America/Toronto:20251128T180000
DTEND;TZID=America/Toronto:20251128T210000
DTSTAMP:20260421T092549
CREATED:20251106T163526Z
LAST-MODIFIED:20251106T164010Z
UID:23778-1764352800-1764363600@www.infotetquebec.com
SUMMARY:Granby\, QC/Souper des fêtes pour les TET. 
DESCRIPTION:Granby\, QC/Souper des fêtes pour les TET.  \n📍181 Rue Principale\, Granby\, QC J2G 2V5.  \nChez Bivic\, Rue Principale\, Granby\, QC\, Canada \n📅 28-novembre-2025 \n🕐 18h00-21h00  \n👉 Cette activité est destinée aux travailleurs étrangers temporaires.  \nVeuillez suivre les instructions indiquées sur l’affiche et contacter l’organisateur. \nPlaces limitées. \nGranby Industriel convie les TET à un souper festif afin de célébrer la fin de l’année\, se rappeler que l’hiver approche vite\, réseauter et se connaître davantage dans la paix\, la joie et la reconnaissance.
URL:https://www.infotetquebec.com/event/granby-qc-souper-des-fetes-pour-les-tet/
LOCATION:181 Rue Principale\, Granby\, QC J2G 2V5.
ATTACH;FMTTYPE=image/png:https://www.infotetquebec.com/wp-content/uploads/2025/11/Francais-1-min.png
ORGANIZER;CN="Granby Industriel":MAILTO:ga.brand@granby-industriel.com
END:VEVENT
END:VCALENDAR