BEGIN:VCALENDAR
VERSION:2.0
PRODID:-//Infotetquebec - ECPv6.15.20//NONSGML v1.0//EN
CALSCALE:GREGORIAN
METHOD:PUBLISH
X-WR-CALNAME:Infotetquebec
X-ORIGINAL-URL:https://www.infotetquebec.com
X-WR-CALDESC:Évènements pour Infotetquebec
REFRESH-INTERVAL;VALUE=DURATION:PT1H
X-Robots-Tag:noindex
X-PUBLISHED-TTL:PT1H
BEGIN:VTIMEZONE
TZID:America/Toronto
BEGIN:DAYLIGHT
TZOFFSETFROM:-0500
TZOFFSETTO:-0400
TZNAME:EDT
DTSTART:20250309T070000
END:DAYLIGHT
BEGIN:STANDARD
TZOFFSETFROM:-0400
TZOFFSETTO:-0500
TZNAME:EST
DTSTART:20251102T060000
END:STANDARD
BEGIN:DAYLIGHT
TZOFFSETFROM:-0500
TZOFFSETTO:-0400
TZNAME:EDT
DTSTART:20260308T070000
END:DAYLIGHT
BEGIN:STANDARD
TZOFFSETFROM:-0400
TZOFFSETTO:-0500
TZNAME:EST
DTSTART:20261101T060000
END:STANDARD
BEGIN:DAYLIGHT
TZOFFSETFROM:-0500
TZOFFSETTO:-0400
TZNAME:EDT
DTSTART:20270314T070000
END:DAYLIGHT
BEGIN:STANDARD
TZOFFSETFROM:-0400
TZOFFSETTO:-0500
TZNAME:EST
DTSTART:20271107T060000
END:STANDARD
END:VTIMEZONE
BEGIN:VEVENT
DTSTART;TZID=America/Toronto:20260427T183000
DTEND;TZID=America/Toronto:20260427T203000
DTSTAMP:20260422T203136
CREATED:20260422T155532Z
LAST-MODIFIED:20260422T155632Z
UID:28217-1777314600-1777321800@www.infotetquebec.com
SUMMARY:En ligne/ Webinaire :d’information utile pour les TET. 
DESCRIPTION:En ligne/ Webinaire :d’information utile pour les TET.  \n🗓️ Date : 27 avril- 2026 \n🕐 Heure : 18h30-20h30 \n➡️En français  \nWebinaire d’information destiné aux travailleurs étrangers temporaires.  \nSéance d’information pour mieux comprendre vos droits en tant que travailleur étranger temporaire au Québec et de vous outiller pour faire une demande d’assurance emploi ou réagir face à des situations problématiques avec un employeur. \n👉 Cette activité est destinée aux travailleurs étrangers temporaires avec permis de travail fermé.  \nVeuillez suivre les instructions indiquées sur l’affiche et contacter l’organisateur.
URL:https://www.infotetquebec.com/event/en-ligne-webinaire-dinformation-utile-pour-les-tet-2/
LOCATION:En ligne sur Teams
CATEGORIES:Webinaire
ATTACH;FMTTYPE=image/jpeg:https://www.infotetquebec.com/wp-content/uploads/2026/04/FLYER.jpg
ORGANIZER;CN="CACI":MAILTO:info@caci-bc.org
END:VEVENT
END:VCALENDAR