BEGIN:VCALENDAR
VERSION:2.0
PRODID:-//Infotetquebec - ECPv6.15.20//NONSGML v1.0//EN
CALSCALE:GREGORIAN
METHOD:PUBLISH
X-WR-CALNAME:Infotetquebec
X-ORIGINAL-URL:https://www.infotetquebec.com
X-WR-CALDESC:Évènements pour Infotetquebec
REFRESH-INTERVAL;VALUE=DURATION:PT1H
X-Robots-Tag:noindex
X-PUBLISHED-TTL:PT1H
BEGIN:VTIMEZONE
TZID:America/Toronto
BEGIN:DAYLIGHT
TZOFFSETFROM:-0500
TZOFFSETTO:-0400
TZNAME:EDT
DTSTART:20240310T070000
END:DAYLIGHT
BEGIN:STANDARD
TZOFFSETFROM:-0400
TZOFFSETTO:-0500
TZNAME:EST
DTSTART:20241103T060000
END:STANDARD
BEGIN:DAYLIGHT
TZOFFSETFROM:-0500
TZOFFSETTO:-0400
TZNAME:EDT
DTSTART:20250309T070000
END:DAYLIGHT
BEGIN:STANDARD
TZOFFSETFROM:-0400
TZOFFSETTO:-0500
TZNAME:EST
DTSTART:20251102T060000
END:STANDARD
BEGIN:DAYLIGHT
TZOFFSETFROM:-0500
TZOFFSETTO:-0400
TZNAME:EDT
DTSTART:20260308T070000
END:DAYLIGHT
BEGIN:STANDARD
TZOFFSETFROM:-0400
TZOFFSETTO:-0500
TZNAME:EST
DTSTART:20261101T060000
END:STANDARD
END:VTIMEZONE
BEGIN:VEVENT
DTSTART;TZID=America/Toronto:20251211T100000
DTEND;TZID=America/Toronto:20251211T120000
DTSTAMP:20260421T043605
CREATED:20251125T142827Z
LAST-MODIFIED:20251125T142827Z
UID:24107-1765447200-1765454400@www.infotetquebec.com
SUMMARY:En ligne/Conférence offerte par Revenu Québec pour les TET. 
DESCRIPTION:En ligne/Conférence offerte par Revenu Québec pour les TET.  \n📍En ligne- Conférence \n📅 11-décembre-2025 \n🕐 10h00-12h00  \n👉 Cette activité est destinée aux travailleurs étrangers temporaires.  \nVeuillez suivre les instructions indiquées sur l’affiche et contacter l’organisateur. \nConférence offerte par Revenu Québec portant sur les obligations fiscales des nouveaux arrivants.  \nUniquement en français et virtuellement. \nhttps://form.jotform.com/253223760917256
URL:https://www.infotetquebec.com/event/en-ligne-conference-offerte-par-revenu-quebec-pour-les-tet/
LOCATION:En ligne
CATEGORIES:Séance d'information,Sesión de información,Webinaire
ATTACH;FMTTYPE=image/jpeg:https://www.infotetquebec.com/wp-content/uploads/2025/11/Gabarit-FR_page-0001.jpg
END:VEVENT
END:VCALENDAR