BEGIN:VCALENDAR
VERSION:2.0
PRODID:-//Infotetquebec - ECPv6.15.20//NONSGML v1.0//EN
CALSCALE:GREGORIAN
METHOD:PUBLISH
X-WR-CALNAME:Infotetquebec
X-ORIGINAL-URL:https://www.infotetquebec.com
X-WR-CALDESC:Évènements pour Infotetquebec
REFRESH-INTERVAL;VALUE=DURATION:PT1H
X-Robots-Tag:noindex
X-PUBLISHED-TTL:PT1H
BEGIN:VTIMEZONE
TZID:America/New_York
BEGIN:DAYLIGHT
TZOFFSETFROM:-0500
TZOFFSETTO:-0400
TZNAME:EDT
DTSTART:20220313T070000
END:DAYLIGHT
BEGIN:STANDARD
TZOFFSETFROM:-0400
TZOFFSETTO:-0500
TZNAME:EST
DTSTART:20221106T060000
END:STANDARD
BEGIN:DAYLIGHT
TZOFFSETFROM:-0500
TZOFFSETTO:-0400
TZNAME:EDT
DTSTART:20230312T070000
END:DAYLIGHT
BEGIN:STANDARD
TZOFFSETFROM:-0400
TZOFFSETTO:-0500
TZNAME:EST
DTSTART:20231105T060000
END:STANDARD
BEGIN:DAYLIGHT
TZOFFSETFROM:-0500
TZOFFSETTO:-0400
TZNAME:EDT
DTSTART:20240310T070000
END:DAYLIGHT
BEGIN:STANDARD
TZOFFSETFROM:-0400
TZOFFSETTO:-0500
TZNAME:EST
DTSTART:20241103T060000
END:STANDARD
END:VTIMEZONE
BEGIN:VEVENT
DTSTART;TZID=America/New_York:20230921T120000
DTEND;TZID=America/New_York:20230921T133000
DTSTAMP:20260421T092539
CREATED:20230830T182551Z
LAST-MODIFIED:20230830T183026Z
UID:8944-1695297600-1695303000@www.infotetquebec.com
SUMMARY:En ligne / Conférence en espagnol sur l'immigration
DESCRIPTION:Vous êtes un travailleur étranger temporaire (permis fermé) au Canada et vous avez des questions sur la façon de faire venir votre famille ? Ou sur la manière dont vous pourriez obtenir votre résidence permanente ? Inscrivez-vous à ce webinaire donné par Vinzenzo Bisignano\, consultant réglementé en immigration du Canada\, pour en savoir plus sur les procédures mises à jour concernant l’immigration au Québec.  \nInscription obligatoire sur ce lien avant le 19 septembre :
URL:https://www.infotetquebec.com/event/en-ligne-conference-en-espagnol-sur-limmigration/
LOCATION:En linea
CATEGORIES:Séance d'information
ATTACH;FMTTYPE=image/png:https://www.infotetquebec.com/wp-content/uploads/2023/08/GABARIT-TET-FR-7.png
ORGANIZER;CN="L'ANCRE":MAILTO:karladuenas@lancre.ca
END:VEVENT
END:VCALENDAR