BEGIN:VCALENDAR
VERSION:2.0
PRODID:-//Infotetquebec - ECPv6.15.20//NONSGML v1.0//EN
CALSCALE:GREGORIAN
METHOD:PUBLISH
X-WR-CALNAME:Infotetquebec
X-ORIGINAL-URL:https://www.infotetquebec.com
X-WR-CALDESC:Évènements pour Infotetquebec
REFRESH-INTERVAL;VALUE=DURATION:PT1H
X-Robots-Tag:noindex
X-PUBLISHED-TTL:PT1H
BEGIN:VTIMEZONE
TZID:America/New_York
BEGIN:DAYLIGHT
TZOFFSETFROM:-0500
TZOFFSETTO:-0400
TZNAME:EDT
DTSTART:20200308T070000
END:DAYLIGHT
BEGIN:STANDARD
TZOFFSETFROM:-0400
TZOFFSETTO:-0500
TZNAME:EST
DTSTART:20201101T060000
END:STANDARD
BEGIN:DAYLIGHT
TZOFFSETFROM:-0500
TZOFFSETTO:-0400
TZNAME:EDT
DTSTART:20210314T070000
END:DAYLIGHT
BEGIN:STANDARD
TZOFFSETFROM:-0400
TZOFFSETTO:-0500
TZNAME:EST
DTSTART:20211107T060000
END:STANDARD
BEGIN:DAYLIGHT
TZOFFSETFROM:-0500
TZOFFSETTO:-0400
TZNAME:EDT
DTSTART:20220313T070000
END:DAYLIGHT
BEGIN:STANDARD
TZOFFSETFROM:-0400
TZOFFSETTO:-0500
TZNAME:EST
DTSTART:20221106T060000
END:STANDARD
END:VTIMEZONE
BEGIN:VEVENT
DTSTART;TZID=America/New_York:20211216T120000
DTEND;TZID=America/New_York:20211216T130000
DTSTAMP:20260421T041727
CREATED:20211021T194530Z
LAST-MODIFIED:20211021T200333Z
UID:1873-1639656000-1639659600@www.infotetquebec.com
SUMMARY:El Sortilegio de AGRIconnexión
DESCRIPTION:El Sortilegio : une série de rencontres virtuelles avec deux intervenantes\, à l’horaire deux fois par semaine les mercredis et jeudis à midi.  \nIntitulés « Sortilegio »\, du nom d’une telenovela mexicaine\, ces rendez-vous permettent aux travailleurs d’obtenir des informations sur différents sujets pratiques à leur intégration et de poser leurs questions.
URL:https://www.infotetquebec.com/event/el-sortilegio-de-agriconnexion-2021-12-16/
END:VEVENT
END:VCALENDAR