BEGIN:VCALENDAR
VERSION:2.0
PRODID:-//Infotetquebec - ECPv6.15.20//NONSGML v1.0//EN
CALSCALE:GREGORIAN
METHOD:PUBLISH
X-WR-CALNAME:Infotetquebec
X-ORIGINAL-URL:https://www.infotetquebec.com
X-WR-CALDESC:Évènements pour Infotetquebec
REFRESH-INTERVAL;VALUE=DURATION:PT1H
X-Robots-Tag:noindex
X-PUBLISHED-TTL:PT1H
BEGIN:VTIMEZONE
TZID:America/Toronto
BEGIN:DAYLIGHT
TZOFFSETFROM:-0500
TZOFFSETTO:-0400
TZNAME:EDT
DTSTART:20240310T070000
END:DAYLIGHT
BEGIN:STANDARD
TZOFFSETFROM:-0400
TZOFFSETTO:-0500
TZNAME:EST
DTSTART:20241103T060000
END:STANDARD
BEGIN:DAYLIGHT
TZOFFSETFROM:-0500
TZOFFSETTO:-0400
TZNAME:EDT
DTSTART:20250309T070000
END:DAYLIGHT
BEGIN:STANDARD
TZOFFSETFROM:-0400
TZOFFSETTO:-0500
TZNAME:EST
DTSTART:20251102T060000
END:STANDARD
BEGIN:DAYLIGHT
TZOFFSETFROM:-0500
TZOFFSETTO:-0400
TZNAME:EDT
DTSTART:20260308T070000
END:DAYLIGHT
BEGIN:STANDARD
TZOFFSETFROM:-0400
TZOFFSETTO:-0500
TZNAME:EST
DTSTART:20261101T060000
END:STANDARD
END:VTIMEZONE
BEGIN:VEVENT
DTSTART;TZID=America/Toronto:20250711T180000
DTEND;TZID=America/Toronto:20250711T200000
DTSTAMP:20260421T060354
CREATED:20250618T161120Z
LAST-MODIFIED:20250618T161120Z
UID:20532-1752256800-1752264000@www.infotetquebec.com
SUMMARY:Donnacona\, QC/Conférence Sur Le Rôle De La Police Au Québec Pour Les Travailleurs Étrangers Temporaires
DESCRIPTION:CONFÉRENCE SUR LE RÔLE DE LA POLICE AU QUÉBEC POUR LES TRAVAILLEURS ÉTRANGERS TEMPORAIRES EN ESPAGNOL ET EN FRANÇAIS. \nAccès Travail Portneuf \n162\, rue Notre-Dame\nDonnacona\, QC G3M 1G4 \nVeuillez suivre les instructions indiquées sur l’affiche de l’événement.
URL:https://www.infotetquebec.com/event/donnacona-qc-conference-sur-le-role-de-la-police-au-quebec-pour-les-travailleurs-etrangers-temporaires/
LOCATION:162\, rue Notre-Dame Donnacona\, QC G3M 1G4
CATEGORIES:Sesión de información
ATTACH;FMTTYPE=image/jpeg:https://www.infotetquebec.com/wp-content/uploads/2025/06/SQ_deuxieme_version.jpg
END:VEVENT
END:VCALENDAR