BEGIN:VCALENDAR
VERSION:2.0
PRODID:-//Infotetquebec - ECPv6.15.20//NONSGML v1.0//EN
CALSCALE:GREGORIAN
METHOD:PUBLISH
X-WR-CALNAME:Infotetquebec
X-ORIGINAL-URL:https://www.infotetquebec.com
X-WR-CALDESC:Évènements pour Infotetquebec
REFRESH-INTERVAL;VALUE=DURATION:PT1H
X-Robots-Tag:noindex
X-PUBLISHED-TTL:PT1H
BEGIN:VTIMEZONE
TZID:America/Toronto
BEGIN:DAYLIGHT
TZOFFSETFROM:-0500
TZOFFSETTO:-0400
TZNAME:EDT
DTSTART:20240310T070000
END:DAYLIGHT
BEGIN:STANDARD
TZOFFSETFROM:-0400
TZOFFSETTO:-0500
TZNAME:EST
DTSTART:20241103T060000
END:STANDARD
BEGIN:DAYLIGHT
TZOFFSETFROM:-0500
TZOFFSETTO:-0400
TZNAME:EDT
DTSTART:20250309T070000
END:DAYLIGHT
BEGIN:STANDARD
TZOFFSETFROM:-0400
TZOFFSETTO:-0500
TZNAME:EST
DTSTART:20251102T060000
END:STANDARD
BEGIN:DAYLIGHT
TZOFFSETFROM:-0500
TZOFFSETTO:-0400
TZNAME:EDT
DTSTART:20260308T070000
END:DAYLIGHT
BEGIN:STANDARD
TZOFFSETFROM:-0400
TZOFFSETTO:-0500
TZNAME:EST
DTSTART:20261101T060000
END:STANDARD
END:VTIMEZONE
BEGIN:VEVENT
DTSTART;TZID=America/Toronto:20251212T190000
DTEND;TZID=America/Toronto:20251212T210000
DTSTAMP:20260421T043441
CREATED:20250926T171756Z
LAST-MODIFIED:20251211T140010Z
UID:22963-1765566000-1765573200@www.infotetquebec.com
SUMMARY:Coaticook\, QC/Soccer à Coaticook pour les TET
DESCRIPTION:Coaticook\, QC/Soccer à Coaticook pour les TET \n📍 497 Rue Saint-Jean-Baptiste\, Coaticook\, QC J1A 1G1\, Canada\n 📅 12 décembre 2025\n 🕐 19h00-21h00 \nDernière rencontre du soccer de l’année à Coaticook avec un partage de pizza pour la fermeture de l’année \n👉 Cette activité est destinée aux travailleurs étrangers temporaires (avec un permis de travail fermé). \nVeuillez suivre les instructions indiquées sur l’affiche et contacter l’organisateur.
URL:https://www.infotetquebec.com/event/coaticook-qc-soccer-a-coaticook-pour-les-tet-12/
LOCATION:497 Rue Saint-Jean-Baptiste\, Coaticook\, QC J1A 1G1\, Canada
CATEGORIES:Activité culturelle ou sportive,soccer
ATTACH;FMTTYPE=image/png:https://www.infotetquebec.com/wp-content/uploads/2025/09/EOS-Soccer-Coaticook-interieur-2025-fr-1.png
END:VEVENT
END:VCALENDAR