BEGIN:VCALENDAR
VERSION:2.0
PRODID:-//Infotetquebec - ECPv6.15.20//NONSGML v1.0//EN
CALSCALE:GREGORIAN
METHOD:PUBLISH
X-WR-CALNAME:Infotetquebec
X-ORIGINAL-URL:https://www.infotetquebec.com
X-WR-CALDESC:Évènements pour Infotetquebec
REFRESH-INTERVAL;VALUE=DURATION:PT1H
X-Robots-Tag:noindex
X-PUBLISHED-TTL:PT1H
BEGIN:VTIMEZONE
TZID:America/New_York
BEGIN:DAYLIGHT
TZOFFSETFROM:-0500
TZOFFSETTO:-0400
TZNAME:EDT
DTSTART:20230312T070000
END:DAYLIGHT
BEGIN:STANDARD
TZOFFSETFROM:-0400
TZOFFSETTO:-0500
TZNAME:EST
DTSTART:20231105T060000
END:STANDARD
BEGIN:DAYLIGHT
TZOFFSETFROM:-0500
TZOFFSETTO:-0400
TZNAME:EDT
DTSTART:20240310T070000
END:DAYLIGHT
BEGIN:STANDARD
TZOFFSETFROM:-0400
TZOFFSETTO:-0500
TZNAME:EST
DTSTART:20241103T060000
END:STANDARD
BEGIN:DAYLIGHT
TZOFFSETFROM:-0500
TZOFFSETTO:-0400
TZNAME:EDT
DTSTART:20250309T070000
END:DAYLIGHT
BEGIN:STANDARD
TZOFFSETFROM:-0400
TZOFFSETTO:-0500
TZNAME:EST
DTSTART:20251102T060000
END:STANDARD
END:VTIMEZONE
BEGIN:VEVENT
DTSTART;TZID=America/New_York:20240517T190000
DTEND;TZID=America/New_York:20240517T210000
DTSTAMP:20260421T042830
CREATED:20240419T194126Z
LAST-MODIFIED:20240419T194754Z
UID:13542-1715972400-1715979600@www.infotetquebec.com
SUMMARY:Chambly / Basketball
DESCRIPTION:WhatsApp 514 434-3642 \nlilianasalgado@integrationcompetences.ca \nInscriptions : https://forms.office.com/pages/responsepage.aspx?id=0_JvlIF-AUOMcJZzeTeuK9Z4nxmedR5FjMolHYNnFTdUNU1LQ0s2QjIwR0VJR1pNRk1TWlEyTUFMSy4u&origin=QRCode&qrcodeorigin=presentation
URL:https://www.infotetquebec.com/event/chambly-basketball/
LOCATION:Gymnase de l’École Madeleine-Brousseau\, 1700 Bd Lebel\, Chambly\, QC\, Canada
CATEGORIES:Activité culturelle ou sportive,basketball
ORGANIZER;CN="Int%C3%A9gration comp%C3%A9tences":MAILTO:lilianasalgado@integrationcompetences.ca
END:VEVENT
END:VCALENDAR