BEGIN:VCALENDAR
VERSION:2.0
PRODID:-//Infotetquebec - ECPv6.15.20//NONSGML v1.0//EN
CALSCALE:GREGORIAN
METHOD:PUBLISH
X-WR-CALNAME:Infotetquebec
X-ORIGINAL-URL:https://www.infotetquebec.com/es/
X-WR-CALDESC:Eventos para Infotetquebec
REFRESH-INTERVAL;VALUE=DURATION:PT1H
X-Robots-Tag:noindex
X-PUBLISHED-TTL:PT1H
BEGIN:VTIMEZONE
TZID:America/Toronto
BEGIN:DAYLIGHT
TZOFFSETFROM:-0500
TZOFFSETTO:-0400
TZNAME:EDT
DTSTART:20240310T070000
END:DAYLIGHT
BEGIN:STANDARD
TZOFFSETFROM:-0400
TZOFFSETTO:-0500
TZNAME:EST
DTSTART:20241103T060000
END:STANDARD
BEGIN:DAYLIGHT
TZOFFSETFROM:-0500
TZOFFSETTO:-0400
TZNAME:EDT
DTSTART:20250309T070000
END:DAYLIGHT
BEGIN:STANDARD
TZOFFSETFROM:-0400
TZOFFSETTO:-0500
TZNAME:EST
DTSTART:20251102T060000
END:STANDARD
BEGIN:DAYLIGHT
TZOFFSETFROM:-0500
TZOFFSETTO:-0400
TZNAME:EDT
DTSTART:20260308T070000
END:DAYLIGHT
BEGIN:STANDARD
TZOFFSETFROM:-0400
TZOFFSETTO:-0500
TZNAME:EST
DTSTART:20261101T060000
END:STANDARD
END:VTIMEZONE
BEGIN:VEVENT
DTSTART;TZID=America/Toronto:20251118T180000
DTEND;TZID=America/Toronto:20251118T190000
DTSTAMP:20260421T214127
CREATED:20251114T153849Z
LAST-MODIFIED:20251114T154100Z
UID:23932-1763488800-1763492400@www.infotetquebec.com
SUMMARY:Programa de radio para los TET / Sesión informativa sobre los servicios del proyecto para los TET/96.7 CING FM
DESCRIPTION:Programa de radio para los TET / Sesión informativa sobre los servicios del proyecto para los TET/96.7 CING FM \n📻96.7 CING FM\n  📅 18-novembre-2025\n🕐 18h00-19h00 \n👉 Esta actividad está dirigida a trabajadores extranjeros temporales (con permiso de trabajo cerrado). \nPor favor\, siga las instrucciones indicadas en el cartel del evento y contacte al organizador.  \nÉmission de radio en ligne \nhttps://cignfm.ca/streaming-player/player.php 
URL:https://www.infotetquebec.com/es/event/programa-de-radio-para-los-tet-sesion-informativa-sobre-los-servicios-del-proyecto-para-los-tet-96-7-cing-fm-3/
LOCATION:À la radio\, CIGN FM 96\,7\, Coaticook\, Québec\, Canada
CATEGORIES:Sesión de información
ATTACH;FMTTYPE=image/png:https://www.infotetquebec.com/wp-content/uploads/2025/11/CIGN-FM-96.7-Radio-cooperative-de-Coaticook-es.png
END:VEVENT
BEGIN:VEVENT
DTSTART;TZID=America/Toronto:20251118T180000
DTEND;TZID=America/Toronto:20251118T200000
DTSTAMP:20260421T214127
CREATED:20251110T211717Z
LAST-MODIFIED:20251110T212127Z
UID:23875-1763488800-1763496000@www.infotetquebec.com
SUMMARY:Drummondville\, QC/Juego de Bolos para los TET. 
DESCRIPTION:Drummondville\, QC/Juego de Bolos para los TET.  \n📍600 Rue Cormier\, Drummondville\, QC\, Canada \n📅 18-noviembre-2025\n🕐 18:00-20:00 hrs.   \n👉 Esta actividad está dirigida a trabajadores extranjeros temporales (con permiso de trabajo cerrado). \nPor favor\, siga las instrucciones indicadas en el cartel del evento y contacte al organizador.  \nLugares limitados. Fecha límite de inscripción: 15 de noviembre.  \nDrummond Economique se complace en invitarle a una noche de bolos en Centre Divertissement Drummond!  Venga a disfrutar de este deporte\, accesible para todos\, y aproveche la oportunidad para conocer gente nueva.
URL:https://www.infotetquebec.com/es/event/drummondville-qc-juego-de-bolos-para-los-tet/
LOCATION:600 Rue Cormier\, Drummondville\, QC\, Canada
CATEGORIES:Activité culturelle ou sportive,Bowling
ATTACH;FMTTYPE=image/jpeg:https://www.infotetquebec.com/wp-content/uploads/2025/11/18-Novembre-Espagnol-2.jpg
END:VEVENT
BEGIN:VEVENT
DTSTART;TZID=America/Toronto:20251118T193000
DTEND;TZID=America/Toronto:20251118T210000
DTSTAMP:20260421T214127
CREATED:20251118T144858Z
LAST-MODIFIED:20251118T145335Z
UID:23953-1763494200-1763499600@www.infotetquebec.com
SUMMARY:Cookshire-Eaton\, QC/Fiesta de despedida para los TET.
DESCRIPTION:Cookshire-Eaton\, QC/Fiesta de despedida para los TET. \n📍80 Rue Principale Est\, Cookshire-Eaton\, QC.  \n📅 18-noviembre-2025\n🕐 19:30-21:00  hrs.  \n👉 Esta actividad está dirigida a trabajadores extranjeros temporales (con permiso de trabajo cerrado). \nPor favor\, siga las instrucciones indicadas en el cartel del evento y contacte al organizador.  \nFiesta de despedida para los trabajadores temporales agrícolas de la región de Cookshire-Eaton para destacar su trabajo y su contribución a la economía local.
URL:https://www.infotetquebec.com/es/event/cookshire-eaton-qc-fiesta-de-despedida-para-los-tet/
LOCATION:80 Rue Principale Est\, Cookshire-Eaton\, QC.
CATEGORIES:Fiesta,Velada
ATTACH;FMTTYPE=image/png:https://www.infotetquebec.com/wp-content/uploads/2025/11/Fetes-dau-revoir-es.png
END:VEVENT
END:VCALENDAR