BEGIN:VCALENDAR
VERSION:2.0
PRODID:-//Infotetquebec - ECPv6.15.20//NONSGML v1.0//EN
CALSCALE:GREGORIAN
METHOD:PUBLISH
X-WR-CALNAME:Infotetquebec
X-ORIGINAL-URL:https://www.infotetquebec.com/es/
X-WR-CALDESC:Eventos para Infotetquebec
REFRESH-INTERVAL;VALUE=DURATION:PT1H
X-Robots-Tag:noindex
X-PUBLISHED-TTL:PT1H
BEGIN:VTIMEZONE
TZID:America/Toronto
BEGIN:DAYLIGHT
TZOFFSETFROM:-0500
TZOFFSETTO:-0400
TZNAME:EDT
DTSTART:20240310T070000
END:DAYLIGHT
BEGIN:STANDARD
TZOFFSETFROM:-0400
TZOFFSETTO:-0500
TZNAME:EST
DTSTART:20241103T060000
END:STANDARD
BEGIN:DAYLIGHT
TZOFFSETFROM:-0500
TZOFFSETTO:-0400
TZNAME:EDT
DTSTART:20250309T070000
END:DAYLIGHT
BEGIN:STANDARD
TZOFFSETFROM:-0400
TZOFFSETTO:-0500
TZNAME:EST
DTSTART:20251102T060000
END:STANDARD
BEGIN:DAYLIGHT
TZOFFSETFROM:-0500
TZOFFSETTO:-0400
TZNAME:EDT
DTSTART:20260308T070000
END:DAYLIGHT
BEGIN:STANDARD
TZOFFSETFROM:-0400
TZOFFSETTO:-0500
TZNAME:EST
DTSTART:20261101T060000
END:STANDARD
END:VTIMEZONE
BEGIN:VEVENT
DTSTART;TZID=America/Toronto:20251116T120000
DTEND;TZID=America/Toronto:20251116T140000
DTSTAMP:20260422T013924
CREATED:20251024T134408Z
LAST-MODIFIED:20251024T134740Z
UID:23581-1763294400-1763301600@www.infotetquebec.com
SUMMARY:Grenville\, QC/Actividad de pintura para los TET
DESCRIPTION:Grenville\, QC/Actividad de pintura para los TET \n📍414 Rue Principale\, Grenville\, QC – Centre Paul Bougie\nCentre Paul Bougie  \n📅 16 novIembre 2025\n🕐 12:00-14:00 hrs.  \n👉 Esta actividad está dirigida a trabajadores extranjeros temporales (con permiso de trabajo cerrado). \nPor favor\, siga las instrucciones indicadas en el cartel del evento y contacte al organizador.  \nTaller de pintura. Los TET son invitados a una actividad para aprender algunas técnicas de pintura.
URL:https://www.infotetquebec.com/es/event/grenville-qc-actividad-de-pintura-para-los-tet/
LOCATION:414 Rue Principale\, Grenville\, QC – Centre Paul Bougie
CATEGORIES:Activité culturelle ou sportive
ATTACH;FMTTYPE=image/jpeg:https://www.infotetquebec.com/wp-content/uploads/2025/10/AFF-ESP-activite-peinture-16ov2025.jpg
END:VEVENT
BEGIN:VEVENT
DTSTART;TZID=America/Toronto:20251116T130000
DTEND;TZID=America/Toronto:20251116T150000
DTSTAMP:20260422T013924
CREATED:20251103T204438Z
LAST-MODIFIED:20251103T204438Z
UID:23716-1763298000-1763305200@www.infotetquebec.com
SUMMARY:Coaticook\, QC/Basketball para los TET
DESCRIPTION:Coaticook\, QC/Basketball para los TET \n📍Acti-Sports\, Rue Saint-Jean-Baptiste\, Coaticook\, QC\, Canada \n497 Rue Saint-Jean-Baptiste\, Coaticook\, QC J1A 1G1 \n📅 Todos los domingos del 02 noviembre hasta el 14 de diciembre-2025\n🕐 13:00-15:00 hrs  \n👉 Esta actividad está dirigida a trabajadores extranjeros temporales (con permiso de trabajo cerrado). \nPor favor\, siga las instrucciones indicadas en el cartel del evento y contacte al organizador.  \nPartidos semanales de baloncesto para trabajadores extranjeros temporales.
URL:https://www.infotetquebec.com/es/event/coaticook-qc-basketball-para-los-tet-2/
LOCATION:497 Rue Saint-Jean-Baptiste\, Coaticook\, QC J1A 1G1
CATEGORIES:Activité culturelle ou sportive,basketball
ATTACH;FMTTYPE=image/png:https://www.infotetquebec.com/wp-content/uploads/2025/11/EOS-Basketball-interieur-Coaticook-2025-II-es.png
END:VEVENT
BEGIN:VEVENT
DTSTART;TZID=America/Toronto:20251116T173000
DTEND;TZID=America/Toronto:20251116T193000
DTSTAMP:20260422T013924
CREATED:20251010T174454Z
LAST-MODIFIED:20251010T174454Z
UID:23228-1763314200-1763321400@www.infotetquebec.com
SUMMARY:Saint-Basile\, QC/Futbol interior por los TET
DESCRIPTION:Saint-Basile\, QC/Futbol interior por los TET \n📍Centre Ernest-J.-Papillon\, Rue Sainte Angélique\, Saint-Basile\, QC\, Canada\n  📅 Todos los domingos del 12 octubre -28 diciembre 2025\n🕐 17:30-19:30 hrs. \n👉 Esta actividad está dirigida a trabajadores extranjeros temporales (con permiso de trabajo cerrado). \nPor favor\, siga las instrucciones indicadas en el cartel del evento y contacte al organizador. 
URL:https://www.infotetquebec.com/es/event/saint-basile-qc-futbol-interior-por-los-tet-6/
LOCATION:Centre Ernest-J.-Papillon\, Rue Sainte Angélique\, Saint-Basile\, QC\, Canada
CATEGORIES:Activité culturelle ou sportive,fútbol
ATTACH;FMTTYPE=image/png:https://www.infotetquebec.com/wp-content/uploads/2025/10/Soccer-interieur-esp.png
END:VEVENT
END:VCALENDAR