BEGIN:VCALENDAR
VERSION:2.0
PRODID:-//Infotetquebec - ECPv6.15.20//NONSGML v1.0//EN
CALSCALE:GREGORIAN
METHOD:PUBLISH
X-WR-CALNAME:Infotetquebec
X-ORIGINAL-URL:https://www.infotetquebec.com/es/
X-WR-CALDESC:Eventos para Infotetquebec
REFRESH-INTERVAL;VALUE=DURATION:PT1H
X-Robots-Tag:noindex
X-PUBLISHED-TTL:PT1H
BEGIN:VTIMEZONE
TZID:America/Toronto
BEGIN:DAYLIGHT
TZOFFSETFROM:-0500
TZOFFSETTO:-0400
TZNAME:EDT
DTSTART:20240310T070000
END:DAYLIGHT
BEGIN:STANDARD
TZOFFSETFROM:-0400
TZOFFSETTO:-0500
TZNAME:EST
DTSTART:20241103T060000
END:STANDARD
BEGIN:DAYLIGHT
TZOFFSETFROM:-0500
TZOFFSETTO:-0400
TZNAME:EDT
DTSTART:20250309T070000
END:DAYLIGHT
BEGIN:STANDARD
TZOFFSETFROM:-0400
TZOFFSETTO:-0500
TZNAME:EST
DTSTART:20251102T060000
END:STANDARD
BEGIN:DAYLIGHT
TZOFFSETFROM:-0500
TZOFFSETTO:-0400
TZNAME:EDT
DTSTART:20260308T070000
END:DAYLIGHT
BEGIN:STANDARD
TZOFFSETFROM:-0400
TZOFFSETTO:-0500
TZNAME:EST
DTSTART:20261101T060000
END:STANDARD
END:VTIMEZONE
BEGIN:VEVENT
DTSTART;TZID=America/Toronto:20250612T174500
DTEND;TZID=America/Toronto:20250612T190000
DTSTAMP:20260421T060400
CREATED:20250610T134158Z
LAST-MODIFIED:20250610T134443Z
UID:20204-1749750300-1749754800@www.infotetquebec.com
SUMMARY:WEBINAR. Salud\, seguridad y derechos laborales: Lo esencial para trabajadores temporales
DESCRIPTION:WEBINAR: “Salud\, seguridad y derechos laborales: Lo esencial para trabajadores temporales”\n📍 Zoom – en línea\n📅 Jueves 12 de junio\n🕔 En francés: 5:45 p.m. | 🕖 En español: 7:00 p.m. \nWebinar gratuito organizado por CAFLA\, con la participación especial de una consejera en prevención de la CNESST.\nInfórmate sobre tus derechos\, tus condiciones de trabajo\, la seguridad en el lugar de trabajo y los recursos disponibles en caso de problema. \n📲 Inscripción aquí: https://forms.gle/WMpPAiiVZpooegkD8\n📞 WhatsApp: +1 514-776-7120\n🌐 Sitio web: https://cafla.ca/ptet/\n📧 Correo electrónico: soutienTET@cafla.ca\n📅 Fecha límite para inscribirse: jueves 12 de junio a las 13h00
URL:https://www.infotetquebec.com/es/event/webinar-salud-seguridad-y-derechos-laborales-lo-esencial-para-trabajadores-temporales/
LOCATION:En ligne
CATEGORIES:Sesión de información
ATTACH;FMTTYPE=image/png:https://www.infotetquebec.com/wp-content/uploads/2025/06/Salud_-seguridad-y-derechos-laborales-Lo-esencial-para-trabajadores-temporales-scaled.png
END:VEVENT
END:VCALENDAR