BEGIN:VCALENDAR
VERSION:2.0
PRODID:-//Infotetquebec - ECPv6.15.20//NONSGML v1.0//EN
CALSCALE:GREGORIAN
METHOD:PUBLISH
X-WR-CALNAME:Infotetquebec
X-ORIGINAL-URL:https://www.infotetquebec.com/es/
X-WR-CALDESC:Eventos para Infotetquebec
REFRESH-INTERVAL;VALUE=DURATION:PT1H
X-Robots-Tag:noindex
X-PUBLISHED-TTL:PT1H
BEGIN:VTIMEZONE
TZID:America/Toronto
BEGIN:DAYLIGHT
TZOFFSETFROM:-0500
TZOFFSETTO:-0400
TZNAME:EDT
DTSTART:20250309T070000
END:DAYLIGHT
BEGIN:STANDARD
TZOFFSETFROM:-0400
TZOFFSETTO:-0500
TZNAME:EST
DTSTART:20251102T060000
END:STANDARD
BEGIN:DAYLIGHT
TZOFFSETFROM:-0500
TZOFFSETTO:-0400
TZNAME:EDT
DTSTART:20260308T070000
END:DAYLIGHT
BEGIN:STANDARD
TZOFFSETFROM:-0400
TZOFFSETTO:-0500
TZNAME:EST
DTSTART:20261101T060000
END:STANDARD
BEGIN:DAYLIGHT
TZOFFSETFROM:-0500
TZOFFSETTO:-0400
TZNAME:EDT
DTSTART:20270314T070000
END:DAYLIGHT
BEGIN:STANDARD
TZOFFSETFROM:-0400
TZOFFSETTO:-0500
TZNAME:EST
DTSTART:20271107T060000
END:STANDARD
END:VTIMEZONE
BEGIN:VEVENT
DTSTART;TZID=America/Toronto:20260227T173000
DTEND;TZID=America/Toronto:20260227T193000
DTSTAMP:20260421T043951
CREATED:20260219T193338Z
LAST-MODIFIED:20260219T193547Z
UID:26854-1772213400-1772220600@www.infotetquebec.com
SUMMARY:Victoriaville\, QC / Sesión informativa sobre impuestos para TET
DESCRIPTION:Victoriaville\, QC / Sesión informativa sobre impuestos para TET📍 747 Boulevard Pierre-Roux Est\, Victoriaville\, QC\, Canadá.📅 27 de febrero de 2026.🕐 17:30 – 19:30 \nEsta sesión tiene como objetivo informar a los trabajadores extranjeros temporales sobre sus obligaciones fiscales en Canadá. Muchos no conocen el funcionamiento del sistema tributario (declaración anual\, documentos fiscales\, reembolsos\, etc.)\, lo que puede generar confusión o errores. \nEl objetivo es fomentar su autonomía\, reducir el estrés relacionado con los trámites administrativos y apoyar su integración social y económica. \n👉 Esta actividad está dirigida a trabajadores extranjeros temporales (con permiso de trabajo cerrado). \nPor favor\, siga las instrucciones indicadas en el cartel y contacte al organizador.
URL:https://www.infotetquebec.com/es/event/victoriaville-qc-sesion-informativa-sobre-impuestos-para-tet/
LOCATION:📍 747 Boulevard Pierre-Roux Est\, Victoriaville\, QC\, Canadá.
CATEGORIES:Sesión de información
ATTACH;FMTTYPE=image/png:https://www.infotetquebec.com/wp-content/uploads/2026/02/Invitation-Impots-Espagnol.png
ORGANIZER;CN="Corporation de d%C3%A9veloppement %C3%A9conomique Victoriaville et sa r%C3%A9gion":MAILTO:vsanchez@cdevr.ca
END:VEVENT
END:VCALENDAR