BEGIN:VCALENDAR
VERSION:2.0
PRODID:-//Infotetquebec - ECPv6.15.20//NONSGML v1.0//EN
CALSCALE:GREGORIAN
METHOD:PUBLISH
X-WR-CALNAME:Infotetquebec
X-ORIGINAL-URL:https://www.infotetquebec.com/es/
X-WR-CALDESC:Eventos para Infotetquebec
REFRESH-INTERVAL;VALUE=DURATION:PT1H
X-Robots-Tag:noindex
X-PUBLISHED-TTL:PT1H
BEGIN:VTIMEZONE
TZID:America/Toronto
BEGIN:DAYLIGHT
TZOFFSETFROM:-0500
TZOFFSETTO:-0400
TZNAME:EDT
DTSTART:20240310T070000
END:DAYLIGHT
BEGIN:STANDARD
TZOFFSETFROM:-0400
TZOFFSETTO:-0500
TZNAME:EST
DTSTART:20241103T060000
END:STANDARD
BEGIN:DAYLIGHT
TZOFFSETFROM:-0500
TZOFFSETTO:-0400
TZNAME:EDT
DTSTART:20250309T070000
END:DAYLIGHT
BEGIN:STANDARD
TZOFFSETFROM:-0400
TZOFFSETTO:-0500
TZNAME:EST
DTSTART:20251102T060000
END:STANDARD
BEGIN:DAYLIGHT
TZOFFSETFROM:-0500
TZOFFSETTO:-0400
TZNAME:EDT
DTSTART:20260308T070000
END:DAYLIGHT
BEGIN:STANDARD
TZOFFSETFROM:-0400
TZOFFSETTO:-0500
TZNAME:EST
DTSTART:20261101T060000
END:STANDARD
END:VTIMEZONE
BEGIN:VEVENT
DTSTART;TZID=America/Toronto:20250719T130000
DTEND;TZID=America/Toronto:20250719T150000
DTSTAMP:20260421T044024
CREATED:20250708T145026Z
LAST-MODIFIED:20250718T133256Z
UID:21056-1752930000-1752937200@www.infotetquebec.com
SUMMARY:Victoriaville\, QC/ENCUENTRO VERANIEGO PARA LOS TET
DESCRIPTION:Una tarde para disfrutar\, compartir y llenarse de buena energía. \n📍 Parc Bellevue.- 18 Rue Jeanne Mance\, Victoriaville\, QC G6P 7Z1\n 📅 19 de julio de 2025\n 🕐 13:00 h \n¡Juegos y actividades al aire libre para pasarla genial! \n👉 Esta actividad está dirigida a trabajadores extranjeros temporales (con permiso de trabajo cerrado). \nPor favor\, siga las instrucciones indicadas en el cartel del evento.
URL:https://www.infotetquebec.com/es/event/victoriaville-qc-encuentro-veraniego-para-los-tet/
LOCATION:18 Rue Jeanne Mance\, Victoriaville\, QC G6P 7Z1
CATEGORIES:Actividad social
ATTACH;FMTTYPE=image/png:https://www.infotetquebec.com/wp-content/uploads/2025/07/Invitation-Activite-dete-Espagnol.png
END:VEVENT
END:VCALENDAR