BEGIN:VCALENDAR
VERSION:2.0
PRODID:-//Infotetquebec - ECPv6.15.20//NONSGML v1.0//EN
CALSCALE:GREGORIAN
METHOD:PUBLISH
X-WR-CALNAME:Infotetquebec
X-ORIGINAL-URL:https://www.infotetquebec.com/es/
X-WR-CALDESC:Eventos para Infotetquebec
REFRESH-INTERVAL;VALUE=DURATION:PT1H
X-Robots-Tag:noindex
X-PUBLISHED-TTL:PT1H
BEGIN:VTIMEZONE
TZID:America/Toronto
BEGIN:DAYLIGHT
TZOFFSETFROM:-0500
TZOFFSETTO:-0400
TZNAME:EDT
DTSTART:20250309T070000
END:DAYLIGHT
BEGIN:STANDARD
TZOFFSETFROM:-0400
TZOFFSETTO:-0500
TZNAME:EST
DTSTART:20251102T060000
END:STANDARD
BEGIN:DAYLIGHT
TZOFFSETFROM:-0500
TZOFFSETTO:-0400
TZNAME:EDT
DTSTART:20260308T070000
END:DAYLIGHT
BEGIN:STANDARD
TZOFFSETFROM:-0400
TZOFFSETTO:-0500
TZNAME:EST
DTSTART:20261101T060000
END:STANDARD
BEGIN:DAYLIGHT
TZOFFSETFROM:-0500
TZOFFSETTO:-0400
TZNAME:EDT
DTSTART:20270314T070000
END:DAYLIGHT
BEGIN:STANDARD
TZOFFSETFROM:-0400
TZOFFSETTO:-0500
TZNAME:EST
DTSTART:20271107T060000
END:STANDARD
END:VTIMEZONE
BEGIN:VEVENT
DTSTART;TZID=America/Toronto:20260427T180000
DTEND;TZID=America/Toronto:20260427T193000
DTSTAMP:20260422T184438
CREATED:20260422T154436Z
LAST-MODIFIED:20260422T154618Z
UID:28210-1777312800-1777318200@www.infotetquebec.com
SUMMARY:Sherbrooke\, QC / Evento social para los TET.
DESCRIPTION:Sherbrooke\, QC / Evento social para los TET. \n📍 139 Rue Frontenac\, Sherbrooke\, QC\, Canadá📅 27 de abril de 2026🕐 18:00 – 19:30 \nVelada social para trabajadores extranjeros temporales de la ciudad de Sherbrooke\, con el objetivo de crear un espacio acogedor que favorezca los encuentros. Es una actividad sencilla y accesible para todos\, para compartir un momento agradable en un ambiente cálido e inclusivo. \n👉 Esta actividad está destinada a trabajadores extranjeros temporales con permiso de trabajo cerrado. \nPor favor\, siga las instrucciones indicadas en el cartel y contacte al organizador.
URL:https://www.infotetquebec.com/es/event/sherbrooke-qc-evento-social-para-los-tet/
LOCATION:139 Rue Frontenac\, Sherbrooke\, QC\, Canada
CATEGORIES:Actividad social,Velada
ATTACH;FMTTYPE=image/png:https://www.infotetquebec.com/wp-content/uploads/2026/04/Soiree-sociale-a-Sherbrooke-es.png
END:VEVENT
END:VCALENDAR