BEGIN:VCALENDAR
VERSION:2.0
PRODID:-//Infotetquebec - ECPv6.15.20//NONSGML v1.0//EN
CALSCALE:GREGORIAN
METHOD:PUBLISH
X-WR-CALNAME:Infotetquebec
X-ORIGINAL-URL:https://www.infotetquebec.com/es/
X-WR-CALDESC:Eventos para Infotetquebec
REFRESH-INTERVAL;VALUE=DURATION:PT1H
X-Robots-Tag:noindex
X-PUBLISHED-TTL:PT1H
BEGIN:VTIMEZONE
TZID:America/New_York
BEGIN:DAYLIGHT
TZOFFSETFROM:-0500
TZOFFSETTO:-0400
TZNAME:EDT
DTSTART:20220313T070000
END:DAYLIGHT
BEGIN:STANDARD
TZOFFSETFROM:-0400
TZOFFSETTO:-0500
TZNAME:EST
DTSTART:20221106T060000
END:STANDARD
BEGIN:DAYLIGHT
TZOFFSETFROM:-0500
TZOFFSETTO:-0400
TZNAME:EDT
DTSTART:20230312T070000
END:DAYLIGHT
BEGIN:STANDARD
TZOFFSETFROM:-0400
TZOFFSETTO:-0500
TZNAME:EST
DTSTART:20231105T060000
END:STANDARD
BEGIN:DAYLIGHT
TZOFFSETFROM:-0500
TZOFFSETTO:-0400
TZNAME:EDT
DTSTART:20240310T070000
END:DAYLIGHT
BEGIN:STANDARD
TZOFFSETFROM:-0400
TZOFFSETTO:-0500
TZNAME:EST
DTSTART:20241103T060000
END:STANDARD
END:VTIMEZONE
BEGIN:VEVENT
DTSTART;TZID=America/New_York:20230917T100000
DTEND;TZID=America/New_York:20230917T170000
DTSTAMP:20260422T053906
CREATED:20230830T211442Z
LAST-MODIFIED:20230830T211442Z
UID:8981-1694944800-1694970000@www.infotetquebec.com
SUMMARY:Sherbrooke / Final del torneo de fútbol
DESCRIPTION:8 EQUIPOS DE TODOS LOS MUNICIPIOS DE ESTRIE. \nIncluye merienda\, lunch y actividades. Los equipos deben estar formados únicamente por trabajadores extranjeros temporales con permiso cerrado. \nPARQUE ATTO-BEAVER \nRUE ST. FRANCIS\, SHERBROOKE\, QG JIM OB3 \nINFORMACIÓN +1 (873)662-2630
URL:https://www.infotetquebec.com/es/event/sherbrooke-final-del-torneo-de-futbol/
LOCATION:Parc Atto-Beaver\, RUE ST. FRANCIS\, SHERBROOKE\, Québec\, JIM OB3
CATEGORIES:fútbol
ATTACH;FMTTYPE=image/jpeg:https://www.infotetquebec.com/wp-content/uploads/2023/08/final_tournoi_AIDE.jpg
END:VEVENT
END:VCALENDAR